{"text_format":"1","workbook":"xlsx","n_sheets":11,"sheets":["申込基本","登録用データのコピー","入力用（学校対抗4人以上）","送信用（学校対抗4人以上）","入力用（学校対抗3人以下）","送信用（学校対抗3人以下）","入力用（シングルス）","送信用（シングルス）","入力用（ダブルス）","送信用（ダブルス）","data"],"not_rendered":{"charts":0,"images":0,"macros":1,"external_links":2,"defined_names":6,"comments":1,"pivot_tables":0},"unopened":[],"bounds":{"document_bytes":16777216,"sheet_cells":100000,"rows_first":2000,"rows_last":500,"rows_between":2000,"halvings":0,"cell_chars":16384,"cell_head_chars":4096},"cells_cut":0,"cells_raw":0,"read":"whole","date_system":"1900"}

{"sheet":"申込基本","index":0,"n_rows":37,"n_cols":24,"rows_kept":37,"cut":false,"hidden":false,"merged":[[4,2,4,3],[6,5,6,6],[16,2,16,5],[16,7,16,9],[12,16,12,17],[6,2,6,3],[18,2,18,5],[18,7,18,9],[18,10,18,13],[10,2,10,15],[8,7,8,8],[8,9,8,11],[8,2,8,5],[12,2,12,3],[12,5,12,6],[12,8,12,9],[12,11,12,12],[12,13,12,14],[18,14,20,22],[16,21,16,22],[16,15,16,16],[16,18,16,19],[28,18,28,21],[6,7,6,13],[28,7,28,9],[28,10,28,13],[26,7,26,9],[26,10,26,13],[12,19,12,20],[6,16,6,18],[29,7,29,9],[28,15,28,17],[16,10,16,13],[6,14,6,15],[24,7,24,9],[22,7,22,9],[22,10,22,13],[14,15,14,17],[28,2,28,5],[20,2,20,5],[20,7,20,9],[20,10,20,13],[22,2,22,5],[26,2,26,5],[24,10,24,13],[24,2,24,5]]}
["★申し込み基本データ★"]
[]
[null,"　　　黄色の枠の中に入力してください。"]
[]
[null,"年度",2022,null,"年度"]
[]
[null,"学校番号",null,null,null,"学校名",null,{"$f":"VLOOKUP($C$7,data!$A$3:$C$302,2,FALSE)","v":{"$error":"#N/A"}},null,null,null,null,null,null,"略称",null,{"$f":"VLOOKUP($C$7,data!$A$3:$C$302,3,FALSE)","v":{"$error":"#N/A"}},null,null,null,null,null,null,{"$f":"LEFT($C$30,1)","v":""}]
[]
[null,"学校長名",null,null,null,null,null,"学校〒",null,{"$f":"VLOOKUP($C$7,data!$A$3:$S$313,8,FALSE)","v":{"$error":"#N/A"}}]
[]
[null,"学校住所",{"$f":"VLOOKUP($C$7,data!$A$3:$S$313,9,FALSE)","v":{"$error":"#N/A"}}]
[]
[null,"☎",{"$f":"VLOOKUP($C$7,data!$A$3:$S$313,11,FALSE)","v":{"$error":"#N/A"}},null,"－",{"$f":"VLOOKUP($C$7,data!$A$3:$S$313,12,FALSE)","v":{"$error":"#N/A"}},null,"－",{"$f":"VLOOKUP($C$7,data!$A$3:$S$313,13,FALSE)","v":{"$error":"#N/A"}},null,null,"FAX",null,{"$f":"C13","v":{"$error":"#N/A"}},null,"－",null,null,"－"]
[]
[null,null,null,null,null,null,null,null,null,null,null,null,null,null,null,"顧問連絡先"]
[]
[null,"監督名（春）",null,null,null,null,null,"顧問名（春）",null,null,{"$f":"C17","v":0},null,null,null,null,null,null,"－",null,null,"－"]
[]
[null,"監督名（夏）",{"$f":"C17","v":0},null,null,null,null,"顧問名（夏）",null,null,{"$f":"K17","v":0},null,null,null,"　　※申込に不備があった場合などの連絡先です。\n　　　　申込の当日に連絡が付く携帯の番号などを\n　　　　入れて下さい"]
[]
[null,"監督名（秋）",{"$f":"C19","v":0},null,null,null,null,"顧問名（秋）",null,null,{"$f":"K17","v":0}]
[]
[null,"監督名（協賛）",{"$f":"C17","v":0},null,null,null,null,"顧問名（協賛）",null,null,{"$f":"K17","v":0}]
[]
[null,"監督名（総体）",{"$f":"C17","v":0},null,null,null,null,"顧問名（総体）",null,null,{"$f":"K17","v":0},null,null,null,"※","申込書の日付は、このファイルを開いた"]
[]
[null,"監督名（ﾁｬﾚﾝｼﾞ）",{"$f":"C17","v":0},null,null,null,null,"顧問名（ﾁｬﾚﾝｼﾞ）",null,null,{"$f":"K17","v":0},null,null,null,null,"日付になります"]
[]
[null,"監督名（選抜S）",{"$f":"C17","v":0},null,null,null,null,"顧問名（選抜S）",null,null,{"$f":"K17","v":0},null,null,null,"★","顧問名（変更届）",null,null,{"$f":"K17","v":0}]
[]
[]
[]
[null,"※監督名や顧問名が「春」の監督名と異なるときは、直接枠の中に入力してください。"]
[]
[null,"※監督とは学校対抗などのベンチに入る方のことです。試合当日、ベンチに入る方の変更がある場合「変更届」を提出して下さい。"]
[]
[null,"※顧問とは申込の責任者となります。申込のあと、問合せをする場合がありますので連絡が取れる様にしておいて下さい。"]

{"sheet":"登録用データのコピー","index":1,"n_rows":89,"n_cols":29,"rows_kept":89,"cut":false,"hidden":false,"merged":[[2,17,3,17],[2,18,3,18],[2,16,3,16],[2,10,2,13],[2,1,3,1],[2,2,3,2],[2,3,3,3],[2,4,3,4],[2,9,3,9],[2,6,3,6]]}
[null,1,2,3,4,5,6,7,8,9,10,11,12,13,14,15,16,17,18,19,20,21,22,23,24,25,26,27,28]
[null,"※日本卓球協会の登録システムで、「個人会員一覧」をダウンロードしてください。「個人会員一覧」の会員ＩＤから後を、この表にコピーして貼り付けて下さい。この表に手入力して頂いてもかまいません。"]
[null,"整理\n番号","会員\nID","漢字氏名\n左詰めで姓と名の間は半角空白を入れる","フリガナ（全角）\n左詰めで姓と名の間は半角空白を入れる","氏名（ローマ字）","性別","生年月日\n西暦で","年齢","段位","所　　　属　　　　※手入力は必要なし",null,null,null,"学年","メールアドレス","国籍","住所区分","郵便番号","住所","連絡先電話番号\nの種類","連絡先電話番号","自宅電話番号","携帯電話番号","自宅FAX","住所区分（第2）","郵便番号（第2）","備考欄1","備考欄2"]
[null,null,null,null,null,"※手入力は必要なし",null,"年/月/日","4/1時点",null,"所属区分1","所属区分2","所属状態","所属完了日","数は半角","※手入力は必要なし",null,null,null,"※手入力は必要なし","※手入力は必要なし","※手入力は必要なし","※手入力は必要なし","※手入力は必要なし","※手入力は必要なし","※手入力は必要なし","※手入力は必要なし","※手入力は必要なし","※手入力は必要なし"]
[null,1]
[null,2]
[null,3]
[null,4]
[null,5]
[null,6]
[null,7]
[null,8]
[null,9]
[null,10]
[null,11]
[null,12]
[null,13]
[null,14]
[null,15]
[null,16]
[null,17]
[null,18]
[null,19]
[null,20]
[null,21]
[null,22]
[null,23]
[null,24]
[null,25]
[null,26]
[null,27]
[null,28]
[null,29]
[null,30]
[null,31]
[null,32]
[null,33]
[null,34]
[null,35]
[null,36]
[null,37]
[null,38]
[null,39]
[null,40]
[null,41]
[null,42]
[null,43]
[null,44]
[null,45]
[null,46]
[null,47]
[null,48]
[null,49]
[null,50]
[null,51]
[null,52]
[null,53]
[null,54]
[null,55]
[null,56]
[null,57]
[null,58]
[null,59]
[null,60]
[null,61]
[null,62]
[null,63]
[null,64]
[null,65]
[null,66]
[null,67]
[null,68]
[null,69]
[null,70]
[null,71]
[null,72]
[null,73]
[null,74]
[null,75]
[null,76]
[null,77]
[null,78]
[null,79]
[null,80]
[null,81]
[null,82]
[null,83]
[null,84]
[null,85]

{"sheet":"入力用（学校対抗4人以上）","index":2,"n_rows":242,"n_cols":22,"rows_kept":242,"cut":false,"hidden":false,"merged":[[4,21,5,22],[28,8,29,17],[14,8,14,18],[24,4,25,13],[14,2,14,7],[15,4,16,6],[15,7,16,18],[17,4,18,6],[17,7,18,16],[17,18,18,18],[19,1,19,7],[19,9,19,10],[22,1,23,4],[22,8,23,17],[22,18,23,18],[9,1,9,2],[9,3,9,4],[9,15,9,18],[8,15,8,18],[9,5,9,6],[9,7,9,12],[9,13,9,14],[7,5,7,6],[7,7,7,12],[0,1,0,18],[6,3,6,4],[6,5,6,6],[6,7,6,12],[6,13,6,14],[6,15,6,18],[5,3,5,4],[5,5,5,6],[5,7,5,12],[5,13,5,14],[5,15,5,18],[4,4,4,6],[2,17,2,18],[2,1,2,16],[4,1,4,3],[3,15,3,18],[4,15,4,16],[4,10,4,14],[7,13,7,14],[8,5,8,6],[7,15,7,18],[4,7,4,9],[4,17,4,18],[8,7,8,12],[8,13,8,14],[8,3,8,4],[6,1,6,2],[5,1,5,2],[7,1,7,2],[8,1,8,2],[7,3,7,4],[33,15,33,18],[34,1,34,3],[34,4,34,6],[34,7,34,9],[34,10,34,14],[34,15,34,16],[34,17,34,18],[1,4,1,14],[30,1,30,18],[31,4,31,14],[32,1,32,16],[32,17,32,18],[10,15,10,18],[11,1,11,2],[11,3,11,4],[11,5,11,6],[11,7,11,12],[11,13,11,14],[11,15,11,18],[10,1,10,2],[10,3,10,4],[10,5,10,6],[10,7,10,12],[10,13,10,14],[36,15,36,18],[37,1,37,2],[37,3,37,4],[37,5,37,6],[37,7,37,12],[37,13,37,14],[37,15,37,18],[36,1,36,2],[36,3,36,4],[36,5,36,6],[36,7,36,12],[36,13,36,14],[38,15,38,18],[39,1,39,2],[39,3,39,4],[39,5,39,6],[39,7,39,12],[39,13,39,14],[39,15,39,18],[38,1,38,2],[38,3,38,4],[38,5,38,6],[38,7,38,12],[38,13,38,14],[40,15,40,18],[41,1,41,2],[41,3,41,4],[41,5,41,6],[41,7,41,12],[41,13,41,14],[41,15,41,18],[40,1,40,2],[40,3,40,4],[40,5,40,6],[40,7,40,12],[40,13,40,14],[43,5,43,6],[43,7,43,12],[43,13,43,14],[43,15,43,18],[42,1,42,2],[42,3,42,4],[42,5,42,6],[42,7,42,12],[42,13,42,14],[62,1,62,18],[63,4,63,14],[64,1,64,16],[64,17,64,18],[65,15,65,18],[35,15,35,18],[44,2,44,7],[44,8,44,18],[45,4,46,6],[45,7,46,18],[35,1,35,2],[35,3,35,4],[35,5,35,6],[35,7,35,12],[35,13,35,14],[51,0,61,19],[47,4,48,6],[47,7,48,16],[47,18,48,18],[49,1,49,7],[49,9,49,10],[42,15,42,18],[43,1,43,2],[43,3,43,4],[66,17,66,18],[67,1,67,2],[67,3,67,4],[67,5,67,6],[67,7,67,12],[67,13,67,14],[67,15,67,18],[66,1,66,3],[66,4,66,6],[66,7,66,9],[66,10,66,14],[66,15,66,16],[68,15,68,18],[69,1,69,2],[69,3,69,4],[69,5,69,6],[69,7,69,12],[69,13,69,14],[69,15,69,18],[68,1,68,2],[68,3,68,4],[68,5,68,6],[68,7,68,12],[68,13,68,14],[70,15,70,18],[71,1,71,2],[71,3,71,4],[71,5,71,6],[71,7,71,12],[71,13,71,14],[71,15,71,18],[70,1,70,2],[70,3,70,4],[70,5,70,6],[70,7,70,12],[70,13,70,14],[72,15,72,18],[73,1,73,2],[73,3,73,4],[73,5,73,6],[73,7,73,12],[73,13,73,14],[73,15,73,18],[72,1,72,2],[72,3,72,4],[72,5,72,6],[72,7,72,12],[72,13,72,14],[74,15,74,18],[75,1,75,2],[75,3,75,4],[75,5,75,6],[75,7,75,12],[75,13,75,14],[75,15,75,18],[74,1,74,2],[74,3,74,4],[74,5,74,6],[74,7,74,12],[74,13,74,14],[81,1,81,7],[81,9,81,10],[83,0,93,19],[94,1,94,18],[95,4,95,14],[76,2,76,7],[76,8,76,18],[77,4,78,6],[77,7,78,18],[79,4,80,6],[79,7,80,16],[79,18,80,18],[96,1,96,16],[96,17,96,18],[97,15,97,18],[98,1,98,3],[98,4,98,6],[98,7,98,9],[98,10,98,14],[98,15,98,16],[98,17,98,18],[99,15,99,18],[100,1,100,2],[100,3,100,4],[100,5,100,6],[100,7,100,12],[100,13,100,14],[100,15,100,18],[99,1,99,2],[99,3,99,4],[99,5,99,6],[99,7,99,12],[99,13,99,14],[101,15,101,18],[102,1,102,2],[102,3,102,4],[102,5,102,6],[102,7,102,12],[102,13,102,14],[102,15,102,18],[101,1,101,2],[101,3,101,4],[101,5,101,6],[101,7,101,12],[101,13,101,14],[103,15,103,18],[104,1,104,2],[104,3,104,4],[104,5,104,6],[104,7,104,12],[104,13,104,14],[104,15,104,18],[103,1,103,2],[103,3,103,4],[103,5,103,6],[103,7,103,12],[103,13,103,14],[105,15,105,18],[106,1,106,2],[106,3,106,4],[106,5,106,6],[106,7,106,12],[106,13,106,14],[106,15,106,18],[105,1,105,2],[105,3,105,4],[105,5,105,6],[105,7,105,12],[105,13,105,14],[111,4,112,6],[111,7,112,16],[111,18,112,18],[113,1,113,7],[113,9,113,10],[107,15,107,18],[108,2,108,7],[108,8,108,18],[109,4,110,6],[109,7,110,18],[107,1,107,2],[107,3,107,4],[107,5,107,6],[107,7,107,12],[107,13,107,14],[129,15,129,18],[130,1,130,3],[130,4,130,6],[130,7,130,9],[130,10,130,14],[130,15,130,16],[130,17,130,18],[115,0,125,19],[126,1,126,18],[127,4,127,14],[128,1,128,16],[128,17,128,18],[131,15,131,18],[132,1,132,2],[132,3,132,4],[132,5,132,6],[132,7,132,12],[132,13,132,14],[132,15,132,18],[131,1,131,2],[131,3,131,4],[131,5,131,6],[131,7,131,12],[131,13,131,14],[133,15,133,18],[134,1,134,2],[134,3,134,4],[134,5,134,6],[134,7,134,12],[134,13,134,14],[134,15,134,18],[133,1,133,2],[133,3,133,4],[133,5,133,6],[133,7,133,12],[133,13,133,14],[135,15,135,18],[136,1,136,2],[136,3,136,4],[136,5,136,6],[136,7,136,12],[136,13,136,14],[136,15,136,18],[135,1,135,2],[135,3,135,4],[135,5,135,6],[135,7,135,12],[135,13,135,14],[137,15,137,18],[138,1,138,2],[138,3,138,4],[138,5,138,6],[138,7,138,12],[138,13,138,14],[138,15,138,18],[137,1,137,2],[137,3,137,4],[137,5,137,6],[137,7,137,12],[137,13,137,14],[143,4,144,6],[143,7,144,16],[143,18,144,18],[145,1,145,7],[145,9,145,10],[139,15,139,18],[140,2,140,7],[140,8,140,18],[141,4,142,6],[141,7,142,18],[139,1,139,2],[139,3,139,4],[139,5,139,6],[139,7,139,12],[139,13,139,14],[161,15,161,18],[162,1,162,3],[162,4,162,6],[162,7,162,9],[162,10,162,14],[162,15,162,16],[162,17,162,18],[147,0,157,19],[158,1,158,18],[159,4,159,14],[160,1,160,16],[160,17,160,18],[163,15,163,18],[164,1,164,2],[164,3,164,4],[164,5,164,6],[164,7,164,12],[164,13,164,14],[164,15,164,18],[163,1,163,2],[163,3,163,4],[163,5,163,6],[163,7,163,12],[163,13,163,14],[165,15,165,18],[166,1,166,2],[166,3,166,4],[166,5,166,6],[166,7,166,12],[166,13,166,14],[166,15,166,18],[165,1,165,2],[165,3,165,4],[165,5,165,6],[165,7,165,12],[165,13,165,14],[167,15,167,18],[168,1,168,2],[168,3,168,4],[168,5,168,6],[168,7,168,12],[168,13,168,14],[168,15,168,18],[167,1,167,2],[167,3,167,4],[167,5,167,6],[167,7,167,12],[167,13,167,14],[169,15,169,18],[170,1,170,2],[170,3,170,4],[170,5,170,6],[170,7,170,12],[170,13,170,14],[170,15,170,18],[169,1,169,2],[169,3,169,4],[169,5,169,6],[169,7,169,12],[169,13,169,14],[175,4,176,6],[175,7,176,16],[175,18,176,18],[177,1,177,7],[177,9,177,10],[171,15,171,18],[172,2,172,7],[172,8,172,18],[173,4,174,6],[173,7,174,18],[171,1,171,2],[171,3,171,4],[171,5,171,6],[171,7,171,12],[171,13,171,14],[193,15,193,18],[194,1,194,3],[194,4,194,6],[194,7,194,9],[194,10,194,14],[194,15,194,16],[194,17,194,18],[179,0,189,19],[190,1,190,18],[191,4,191,14],[192,1,192,16],[192,17,192,18],[195,15,195,18],[196,1,196,2],[196,3,196,4],[196,5,196,6],[196,7,196,12],[196,13,196,14],[196,15,196,18],[195,1,195,2],[195,3,195,4],[195,5,195,6],[195,7,195,12],[195,13,195,14],[197,15,197,18],[198,1,198,2],[198,3,198,4],[198,5,198,6],[198,7,198,12],[198,13,198,14],[198,15,198,18],[197,1,197,2],[197,3,197,4],[197,5,197,6],[197,7,197,12],[197,13,197,14],[199,15,199,18],[200,1,200,2],[200,3,200,4],[200,5,200,6],[200,7,200,12],[200,13,200,14],[200,15,200,18],[199,1,199,2],[199,3,199,4],[199,5,199,6],[199,7,199,12],[199,13,199,14],[201,15,201,18],[202,1,202,2],[202,3,202,4],[202,5,202,6],[202,7,202,12],[202,13,202,14],[202,15,202,18],[201,1,201,2],[201,3,201,4],[201,5,201,6],[201,7,201,12],[201,13,201,14],[207,4,208,6],[207,7,208,16],[207,18,208,18],[209,1,209,7],[209,9,209,10],[203,15,203,18],[204,2,204,7],[204,8,204,18],[205,4,206,6],[205,7,206,18],[203,1,203,2],[203,3,203,4],[203,5,203,6],[203,7,203,12],[203,13,203,14],[225,15,225,18],[226,1,226,3],[226,4,226,6],[226,7,226,9],[226,10,226,14],[226,15,226,16],[226,17,226,18],[211,0,221,19],[222,1,222,18],[223,4,223,14],[224,1,224,16],[224,17,224,18],[227,15,227,18],[228,1,228,2],[228,3,228,4],[228,5,228,6],[228,7,228,12],[228,13,228,14],[228,15,228,18],[227,1,227,2],[227,3,227,4],[227,5,227,6],[227,7,227,12],[227,13,227,14],[229,15,229,18],[230,1,230,2],[230,3,230,4],[230,5,230,6],[230,7,230,12],[230,13,230,14],[230,15,230,18],[229,1,229,2],[229,3,229,4],[229,5,229,6],[229,7,229,12],[229,13,229,14],[234,15,234,18],[233,1,233,2],[233,3,233,4],[233,5,233,6],[233,7,233,12],[233,13,233,14],[231,15,231,18],[232,1,232,2],[232,3,232,4],[232,5,232,6],[232,7,232,12],[232,13,232,14],[232,15,232,18],[231,1,231,2],[231,3,231,4],[231,5,231,6],[231,7,231,12],[231,13,231,14],[12,1,13,18],[243,0,253,19],[6,21,9,30],[239,4,240,6],[239,7,240,16],[239,18,240,18],[241,1,241,7],[241,9,241,10],[235,15,235,18],[236,2,236,7],[236,8,236,18],[237,4,238,6],[237,7,238,18],[235,1,235,2],[235,3,235,4],[235,5,235,6],[235,7,235,12],[235,13,235,14],[233,15,233,18],[234,1,234,2],[234,3,234,4],[234,5,234,6],[234,7,234,12],[234,13,234,14]]}
[null,{"$f":"申込基本!$C$5&\"　年度\"","v":"2022　年度"}]
[null,"第",1,"回","特別普及大会（学校対抗4人以上）",null,null,null,null,null,null,null,null,null,null,null,null,null,null,null,null,"←回数と、男子・女子を選んでください。"]
[null,"　　　　　　　　　申　　込　　書",null,null,null,null,null,null,null,null,null,null,null,null,null,null,null,"男子"]
[null,null,null,null,null,null,null,null,null,null,null,null,null,null,null,"チームA"]
[null,"学校名",null,null,{"$f":"申込基本!Q7","v":{"$error":"#N/A"}},null,null,"監督名",null,null,{"$f":"申込基本!$C$17","v":0},null,null,null,null,"学校番号",null,{"$f":"申込基本!$C$7","v":0}]
[null,"ランク",null,"整理番号",null,"会員ＩＤ",null,"名　　　　　　　　前",null,null,null,null,null,"学年",null,"生 年 月 日"]
[null,1,null,null,null,{"$f":"IF($D7=\"\",\"\",VLOOKUP($D7,登録用データのコピー!$B$5:$V$89,2,FALSE))","v":""},null,{"$f":"IF($D7=\"\",\"\",VLOOKUP($D7,登録用データのコピー!$B$5:$V$89,3,FALSE))","v":""},null,{"$f":"IF($D7=\"\",\"\",VLOOKUP($D7,登録用データのコピー!$B$5:$V$89,2,FALSE))","v":""},null,{"$f":"IF($D7=\"\",\"\",VLOOKUP($D7,登録用データのコピー!$B$5:$V$89,2,FALSE))","v":""},null,{"$f":"IF(D7=\"\",\"\",VLOOKUP(D7,data!$Q$4:$S$88,3,FALSE))","v":""},null,{"$f":"IF($D7=\"\",\"\",VLOOKUP($D7,登録用データのコピー!$B$5:$V$89,7,FALSE))","v":""},null,{"$f":"IF($D7=\"\",\"\",VLOOKUP($D7,登録用データのコピー!$B$5:$V$89,2,FALSE))","v":""},null,null,null,"「申込基本」のシートを最初に作業してから、\n黄色の枠に入力して下さい。\n１チームの参加人数、参加可能チーム数は大会によって異なります。\n入力後、送信用タブをクリック、緑のボタンを押して、送信用データを作成してください。\n申込書の印刷は下記のボタンでプレビューを確認後、必要ページのみプリントしてください。"]
[null,2,null,null,null,{"$f":"IF($D8=\"\",\"\",VLOOKUP($D8,登録用データのコピー!$B$5:$V$89,2,FALSE))","v":""},null,{"$f":"IF($D8=\"\",\"\",VLOOKUP($D8,登録用データのコピー!$B$5:$V$89,3,FALSE))","v":""},null,{"$f":"IF($D8=\"\",\"\",VLOOKUP($D8,登録用データのコピー!$B$5:$V$89,2,FALSE))","v":""},null,{"$f":"IF($D8=\"\",\"\",VLOOKUP($D8,登録用データのコピー!$B$5:$V$89,2,FALSE))","v":""},null,{"$f":"IF(D8=\"\",\"\",VLOOKUP(D8,data!$Q$4:$S$88,3,FALSE))","v":""},null,{"$f":"IF($D8=\"\",\"\",VLOOKUP($D8,登録用データのコピー!$B$5:$V$89,7,FALSE))","v":""},null,{"$f":"IF($D8=\"\",\"\",VLOOKUP($D8,登録用データのコピー!$B$5:$V$89,2,FALSE))","v":""}]
[null,3,null,null,null,{"$f":"IF($D9=\"\",\"\",VLOOKUP($D9,登録用データのコピー!$B$5:$V$89,2,FALSE))","v":""},null,{"$f":"IF($D9=\"\",\"\",VLOOKUP($D9,登録用データのコピー!$B$5:$V$89,3,FALSE))","v":""},null,{"$f":"IF($D9=\"\",\"\",VLOOKUP($D9,登録用データのコピー!$B$5:$V$89,2,FALSE))","v":""},null,{"$f":"IF($D9=\"\",\"\",VLOOKUP($D9,登録用データのコピー!$B$5:$V$89,2,FALSE))","v":""},null,{"$f":"IF(D9=\"\",\"\",VLOOKUP(D9,data!$Q$4:$S$88,3,FALSE))","v":""},null,{"$f":"IF($D9=\"\",\"\",VLOOKUP($D9,登録用データのコピー!$B$5:$V$89,7,FALSE))","v":""},null,{"$f":"IF($D9=\"\",\"\",VLOOKUP($D9,登録用データのコピー!$B$5:$V$89,2,FALSE))","v":""}]
[null,4,null,null,null,{"$f":"IF($D10=\"\",\"\",VLOOKUP($D10,登録用データのコピー!$B$5:$V$89,2,FALSE))","v":""},null,{"$f":"IF($D10=\"\",\"\",VLOOKUP($D10,登録用データのコピー!$B$5:$V$89,3,FALSE))","v":""},null,{"$f":"IF($D10=\"\",\"\",VLOOKUP($D10,登録用データのコピー!$B$5:$V$89,2,FALSE))","v":""},null,{"$f":"IF($D10=\"\",\"\",VLOOKUP($D10,登録用データのコピー!$B$5:$V$89,2,FALSE))","v":""},null,{"$f":"IF(D10=\"\",\"\",VLOOKUP(D10,data!$Q$4:$S$88,3,FALSE))","v":""},null,{"$f":"IF($D10=\"\",\"\",VLOOKUP($D10,登録用データのコピー!$B$5:$V$89,7,FALSE))","v":""},null,{"$f":"IF($D10=\"\",\"\",VLOOKUP($D10,登録用データのコピー!$B$5:$V$89,2,FALSE))","v":""}]
[null,5,null,null,null,{"$f":"IF($D11=\"\",\"\",VLOOKUP($D11,登録用データのコピー!$B$5:$V$89,2,FALSE))","v":""},null,{"$f":"IF($D11=\"\",\"\",VLOOKUP($D11,登録用データのコピー!$B$5:$V$89,3,FALSE))","v":""},null,{"$f":"IF($D11=\"\",\"\",VLOOKUP($D11,登録用データのコピー!$B$5:$V$89,2,FALSE))","v":""},null,{"$f":"IF($D11=\"\",\"\",VLOOKUP($D11,登録用データのコピー!$B$5:$V$89,2,FALSE))","v":""},null,{"$f":"IF(D11=\"\",\"\",VLOOKUP(D11,data!$Q$4:$S$88,3,FALSE))","v":""},null,{"$f":"IF($D11=\"\",\"\",VLOOKUP($D11,登録用データのコピー!$B$5:$V$89,7,FALSE))","v":""},null,{"$f":"IF($D11=\"\",\"\",VLOOKUP($D11,登録用データのコピー!$B$5:$V$89,2,FALSE))","v":""}]
[null,6,null,null,null,{"$f":"IF($D12=\"\",\"\",VLOOKUP($D12,登録用データのコピー!$B$5:$V$89,2,FALSE))","v":""},null,{"$f":"IF($D12=\"\",\"\",VLOOKUP($D12,登録用データのコピー!$B$5:$V$89,3,FALSE))","v":""},null,{"$f":"IF($D12=\"\",\"\",VLOOKUP($D12,登録用データのコピー!$B$5:$V$89,2,FALSE))","v":""},null,{"$f":"IF($D12=\"\",\"\",VLOOKUP($D12,登録用データのコピー!$B$5:$V$89,2,FALSE))","v":""},null,{"$f":"IF(D12=\"\",\"\",VLOOKUP(D12,data!$Q$4:$S$88,3,FALSE))","v":""},null,{"$f":"IF($D12=\"\",\"\",VLOOKUP($D12,登録用データのコピー!$B$5:$V$89,7,FALSE))","v":""},null,{"$f":"IF($D12=\"\",\"\",VLOOKUP($D12,登録用データのコピー!$B$5:$V$89,2,FALSE))","v":""}]
[]
[null,null,null,null,null,null,null,null,null,null,null,null,null,null,null,null,null,null,null,{"$f":"IF(SUM(D4:D14)>0,1,0 )","v":0}]
[null,null,{"$f":"TODAY()","v":"2022-05-27"},null,null,null,null,null,"上記の通り、参加料を添えて申し込みます。"]
[null,null,null,null,"学 校 名",null,null,{"$f":"VLOOKUP(R5,data!$A$3:$C$302,2,0)","v":{"$error":"#N/A"}}]
[]
[null,null,null,null,"顧 問 名",null,null,{"$f":"申込基本!K17","v":0},null,null,null,null,null,null,null,null,null,null,"印"]
[]
[null,"大阪卓球協会",null,null,null,null,null,null,null,"様",null,null,"顧問連絡先",null,null,{"$f":"申込基本!$P$17&\" ( \"&申込基本!$S$17&\" ) \"&申込基本!$V$17","v":" (  ) "}]
[]
[]
[null,"領収証",null,null,null,null,null,null,{"$f":"VLOOKUP($R$5,data!$A$3:$G$302,2)","v":{"$error":"#N/A"}},null,null,null,null,null,null,null,null,null,"様"]
[]
[null,{"$f":"COUNT(D7,D37,D69,D101,D133,D165,D197,D229)","v":0},"チーム",null,{"$f":"V5*2000","v":0}]
[]
[null,null,null,null,null,"但","特別普及大会参加料として"]
[null,null,null,null,null,null,"上記正に領収いたしました"]
[null,null,null,null,null,null,null,null,"大阪卓球協会"]
[]
[null,{"$f":"申込基本!$C$5&\"　年度\"","v":"2022　年度"}]
[null,"第",1,"回","特別普及大会（学校対抗）"]
[null,"　　　　　　　　　申　　込　　書",null,null,null,null,null,null,null,null,null,null,null,null,null,null,null,"男子"]
[null,null,null,null,null,null,null,null,null,null,null,null,null,null,null,"チームB"]
[null,"学校名",null,null,{"$f":"VLOOKUP($R$5,data!$A$3:$C$302,3)","v":{"$error":"#N/A"}},null,null,"監督名",null,null,{"$f":"申込基本!$C$17","v":0},null,null,null,null,"学校番号",null,{"$f":"申込基本!$C$7","v":0}]
[null,"ランク",null,"整理番号",null,"会員ＩＤ",null,"名　　　　　　　　前",null,null,null,null,null,"学年",null,"生 年 月 日"]
[null,1,null,null,null,{"$f":"IF($D37=\"\",\"\",VLOOKUP($D37,登録用データのコピー!$B$5:$V$89,2,FALSE))","v":""},null,{"$f":"IF($D37=\"\",\"\",VLOOKUP($D37,登録用データのコピー!$B$5:$V$89,3,FALSE))","v":""},null,{"$f":"IF($D37=\"\",\"\",VLOOKUP($D37,登録用データのコピー!$B$5:$V$89,2,FALSE))","v":""},null,{"$f":"IF($D37=\"\",\"\",VLOOKUP($D37,登録用データのコピー!$B$5:$V$89,2,FALSE))","v":""},null,{"$f":"IF(D37=\"\",\"\",VLOOKUP(D37,data!$Q$4:$S$88,3,FALSE))","v":""},null,{"$f":"IF($D37=\"\",\"\",VLOOKUP($D37,登録用データのコピー!$B$5:$V$89,7,FALSE))","v":""},null,{"$f":"IF($D37=\"\",\"\",VLOOKUP($D37,登録用データのコピー!$B$5:$V$89,2,FALSE))","v":""}]
[null,2,null,null,null,{"$f":"IF($D38=\"\",\"\",VLOOKUP($D38,登録用データのコピー!$B$5:$V$89,2,FALSE))","v":""},null,{"$f":"IF($D38=\"\",\"\",VLOOKUP($D38,登録用データのコピー!$B$5:$V$89,3,FALSE))","v":""},null,{"$f":"IF($D38=\"\",\"\",VLOOKUP($D38,登録用データのコピー!$B$5:$V$89,2,FALSE))","v":""},null,{"$f":"IF($D38=\"\",\"\",VLOOKUP($D38,登録用データのコピー!$B$5:$V$89,2,FALSE))","v":""},null,{"$f":"IF(D38=\"\",\"\",VLOOKUP(D38,data!$Q$4:$S$88,3,FALSE))","v":""},null,{"$f":"IF($D38=\"\",\"\",VLOOKUP($D38,登録用データのコピー!$B$5:$V$89,7,FALSE))","v":""},null,{"$f":"IF($D38=\"\",\"\",VLOOKUP($D38,登録用データのコピー!$B$5:$V$89,2,FALSE))","v":""}]
[null,3,null,null,null,{"$f":"IF($D39=\"\",\"\",VLOOKUP($D39,登録用データのコピー!$B$5:$V$89,2,FALSE))","v":""},null,{"$f":"IF($D39=\"\",\"\",VLOOKUP($D39,登録用データのコピー!$B$5:$V$89,3,FALSE))","v":""},null,{"$f":"IF($D39=\"\",\"\",VLOOKUP($D39,登録用データのコピー!$B$5:$V$89,2,FALSE))","v":""},null,{"$f":"IF($D39=\"\",\"\",VLOOKUP($D39,登録用データのコピー!$B$5:$V$89,2,FALSE))","v":""},null,{"$f":"IF(D39=\"\",\"\",VLOOKUP(D39,data!$Q$4:$S$88,3,FALSE))","v":""},null,{"$f":"IF($D39=\"\",\"\",VLOOKUP($D39,登録用データのコピー!$B$5:$V$89,7,FALSE))","v":""},null,{"$f":"IF($D39=\"\",\"\",VLOOKUP($D39,登録用データのコピー!$B$5:$V$89,2,FALSE))","v":""}]
[null,4,null,null,null,{"$f":"IF($D40=\"\",\"\",VLOOKUP($D40,登録用データのコピー!$B$5:$V$89,2,FALSE))","v":""},null,{"$f":"IF($D40=\"\",\"\",VLOOKUP($D40,登録用データのコピー!$B$5:$V$89,3,FALSE))","v":""},null,{"$f":"IF($D40=\"\",\"\",VLOOKUP($D40,登録用データのコピー!$B$5:$V$89,2,FALSE))","v":""},null,{"$f":"IF($D40=\"\",\"\",VLOOKUP($D40,登録用データのコピー!$B$5:$V$89,2,FALSE))","v":""},null,{"$f":"IF(D40=\"\",\"\",VLOOKUP(D40,data!$Q$4:$S$88,3,FALSE))","v":""},null,{"$f":"IF($D40=\"\",\"\",VLOOKUP($D40,登録用データのコピー!$B$5:$V$89,7,FALSE))","v":""},null,{"$f":"IF($D40=\"\",\"\",VLOOKUP($D40,登録用データのコピー!$B$5:$V$89,2,FALSE))","v":""}]
[null,5,null,null,null,{"$f":"IF($D41=\"\",\"\",VLOOKUP($D41,登録用データのコピー!$B$5:$V$89,2,FALSE))","v":""},null,{"$f":"IF($D41=\"\",\"\",VLOOKUP($D41,登録用データのコピー!$B$5:$V$89,3,FALSE))","v":""},null,{"$f":"IF($D41=\"\",\"\",VLOOKUP($D41,登録用データのコピー!$B$5:$V$89,2,FALSE))","v":""},null,{"$f":"IF($D41=\"\",\"\",VLOOKUP($D41,登録用データのコピー!$B$5:$V$89,2,FALSE))","v":""},null,{"$f":"IF(D41=\"\",\"\",VLOOKUP(D41,data!$Q$4:$S$88,3,FALSE))","v":""},null,{"$f":"IF($D41=\"\",\"\",VLOOKUP($D41,登録用データのコピー!$B$5:$V$89,7,FALSE))","v":""},null,{"$f":"IF($D41=\"\",\"\",VLOOKUP($D41,登録用データのコピー!$B$5:$V$89,2,FALSE))","v":""}]
[null,6,null,null,null,{"$f":"IF($D42=\"\",\"\",VLOOKUP($D42,登録用データのコピー!$B$5:$V$89,2,FALSE))","v":""},null,{"$f":"IF($D42=\"\",\"\",VLOOKUP($D42,登録用データのコピー!$B$5:$V$89,3,FALSE))","v":""},null,{"$f":"IF($D42=\"\",\"\",VLOOKUP($D42,登録用データのコピー!$B$5:$V$89,2,FALSE))","v":""},null,{"$f":"IF($D42=\"\",\"\",VLOOKUP($D42,登録用データのコピー!$B$5:$V$89,2,FALSE))","v":""},null,{"$f":"IF(D42=\"\",\"\",VLOOKUP(D42,data!$Q$4:$S$88,3,FALSE))","v":""},null,{"$f":"IF($D42=\"\",\"\",VLOOKUP($D42,登録用データのコピー!$B$5:$V$89,7,FALSE))","v":""},null,{"$f":"IF($D42=\"\",\"\",VLOOKUP($D42,登録用データのコピー!$B$5:$V$89,2,FALSE))","v":""}]
[null,7,null,null,null,{"$f":"IF($D43=\"\",\"\",VLOOKUP($D43,登録用データのコピー!$B$5:$V$89,2,FALSE))","v":""},null,{"$f":"IF($D43=\"\",\"\",VLOOKUP($D43,登録用データのコピー!$B$5:$V$89,3,FALSE))","v":""},null,{"$f":"IF($D43=\"\",\"\",VLOOKUP($D43,登録用データのコピー!$B$5:$V$89,2,FALSE))","v":""},null,{"$f":"IF($D43=\"\",\"\",VLOOKUP($D43,登録用データのコピー!$B$5:$V$89,2,FALSE))","v":""},null,{"$f":"IF(D43=\"\",\"\",VLOOKUP(D43,data!$Q$4:$S$88,3,FALSE))","v":""},null,{"$f":"IF($D43=\"\",\"\",VLOOKUP($D43,登録用データのコピー!$B$5:$V$89,7,FALSE))","v":""},null,{"$f":"IF($D43=\"\",\"\",VLOOKUP($D43,登録用データのコピー!$B$5:$V$89,2,FALSE))","v":""}]
[null,8,null,null,null,{"$f":"IF($D44=\"\",\"\",VLOOKUP($D44,登録用データのコピー!$B$5:$V$89,2,FALSE))","v":""},null,{"$f":"IF($D44=\"\",\"\",VLOOKUP($D44,登録用データのコピー!$B$5:$V$89,3,FALSE))","v":""},null,{"$f":"IF($D44=\"\",\"\",VLOOKUP($D44,登録用データのコピー!$B$5:$V$89,2,FALSE))","v":""},null,{"$f":"IF($D44=\"\",\"\",VLOOKUP($D44,登録用データのコピー!$B$5:$V$89,2,FALSE))","v":""},null,{"$f":"IF(D44=\"\",\"\",VLOOKUP(D44,data!$Q$4:$S$88,3,FALSE))","v":""},null,{"$f":"IF($D44=\"\",\"\",VLOOKUP($D44,登録用データのコピー!$B$5:$V$89,7,FALSE))","v":""},null,{"$f":"IF($D44=\"\",\"\",VLOOKUP($D44,登録用データのコピー!$B$5:$V$89,2,FALSE))","v":""},null,{"$f":"IF(SUM(D34:D44)>0,1,0 )","v":0}]
[null,null,{"$f":"TODAY()","v":"2022-05-27"},null,null,null,null,null,"上記の通り、参加料を添えて申し込みます。"]
[null,null,null,null,"学 校 名",null,null,{"$f":"VLOOKUP(R35,data!$A$3:$C$302,2,0)","v":{"$error":"#N/A"}}]
[]
[null,null,null,null,"顧 問 名",null,null,{"$f":"申込基本!$K$27","v":0},null,null,null,null,null,null,null,null,null,null,"印"]
[]
[null,"大阪卓球協会",null,null,null,null,null,null,null,"様",null,null,"顧問連絡先",null,null,{"$f":"申込基本!$P$17&\" ( \"&申込基本!$S$17&\" ) \"&申込基本!$V$17","v":" (  ) "}]
[]
[]
[]
[]
[]
[]
[]
[]
[]
[]
[]
[]
[null,{"$f":"申込基本!$C$5&\"　年度\"","v":"2022　年度"}]
[null,"第",1,"回","特別普及大会（学校対抗）"]
[null,"　　　　　　　　　申　　込　　書",null,null,null,null,null,null,null,null,null,null,null,null,null,null,null,"男子"]
[null,null,null,null,null,null,null,null,null,null,null,null,null,null,null,"チームC"]
[null,"学校名",null,null,{"$f":"VLOOKUP($R$5,data!$A$3:$C$302,3)","v":{"$error":"#N/A"}},null,null,"監督名",null,null,{"$f":"申込基本!$C$17","v":0},null,null,null,null,"学校番号",null,{"$f":"申込基本!$C$7","v":0}]
[null,"ランク",null,"整理番号",null,"会員ＩＤ",null,"名　　　　　　　　前",null,null,null,null,null,"学年",null,"生 年 月 日"]
[null,1,null,null,null,{"$f":"IF($D69=\"\",\"\",VLOOKUP($D69,登録用データのコピー!$B$5:$V$89,2,FALSE))","v":""},null,{"$f":"IF($D69=\"\",\"\",VLOOKUP($D69,登録用データのコピー!$B$5:$V$89,3,FALSE))","v":""},null,{"$f":"IF($D69=\"\",\"\",VLOOKUP($D69,登録用データのコピー!$B$5:$V$89,2,FALSE))","v":""},null,{"$f":"IF($D69=\"\",\"\",VLOOKUP($D69,登録用データのコピー!$B$5:$V$89,2,FALSE))","v":""},null,{"$f":"IF(D69=\"\",\"\",VLOOKUP(D69,data!$Q$4:$S$88,3,FALSE))","v":""},null,{"$f":"IF($D69=\"\",\"\",VLOOKUP($D69,登録用データのコピー!$B$5:$V$89,7,FALSE))","v":""},null,{"$f":"IF($D69=\"\",\"\",VLOOKUP($D69,登録用データのコピー!$B$5:$V$89,2,FALSE))","v":""}]
[null,2,null,null,null,{"$f":"IF($D70=\"\",\"\",VLOOKUP($D70,登録用データのコピー!$B$5:$V$89,2,FALSE))","v":""},null,{"$f":"IF($D70=\"\",\"\",VLOOKUP($D70,登録用データのコピー!$B$5:$V$89,3,FALSE))","v":""},null,{"$f":"IF($D70=\"\",\"\",VLOOKUP($D70,登録用データのコピー!$B$5:$V$89,2,FALSE))","v":""},null,{"$f":"IF($D70=\"\",\"\",VLOOKUP($D70,登録用データのコピー!$B$5:$V$89,2,FALSE))","v":""},null,{"$f":"IF(D70=\"\",\"\",VLOOKUP(D70,data!$Q$4:$S$88,3,FALSE))","v":""},null,{"$f":"IF($D70=\"\",\"\",VLOOKUP($D70,登録用データのコピー!$B$5:$V$89,7,FALSE))","v":""},null,{"$f":"IF($D70=\"\",\"\",VLOOKUP($D70,登録用データのコピー!$B$5:$V$89,2,FALSE))","v":""}]
[null,3,null,null,null,{"$f":"IF($D71=\"\",\"\",VLOOKUP($D71,登録用データのコピー!$B$5:$V$89,2,FALSE))","v":""},null,{"$f":"IF($D71=\"\",\"\",VLOOKUP($D71,登録用データのコピー!$B$5:$V$89,3,FALSE))","v":""},null,{"$f":"IF($D71=\"\",\"\",VLOOKUP($D71,登録用データのコピー!$B$5:$V$89,2,FALSE))","v":""},null,{"$f":"IF($D71=\"\",\"\",VLOOKUP($D71,登録用データのコピー!$B$5:$V$89,2,FALSE))","v":""},null,{"$f":"IF(D71=\"\",\"\",VLOOKUP(D71,data!$Q$4:$S$88,3,FALSE))","v":""},null,{"$f":"IF($D71=\"\",\"\",VLOOKUP($D71,登録用データのコピー!$B$5:$V$89,7,FALSE))","v":""},null,{"$f":"IF($D71=\"\",\"\",VLOOKUP($D71,登録用データのコピー!$B$5:$V$89,2,FALSE))","v":""}]
[null,4,null,null,null,{"$f":"IF($D72=\"\",\"\",VLOOKUP($D72,登録用データのコピー!$B$5:$V$89,2,FALSE))","v":""},null,{"$f":"IF($D72=\"\",\"\",VLOOKUP($D72,登録用データのコピー!$B$5:$V$89,3,FALSE))","v":""},null,{"$f":"IF($D72=\"\",\"\",VLOOKUP($D72,登録用データのコピー!$B$5:$V$89,2,FALSE))","v":""},null,{"$f":"IF($D72=\"\",\"\",VLOOKUP($D72,登録用データのコピー!$B$5:$V$89,2,FALSE))","v":""},null,{"$f":"IF(D72=\"\",\"\",VLOOKUP(D72,data!$Q$4:$S$88,3,FALSE))","v":""},null,{"$f":"IF($D72=\"\",\"\",VLOOKUP($D72,登録用データのコピー!$B$5:$V$89,7,FALSE))","v":""},null,{"$f":"IF($D72=\"\",\"\",VLOOKUP($D72,登録用データのコピー!$B$5:$V$89,2,FALSE))","v":""}]
[null,5,null,null,null,{"$f":"IF($D73=\"\",\"\",VLOOKUP($D73,登録用データのコピー!$B$5:$V$89,2,FALSE))","v":""},null,{"$f":"IF($D73=\"\",\"\",VLOOKUP($D73,登録用データのコピー!$B$5:$V$89,3,FALSE))","v":""},null,{"$f":"IF($D73=\"\",\"\",VLOOKUP($D73,登録用データのコピー!$B$5:$V$89,2,FALSE))","v":""},null,{"$f":"IF($D73=\"\",\"\",VLOOKUP($D73,登録用データのコピー!$B$5:$V$89,2,FALSE))","v":""},null,{"$f":"IF(D73=\"\",\"\",VLOOKUP(D73,data!$Q$4:$S$88,3,FALSE))","v":""},null,{"$f":"IF($D73=\"\",\"\",VLOOKUP($D73,登録用データのコピー!$B$5:$V$89,7,FALSE))","v":""},null,{"$f":"IF($D73=\"\",\"\",VLOOKUP($D73,登録用データのコピー!$B$5:$V$89,2,FALSE))","v":""}]
[null,6,null,null,null,{"$f":"IF($D74=\"\",\"\",VLOOKUP($D74,登録用データのコピー!$B$5:$V$89,2,FALSE))","v":""},null,{"$f":"IF($D74=\"\",\"\",VLOOKUP($D74,登録用データのコピー!$B$5:$V$89,3,FALSE))","v":""},null,{"$f":"IF($D74=\"\",\"\",VLOOKUP($D74,登録用データのコピー!$B$5:$V$89,2,FALSE))","v":""},null,{"$f":"IF($D74=\"\",\"\",VLOOKUP($D74,登録用データのコピー!$B$5:$V$89,2,FALSE))","v":""},null,{"$f":"IF(D74=\"\",\"\",VLOOKUP(D74,data!$Q$4:$S$88,3,FALSE))","v":""},null,{"$f":"IF($D74=\"\",\"\",VLOOKUP($D74,登録用データのコピー!$B$5:$V$89,7,FALSE))","v":""},null,{"$f":"IF($D74=\"\",\"\",VLOOKUP($D74,登録用データのコピー!$B$5:$V$89,2,FALSE))","v":""}]
[null,7,null,null,null,{"$f":"IF($D75=\"\",\"\",VLOOKUP($D75,登録用データのコピー!$B$5:$V$89,2,FALSE))","v":""},null,{"$f":"IF($D75=\"\",\"\",VLOOKUP($D75,登録用データのコピー!$B$5:$V$89,3,FALSE))","v":""},null,{"$f":"IF($D75=\"\",\"\",VLOOKUP($D75,登録用データのコピー!$B$5:$V$89,2,FALSE))","v":""},null,{"$f":"IF($D75=\"\",\"\",VLOOKUP($D75,登録用データのコピー!$B$5:$V$89,2,FALSE))","v":""},null,{"$f":"IF(D75=\"\",\"\",VLOOKUP(D75,data!$Q$4:$S$88,3,FALSE))","v":""},null,{"$f":"IF($D75=\"\",\"\",VLOOKUP($D75,登録用データのコピー!$B$5:$V$89,7,FALSE))","v":""},null,{"$f":"IF($D75=\"\",\"\",VLOOKUP($D75,登録用データのコピー!$B$5:$V$89,2,FALSE))","v":""}]
[null,8,null,null,null,{"$f":"IF($D76=\"\",\"\",VLOOKUP($D76,登録用データのコピー!$B$5:$V$89,2,FALSE))","v":""},null,{"$f":"IF($D76=\"\",\"\",VLOOKUP($D76,登録用データのコピー!$B$5:$V$89,3,FALSE))","v":""},null,{"$f":"IF($D76=\"\",\"\",VLOOKUP($D76,登録用データのコピー!$B$5:$V$89,2,FALSE))","v":""},null,{"$f":"IF($D76=\"\",\"\",VLOOKUP($D76,登録用データのコピー!$B$5:$V$89,2,FALSE))","v":""},null,{"$f":"IF(D76=\"\",\"\",VLOOKUP(D76,data!$Q$4:$S$88,3,FALSE))","v":""},null,{"$f":"IF($D76=\"\",\"\",VLOOKUP($D76,登録用データのコピー!$B$5:$V$89,7,FALSE))","v":""},null,{"$f":"IF($D76=\"\",\"\",VLOOKUP($D76,登録用データのコピー!$B$5:$V$89,2,FALSE))","v":""},null,{"$f":"IF(SUM(D66:D76)>0,1,0 )","v":0}]
[null,null,{"$f":"TODAY()","v":"2022-05-27"},null,null,null,null,null,"上記の通り、参加料を添えて申し込みます。"]
[null,null,null,null,"学 校 名",null,null,{"$f":"VLOOKUP(R67,data!$A$3:$C$302,2,0)","v":{"$error":"#N/A"}}]
[]
[null,null,null,null,"顧 問 名",null,null,{"$f":"申込基本!$K$27","v":0},null,null,null,null,null,null,null,null,null,null,"印"]
[]
[null,"大阪卓球協会",null,null,null,null,null,null,null,"様",null,null,"顧問連絡先",null,null,{"$f":"申込基本!$P$17&\" ( \"&申込基本!$S$17&\" ) \"&申込基本!$V$17","v":" (  ) "}]
[]
[]
[]
[]
[]
[]
[]
[]
[]
[]
[]
[]
[null,{"$f":"申込基本!$C$5&\"　年度\"","v":"2022　年度"}]
[null,"第",1,"回","特別普及大会（学校対抗）"]
[null,"　　　　　　　　　申　　込　　書",null,null,null,null,null,null,null,null,null,null,null,null,null,null,null,"男子"]
[null,null,null,null,null,null,null,null,null,null,null,null,null,null,null,"チームD"]
[null,"学校名",null,null,{"$f":"VLOOKUP($R$5,data!$A$3:$C$302,3)","v":{"$error":"#N/A"}},null,null,"監督名",null,null,{"$f":"申込基本!$C$17","v":0},null,null,null,null,"学校番号",null,{"$f":"申込基本!$C$7","v":0}]
[null,"ランク",null,"整理番号",null,"会員ＩＤ",null,"名　　　　　　　　前",null,null,null,null,null,"学年",null,"生 年 月 日"]
[null,1,null,null,null,{"$f":"IF($D101=\"\",\"\",VLOOKUP($D101,登録用データのコピー!$B$5:$V$89,2,FALSE))","v":""},null,{"$f":"IF($D101=\"\",\"\",VLOOKUP($D101,登録用データのコピー!$B$5:$V$89,3,FALSE))","v":""},null,{"$f":"IF($D101=\"\",\"\",VLOOKUP($D101,登録用データのコピー!$B$5:$V$89,2,FALSE))","v":""},null,{"$f":"IF($D101=\"\",\"\",VLOOKUP($D101,登録用データのコピー!$B$5:$V$89,2,FALSE))","v":""},null,{"$f":"IF(D101=\"\",\"\",VLOOKUP(D101,data!$Q$4:$S$88,3,FALSE))","v":""},null,{"$f":"IF($D101=\"\",\"\",VLOOKUP($D101,登録用データのコピー!$B$5:$V$89,7,FALSE))","v":""},null,{"$f":"IF($D101=\"\",\"\",VLOOKUP($D101,登録用データのコピー!$B$5:$V$89,2,FALSE))","v":""}]
[null,2,null,null,null,{"$f":"IF($D102=\"\",\"\",VLOOKUP($D102,登録用データのコピー!$B$5:$V$89,2,FALSE))","v":""},null,{"$f":"IF($D102=\"\",\"\",VLOOKUP($D102,登録用データのコピー!$B$5:$V$89,3,FALSE))","v":""},null,{"$f":"IF($D102=\"\",\"\",VLOOKUP($D102,登録用データのコピー!$B$5:$V$89,2,FALSE))","v":""},null,{"$f":"IF($D102=\"\",\"\",VLOOKUP($D102,登録用データのコピー!$B$5:$V$89,2,FALSE))","v":""},null,{"$f":"IF(D102=\"\",\"\",VLOOKUP(D102,data!$Q$4:$S$88,3,FALSE))","v":""},null,{"$f":"IF($D102=\"\",\"\",VLOOKUP($D102,登録用データのコピー!$B$5:$V$89,7,FALSE))","v":""},null,{"$f":"IF($D102=\"\",\"\",VLOOKUP($D102,登録用データのコピー!$B$5:$V$89,2,FALSE))","v":""}]
[null,3,null,null,null,{"$f":"IF($D103=\"\",\"\",VLOOKUP($D103,登録用データのコピー!$B$5:$V$89,2,FALSE))","v":""},null,{"$f":"IF($D103=\"\",\"\",VLOOKUP($D103,登録用データのコピー!$B$5:$V$89,3,FALSE))","v":""},null,{"$f":"IF($D103=\"\",\"\",VLOOKUP($D103,登録用データのコピー!$B$5:$V$89,2,FALSE))","v":""},null,{"$f":"IF($D103=\"\",\"\",VLOOKUP($D103,登録用データのコピー!$B$5:$V$89,2,FALSE))","v":""},null,{"$f":"IF(D103=\"\",\"\",VLOOKUP(D103,data!$Q$4:$S$88,3,FALSE))","v":""},null,{"$f":"IF($D103=\"\",\"\",VLOOKUP($D103,登録用データのコピー!$B$5:$V$89,7,FALSE))","v":""},null,{"$f":"IF($D103=\"\",\"\",VLOOKUP($D103,登録用データのコピー!$B$5:$V$89,2,FALSE))","v":""}]
[null,4,null,null,null,{"$f":"IF($D104=\"\",\"\",VLOOKUP($D104,登録用データのコピー!$B$5:$V$89,2,FALSE))","v":""},null,{"$f":"IF($D104=\"\",\"\",VLOOKUP($D104,登録用データのコピー!$B$5:$V$89,3,FALSE))","v":""},null,{"$f":"IF($D104=\"\",\"\",VLOOKUP($D104,登録用データのコピー!$B$5:$V$89,2,FALSE))","v":""},null,{"$f":"IF($D104=\"\",\"\",VLOOKUP($D104,登録用データのコピー!$B$5:$V$89,2,FALSE))","v":""},null,{"$f":"IF(D104=\"\",\"\",VLOOKUP(D104,data!$Q$4:$S$88,3,FALSE))","v":""},null,{"$f":"IF($D104=\"\",\"\",VLOOKUP($D104,登録用データのコピー!$B$5:$V$89,7,FALSE))","v":""},null,{"$f":"IF($D104=\"\",\"\",VLOOKUP($D104,登録用データのコピー!$B$5:$V$89,2,FALSE))","v":""}]
[null,5,null,null,null,{"$f":"IF($D105=\"\",\"\",VLOOKUP($D105,登録用データのコピー!$B$5:$V$89,2,FALSE))","v":""},null,{"$f":"IF($D105=\"\",\"\",VLOOKUP($D105,登録用データのコピー!$B$5:$V$89,3,FALSE))","v":""},null,{"$f":"IF($D105=\"\",\"\",VLOOKUP($D105,登録用データのコピー!$B$5:$V$89,2,FALSE))","v":""},null,{"$f":"IF($D105=\"\",\"\",VLOOKUP($D105,登録用データのコピー!$B$5:$V$89,2,FALSE))","v":""},null,{"$f":"IF(D105=\"\",\"\",VLOOKUP(D105,data!$Q$4:$S$88,3,FALSE))","v":""},null,{"$f":"IF($D105=\"\",\"\",VLOOKUP($D105,登録用データのコピー!$B$5:$V$89,7,FALSE))","v":""},null,{"$f":"IF($D105=\"\",\"\",VLOOKUP($D105,登録用データのコピー!$B$5:$V$89,2,FALSE))","v":""}]
[null,6,null,null,null,{"$f":"IF($D106=\"\",\"\",VLOOKUP($D106,登録用データのコピー!$B$5:$V$89,2,FALSE))","v":""},null,{"$f":"IF($D106=\"\",\"\",VLOOKUP($D106,登録用データのコピー!$B$5:$V$89,3,FALSE))","v":""},null,{"$f":"IF($D106=\"\",\"\",VLOOKUP($D106,登録用データのコピー!$B$5:$V$89,2,FALSE))","v":""},null,{"$f":"IF($D106=\"\",\"\",VLOOKUP($D106,登録用データのコピー!$B$5:$V$89,2,FALSE))","v":""},null,{"$f":"IF(D106=\"\",\"\",VLOOKUP(D106,data!$Q$4:$S$88,3,FALSE))","v":""},null,{"$f":"IF($D106=\"\",\"\",VLOOKUP($D106,登録用データのコピー!$B$5:$V$89,7,FALSE))","v":""},null,{"$f":"IF($D106=\"\",\"\",VLOOKUP($D106,登録用データのコピー!$B$5:$V$89,2,FALSE))","v":""}]
[null,7,null,null,null,{"$f":"IF($D107=\"\",\"\",VLOOKUP($D107,登録用データのコピー!$B$5:$V$89,2,FALSE))","v":""},null,{"$f":"IF($D107=\"\",\"\",VLOOKUP($D107,登録用データのコピー!$B$5:$V$89,3,FALSE))","v":""},null,{"$f":"IF($D107=\"\",\"\",VLOOKUP($D107,登録用データのコピー!$B$5:$V$89,2,FALSE))","v":""},null,{"$f":"IF($D107=\"\",\"\",VLOOKUP($D107,登録用データのコピー!$B$5:$V$89,2,FALSE))","v":""},null,{"$f":"IF(D107=\"\",\"\",VLOOKUP(D107,data!$Q$4:$S$88,3,FALSE))","v":""},null,{"$f":"IF($D107=\"\",\"\",VLOOKUP($D107,登録用データのコピー!$B$5:$V$89,7,FALSE))","v":""},null,{"$f":"IF($D107=\"\",\"\",VLOOKUP($D107,登録用データのコピー!$B$5:$V$89,2,FALSE))","v":""}]
[null,8,null,null,null,{"$f":"IF($D108=\"\",\"\",VLOOKUP($D108,登録用データのコピー!$B$5:$V$89,2,FALSE))","v":""},null,{"$f":"IF($D108=\"\",\"\",VLOOKUP($D108,登録用データのコピー!$B$5:$V$89,3,FALSE))","v":""},null,{"$f":"IF($D108=\"\",\"\",VLOOKUP($D108,登録用データのコピー!$B$5:$V$89,2,FALSE))","v":""},null,{"$f":"IF($D108=\"\",\"\",VLOOKUP($D108,登録用データのコピー!$B$5:$V$89,2,FALSE))","v":""},null,{"$f":"IF(D108=\"\",\"\",VLOOKUP(D108,data!$Q$4:$S$88,3,FALSE))","v":""},null,{"$f":"IF($D108=\"\",\"\",VLOOKUP($D108,登録用データのコピー!$B$5:$V$89,7,FALSE))","v":""},null,{"$f":"IF($D108=\"\",\"\",VLOOKUP($D108,登録用データのコピー!$B$5:$V$89,2,FALSE))","v":""},null,{"$f":"IF(SUM(D98:D108)>0,1,0 )","v":0}]
[null,null,{"$f":"TODAY()","v":"2022-05-27"},null,null,null,null,null,"上記の通り、参加料を添えて申し込みます。"]
[null,null,null,null,"学 校 名",null,null,{"$f":"VLOOKUP(R99,data!$A$3:$C$302,2,0)","v":{"$error":"#N/A"}}]
[]
[null,null,null,null,"顧 問 名",null,null,{"$f":"申込基本!$K$27","v":0},null,null,null,null,null,null,null,null,null,null,"印"]
[]
[null,"大阪卓球協会",null,null,null,null,null,null,null,"様",null,null,"顧問連絡先",null,null,{"$f":"申込基本!$P$17&\" ( \"&申込基本!$S$17&\" ) \"&申込基本!$V$17","v":" (  ) "}]
[]
[]
[]
[]
[]
[]
[]
[]
[]
[]
[]
[]
[null,{"$f":"申込基本!$C$5&\"　年度\"","v":"2022　年度"}]
[null,"第",1,"回","特別普及大会（学校対抗）"]
[null,"　　　　　　　　　申　　込　　書",null,null,null,null,null,null,null,null,null,null,null,null,null,null,null,"男子"]
[null,null,null,null,null,null,null,null,null,null,null,null,null,null,null,"チームE"]
[null,"学校名",null,null,{"$f":"VLOOKUP($R$5,data!$A$3:$C$302,3)","v":{"$error":"#N/A"}},null,null,"監督名",null,null,{"$f":"申込基本!$C$17","v":0},null,null,null,null,"学校番号",null,{"$f":"申込基本!$C$7","v":0}]
[null,"ランク",null,"整理番号",null,"会員ＩＤ",null,"名　　　　　　　　前",null,null,null,null,null,"学年",null,"生 年 月 日"]
[null,1,null,null,null,{"$f":"IF($D133=\"\",\"\",VLOOKUP($D133,登録用データのコピー!$B$5:$V$89,2,FALSE))","v":""},null,{"$f":"IF($D133=\"\",\"\",VLOOKUP($D133,登録用データのコピー!$B$5:$V$89,3,FALSE))","v":""},null,{"$f":"IF($D133=\"\",\"\",VLOOKUP($D133,登録用データのコピー!$B$5:$V$89,2,FALSE))","v":""},null,{"$f":"IF($D133=\"\",\"\",VLOOKUP($D133,登録用データのコピー!$B$5:$V$89,2,FALSE))","v":""},null,{"$f":"IF(D133=\"\",\"\",VLOOKUP(D133,data!$Q$4:$S$88,3,FALSE))","v":""},null,{"$f":"IF($D133=\"\",\"\",VLOOKUP($D133,登録用データのコピー!$B$5:$V$89,7,FALSE))","v":""},null,{"$f":"IF($D133=\"\",\"\",VLOOKUP($D133,登録用データのコピー!$B$5:$V$89,2,FALSE))","v":""}]
[null,2,null,null,null,{"$f":"IF($D134=\"\",\"\",VLOOKUP($D134,登録用データのコピー!$B$5:$V$89,2,FALSE))","v":""},null,{"$f":"IF($D134=\"\",\"\",VLOOKUP($D134,登録用データのコピー!$B$5:$V$89,3,FALSE))","v":""},null,{"$f":"IF($D134=\"\",\"\",VLOOKUP($D134,登録用データのコピー!$B$5:$V$89,2,FALSE))","v":""},null,{"$f":"IF($D134=\"\",\"\",VLOOKUP($D134,登録用データのコピー!$B$5:$V$89,2,FALSE))","v":""},null,{"$f":"IF(D134=\"\",\"\",VLOOKUP(D134,data!$Q$4:$S$88,3,FALSE))","v":""},null,{"$f":"IF($D134=\"\",\"\",VLOOKUP($D134,登録用データのコピー!$B$5:$V$89,7,FALSE))","v":""},null,{"$f":"IF($D134=\"\",\"\",VLOOKUP($D134,登録用データのコピー!$B$5:$V$89,2,FALSE))","v":""}]
[null,3,null,null,null,{"$f":"IF($D135=\"\",\"\",VLOOKUP($D135,登録用データのコピー!$B$5:$V$89,2,FALSE))","v":""},null,{"$f":"IF($D135=\"\",\"\",VLOOKUP($D135,登録用データのコピー!$B$5:$V$89,3,FALSE))","v":""},null,{"$f":"IF($D135=\"\",\"\",VLOOKUP($D135,登録用データのコピー!$B$5:$V$89,2,FALSE))","v":""},null,{"$f":"IF($D135=\"\",\"\",VLOOKUP($D135,登録用データのコピー!$B$5:$V$89,2,FALSE))","v":""},null,{"$f":"IF(D135=\"\",\"\",VLOOKUP(D135,data!$Q$4:$S$88,3,FALSE))","v":""},null,{"$f":"IF($D135=\"\",\"\",VLOOKUP($D135,登録用データのコピー!$B$5:$V$89,7,FALSE))","v":""},null,{"$f":"IF($D135=\"\",\"\",VLOOKUP($D135,登録用データのコピー!$B$5:$V$89,2,FALSE))","v":""}]
[null,4,null,null,null,{"$f":"IF($D136=\"\",\"\",VLOOKUP($D136,登録用データのコピー!$B$5:$V$89,2,FALSE))","v":""},null,{"$f":"IF($D136=\"\",\"\",VLOOKUP($D136,登録用データのコピー!$B$5:$V$89,3,FALSE))","v":""},null,{"$f":"IF($D136=\"\",\"\",VLOOKUP($D136,登録用データのコピー!$B$5:$V$89,2,FALSE))","v":""},null,{"$f":"IF($D136=\"\",\"\",VLOOKUP($D136,登録用データのコピー!$B$5:$V$89,2,FALSE))","v":""},null,{"$f":"IF(D136=\"\",\"\",VLOOKUP(D136,data!$Q$4:$S$88,3,FALSE))","v":""},null,{"$f":"IF($D136=\"\",\"\",VLOOKUP($D136,登録用データのコピー!$B$5:$V$89,7,FALSE))","v":""},null,{"$f":"IF($D136=\"\",\"\",VLOOKUP($D136,登録用データのコピー!$B$5:$V$89,2,FALSE))","v":""}]
[null,5,null,null,null,{"$f":"IF($D137=\"\",\"\",VLOOKUP($D137,登録用データのコピー!$B$5:$V$89,2,FALSE))","v":""},null,{"$f":"IF($D137=\"\",\"\",VLOOKUP($D137,登録用データのコピー!$B$5:$V$89,3,FALSE))","v":""},null,{"$f":"IF($D137=\"\",\"\",VLOOKUP($D137,登録用データのコピー!$B$5:$V$89,2,FALSE))","v":""},null,{"$f":"IF($D137=\"\",\"\",VLOOKUP($D137,登録用データのコピー!$B$5:$V$89,2,FALSE))","v":""},null,{"$f":"IF(D137=\"\",\"\",VLOOKUP(D137,data!$Q$4:$S$88,3,FALSE))","v":""},null,{"$f":"IF($D137=\"\",\"\",VLOOKUP($D137,登録用データのコピー!$B$5:$V$89,7,FALSE))","v":""},null,{"$f":"IF($D137=\"\",\"\",VLOOKUP($D137,登録用データのコピー!$B$5:$V$89,2,FALSE))","v":""}]
[null,6,null,null,null,{"$f":"IF($D138=\"\",\"\",VLOOKUP($D138,登録用データのコピー!$B$5:$V$89,2,FALSE))","v":""},null,{"$f":"IF($D138=\"\",\"\",VLOOKUP($D138,登録用データのコピー!$B$5:$V$89,3,FALSE))","v":""},null,{"$f":"IF($D138=\"\",\"\",VLOOKUP($D138,登録用データのコピー!$B$5:$V$89,2,FALSE))","v":""},null,{"$f":"IF($D138=\"\",\"\",VLOOKUP($D138,登録用データのコピー!$B$5:$V$89,2,FALSE))","v":""},null,{"$f":"IF(D138=\"\",\"\",VLOOKUP(D138,data!$Q$4:$S$88,3,FALSE))","v":""},null,{"$f":"IF($D138=\"\",\"\",VLOOKUP($D138,登録用データのコピー!$B$5:$V$89,7,FALSE))","v":""},null,{"$f":"IF($D138=\"\",\"\",VLOOKUP($D138,登録用データのコピー!$B$5:$V$89,2,FALSE))","v":""}]
[null,7,null,null,null,{"$f":"IF($D139=\"\",\"\",VLOOKUP($D139,登録用データのコピー!$B$5:$V$89,2,FALSE))","v":""},null,{"$f":"IF($D139=\"\",\"\",VLOOKUP($D139,登録用データのコピー!$B$5:$V$89,3,FALSE))","v":""},null,{"$f":"IF($D139=\"\",\"\",VLOOKUP($D139,登録用データのコピー!$B$5:$V$89,2,FALSE))","v":""},null,{"$f":"IF($D139=\"\",\"\",VLOOKUP($D139,登録用データのコピー!$B$5:$V$89,2,FALSE))","v":""},null,{"$f":"IF(D139=\"\",\"\",VLOOKUP(D139,data!$Q$4:$S$88,3,FALSE))","v":""},null,{"$f":"IF($D139=\"\",\"\",VLOOKUP($D139,登録用データのコピー!$B$5:$V$89,7,FALSE))","v":""},null,{"$f":"IF($D139=\"\",\"\",VLOOKUP($D139,登録用データのコピー!$B$5:$V$89,2,FALSE))","v":""}]
[null,8,null,null,null,{"$f":"IF($D140=\"\",\"\",VLOOKUP($D140,登録用データのコピー!$B$5:$V$89,2,FALSE))","v":""},null,{"$f":"IF($D140=\"\",\"\",VLOOKUP($D140,登録用データのコピー!$B$5:$V$89,3,FALSE))","v":""},null,{"$f":"IF($D140=\"\",\"\",VLOOKUP($D140,登録用データのコピー!$B$5:$V$89,2,FALSE))","v":""},null,{"$f":"IF($D140=\"\",\"\",VLOOKUP($D140,登録用データのコピー!$B$5:$V$89,2,FALSE))","v":""},null,{"$f":"IF(D140=\"\",\"\",VLOOKUP(D140,data!$Q$4:$S$88,3,FALSE))","v":""},null,{"$f":"IF($D140=\"\",\"\",VLOOKUP($D140,登録用データのコピー!$B$5:$V$89,7,FALSE))","v":""},null,{"$f":"IF($D140=\"\",\"\",VLOOKUP($D140,登録用データのコピー!$B$5:$V$89,2,FALSE))","v":""},null,{"$f":"IF(SUM(D130:D140)>0,1,0 )","v":0}]
[null,null,{"$f":"TODAY()","v":"2022-05-27"},null,null,null,null,null,"上記の通り、参加料を添えて申し込みます。"]
[null,null,null,null,"学 校 名",null,null,{"$f":"VLOOKUP(R131,data!$A$3:$C$302,2,0)","v":{"$error":"#N/A"}}]
[]
[null,null,null,null,"顧 問 名",null,null,{"$f":"申込基本!$K$27","v":0},null,null,null,null,null,null,null,null,null,null,"印"]
[]
[null,"大阪卓球協会",null,null,null,null,null,null,null,"様",null,null,"顧問連絡先",null,null,{"$f":"申込基本!$P$17&\" ( \"&申込基本!$S$17&\" ) \"&申込基本!$V$17","v":" (  ) "}]
[]
[]
[]
[]
[]
[]
[]
[]
[]
[]
[]
[]
[null,{"$f":"申込基本!$C$5&\"　年度\"","v":"2022　年度"}]
[null,"第",1,"回","特別普及大会（学校対抗）"]
[null,"　　　　　　　　　申　　込　　書",null,null,null,null,null,null,null,null,null,null,null,null,null,null,null,"男子"]
[null,null,null,null,null,null,null,null,null,null,null,null,null,null,null,"チームF"]
[null,"学校名",null,null,{"$f":"VLOOKUP($R$5,data!$A$3:$C$302,3)","v":{"$error":"#N/A"}},null,null,"監督名",null,null,{"$f":"申込基本!$C$17","v":0},null,null,null,null,"学校番号",null,{"$f":"申込基本!$C$7","v":0}]
[null,"ランク",null,"整理番号",null,"会員ＩＤ",null,"名　　　　　　　　前",null,null,null,null,null,"学年",null,"生 年 月 日"]
[null,1,null,null,null,{"$f":"IF($D165=\"\",\"\",VLOOKUP($D165,登録用データのコピー!$B$5:$V$89,2,FALSE))","v":""},null,{"$f":"IF($D165=\"\",\"\",VLOOKUP($D165,登録用データのコピー!$B$5:$V$89,3,FALSE))","v":""},null,{"$f":"IF($D165=\"\",\"\",VLOOKUP($D165,登録用データのコピー!$B$5:$V$89,2,FALSE))","v":""},null,{"$f":"IF($D165=\"\",\"\",VLOOKUP($D165,登録用データのコピー!$B$5:$V$89,2,FALSE))","v":""},null,{"$f":"IF(D165=\"\",\"\",VLOOKUP(D165,data!$Q$4:$S$88,3,FALSE))","v":""},null,{"$f":"IF($D165=\"\",\"\",VLOOKUP($D165,登録用データのコピー!$B$5:$V$89,7,FALSE))","v":""},null,{"$f":"IF($D165=\"\",\"\",VLOOKUP($D165,登録用データのコピー!$B$5:$V$89,2,FALSE))","v":""}]
[null,2,null,null,null,{"$f":"IF($D166=\"\",\"\",VLOOKUP($D166,登録用データのコピー!$B$5:$V$89,2,FALSE))","v":""},null,{"$f":"IF($D166=\"\",\"\",VLOOKUP($D166,登録用データのコピー!$B$5:$V$89,3,FALSE))","v":""},null,{"$f":"IF($D166=\"\",\"\",VLOOKUP($D166,登録用データのコピー!$B$5:$V$89,2,FALSE))","v":""},null,{"$f":"IF($D166=\"\",\"\",VLOOKUP($D166,登録用データのコピー!$B$5:$V$89,2,FALSE))","v":""},null,{"$f":"IF(D166=\"\",\"\",VLOOKUP(D166,data!$Q$4:$S$88,3,FALSE))","v":""},null,{"$f":"IF($D166=\"\",\"\",VLOOKUP($D166,登録用データのコピー!$B$5:$V$89,7,FALSE))","v":""},null,{"$f":"IF($D166=\"\",\"\",VLOOKUP($D166,登録用データのコピー!$B$5:$V$89,2,FALSE))","v":""}]
[null,3,null,null,null,{"$f":"IF($D167=\"\",\"\",VLOOKUP($D167,登録用データのコピー!$B$5:$V$89,2,FALSE))","v":""},null,{"$f":"IF($D167=\"\",\"\",VLOOKUP($D167,登録用データのコピー!$B$5:$V$89,3,FALSE))","v":""},null,{"$f":"IF($D167=\"\",\"\",VLOOKUP($D167,登録用データのコピー!$B$5:$V$89,2,FALSE))","v":""},null,{"$f":"IF($D167=\"\",\"\",VLOOKUP($D167,登録用データのコピー!$B$5:$V$89,2,FALSE))","v":""},null,{"$f":"IF(D167=\"\",\"\",VLOOKUP(D167,data!$Q$4:$S$88,3,FALSE))","v":""},null,{"$f":"IF($D167=\"\",\"\",VLOOKUP($D167,登録用データのコピー!$B$5:$V$89,7,FALSE))","v":""},null,{"$f":"IF($D167=\"\",\"\",VLOOKUP($D167,登録用データのコピー!$B$5:$V$89,2,FALSE))","v":""}]
[null,4,null,null,null,{"$f":"IF($D168=\"\",\"\",VLOOKUP($D168,登録用データのコピー!$B$5:$V$89,2,FALSE))","v":""},null,{"$f":"IF($D168=\"\",\"\",VLOOKUP($D168,登録用データのコピー!$B$5:$V$89,3,FALSE))","v":""},null,{"$f":"IF($D168=\"\",\"\",VLOOKUP($D168,登録用データのコピー!$B$5:$V$89,2,FALSE))","v":""},null,{"$f":"IF($D168=\"\",\"\",VLOOKUP($D168,登録用データのコピー!$B$5:$V$89,2,FALSE))","v":""},null,{"$f":"IF(D168=\"\",\"\",VLOOKUP(D168,data!$Q$4:$S$88,3,FALSE))","v":""},null,{"$f":"IF($D168=\"\",\"\",VLOOKUP($D168,登録用データのコピー!$B$5:$V$89,7,FALSE))","v":""},null,{"$f":"IF($D168=\"\",\"\",VLOOKUP($D168,登録用データのコピー!$B$5:$V$89,2,FALSE))","v":""}]
[null,5,null,null,null,{"$f":"IF($D169=\"\",\"\",VLOOKUP($D169,登録用データのコピー!$B$5:$V$89,2,FALSE))","v":""},null,{"$f":"IF($D169=\"\",\"\",VLOOKUP($D169,登録用データのコピー!$B$5:$V$89,3,FALSE))","v":""},null,{"$f":"IF($D169=\"\",\"\",VLOOKUP($D169,登録用データのコピー!$B$5:$V$89,2,FALSE))","v":""},null,{"$f":"IF($D169=\"\",\"\",VLOOKUP($D169,登録用データのコピー!$B$5:$V$89,2,FALSE))","v":""},null,{"$f":"IF(D169=\"\",\"\",VLOOKUP(D169,data!$Q$4:$S$88,3,FALSE))","v":""},null,{"$f":"IF($D169=\"\",\"\",VLOOKUP($D169,登録用データのコピー!$B$5:$V$89,7,FALSE))","v":""},null,{"$f":"IF($D169=\"\",\"\",VLOOKUP($D169,登録用データのコピー!$B$5:$V$89,2,FALSE))","v":""}]
[null,6,null,null,null,{"$f":"IF($D170=\"\",\"\",VLOOKUP($D170,登録用データのコピー!$B$5:$V$89,2,FALSE))","v":""},null,{"$f":"IF($D170=\"\",\"\",VLOOKUP($D170,登録用データのコピー!$B$5:$V$89,3,FALSE))","v":""},null,{"$f":"IF($D170=\"\",\"\",VLOOKUP($D170,登録用データのコピー!$B$5:$V$89,2,FALSE))","v":""},null,{"$f":"IF($D170=\"\",\"\",VLOOKUP($D170,登録用データのコピー!$B$5:$V$89,2,FALSE))","v":""},null,{"$f":"IF(D170=\"\",\"\",VLOOKUP(D170,data!$Q$4:$S$88,3,FALSE))","v":""},null,{"$f":"IF($D170=\"\",\"\",VLOOKUP($D170,登録用データのコピー!$B$5:$V$89,7,FALSE))","v":""},null,{"$f":"IF($D170=\"\",\"\",VLOOKUP($D170,登録用データのコピー!$B$5:$V$89,2,FALSE))","v":""}]
[null,7,null,null,null,{"$f":"IF($D171=\"\",\"\",VLOOKUP($D171,登録用データのコピー!$B$5:$V$89,2,FALSE))","v":""},null,{"$f":"IF($D171=\"\",\"\",VLOOKUP($D171,登録用データのコピー!$B$5:$V$89,3,FALSE))","v":""},null,{"$f":"IF($D171=\"\",\"\",VLOOKUP($D171,登録用データのコピー!$B$5:$V$89,2,FALSE))","v":""},null,{"$f":"IF($D171=\"\",\"\",VLOOKUP($D171,登録用データのコピー!$B$5:$V$89,2,FALSE))","v":""},null,{"$f":"IF(D171=\"\",\"\",VLOOKUP(D171,data!$Q$4:$S$88,3,FALSE))","v":""},null,{"$f":"IF($D171=\"\",\"\",VLOOKUP($D171,登録用データのコピー!$B$5:$V$89,7,FALSE))","v":""},null,{"$f":"IF($D171=\"\",\"\",VLOOKUP($D171,登録用データのコピー!$B$5:$V$89,2,FALSE))","v":""}]
[null,8,null,null,null,{"$f":"IF($D172=\"\",\"\",VLOOKUP($D172,登録用データのコピー!$B$5:$V$89,2,FALSE))","v":""},null,{"$f":"IF($D172=\"\",\"\",VLOOKUP($D172,登録用データのコピー!$B$5:$V$89,3,FALSE))","v":""},null,{"$f":"IF($D172=\"\",\"\",VLOOKUP($D172,登録用データのコピー!$B$5:$V$89,2,FALSE))","v":""},null,{"$f":"IF($D172=\"\",\"\",VLOOKUP($D172,登録用データのコピー!$B$5:$V$89,2,FALSE))","v":""},null,{"$f":"IF(D172=\"\",\"\",VLOOKUP(D172,data!$Q$4:$S$88,3,FALSE))","v":""},null,{"$f":"IF($D172=\"\",\"\",VLOOKUP($D172,登録用データのコピー!$B$5:$V$89,7,FALSE))","v":""},null,{"$f":"IF($D172=\"\",\"\",VLOOKUP($D172,登録用データのコピー!$B$5:$V$89,2,FALSE))","v":""},null,{"$f":"IF(SUM(D162:D172)>0,1,0 )","v":0}]
[null,null,{"$f":"TODAY()","v":"2022-05-27"},null,null,null,null,null,"上記の通り、参加料を添えて申し込みます。"]
[null,null,null,null,"学 校 名",null,null,{"$f":"VLOOKUP(R163,data!$A$3:$C$302,2,0)","v":{"$error":"#N/A"}}]
[]
[null,null,null,null,"顧 問 名",null,null,{"$f":"申込基本!$K$27","v":0},null,null,null,null,null,null,null,null,null,null,"印"]
[]
[null,"大阪卓球協会",null,null,null,null,null,null,null,"様",null,null,"顧問連絡先",null,null,{"$f":"申込基本!$P$17&\" ( \"&申込基本!$S$17&\" ) \"&申込基本!$V$17","v":" (  ) "}]
[]
[]
[]
[]
[]
[]
[]
[]
[]
[]
[]
[]
[null,{"$f":"申込基本!$C$5&\"　年度\"","v":"2022　年度"}]
[null,"第",1,"回","特別普及大会（学校対抗）"]
[null,"　　　　　　　　　申　　込　　書",null,null,null,null,null,null,null,null,null,null,null,null,null,null,null,"男子"]
[null,null,null,null,null,null,null,null,null,null,null,null,null,null,null,"チームG"]
[null,"学校名",null,null,{"$f":"VLOOKUP($R$5,data!$A$3:$C$302,3)","v":{"$error":"#N/A"}},null,null,"監督名",null,null,{"$f":"申込基本!$C$17","v":0},null,null,null,null,"学校番号",null,{"$f":"申込基本!$C$7","v":0}]
[null,"ランク",null,"整理番号",null,"会員ＩＤ",null,"名　　　　　　　　前",null,null,null,null,null,"学年",null,"生 年 月 日"]
[null,1,null,null,null,{"$f":"IF($D197=\"\",\"\",VLOOKUP($D197,登録用データのコピー!$B$5:$V$89,2,FALSE))","v":""},null,{"$f":"IF($D197=\"\",\"\",VLOOKUP($D197,登録用データのコピー!$B$5:$V$89,3,FALSE))","v":""},null,{"$f":"IF($D197=\"\",\"\",VLOOKUP($D197,登録用データのコピー!$B$5:$V$89,2,FALSE))","v":""},null,{"$f":"IF($D197=\"\",\"\",VLOOKUP($D197,登録用データのコピー!$B$5:$V$89,2,FALSE))","v":""},null,{"$f":"IF(D197=\"\",\"\",VLOOKUP(D197,data!$Q$4:$S$88,3,FALSE))","v":""},null,{"$f":"IF($D197=\"\",\"\",VLOOKUP($D197,登録用データのコピー!$B$5:$V$89,7,FALSE))","v":""},null,{"$f":"IF($D197=\"\",\"\",VLOOKUP($D197,登録用データのコピー!$B$5:$V$89,2,FALSE))","v":""}]
[null,2,null,null,null,{"$f":"IF($D198=\"\",\"\",VLOOKUP($D198,登録用データのコピー!$B$5:$V$89,2,FALSE))","v":""},null,{"$f":"IF($D198=\"\",\"\",VLOOKUP($D198,登録用データのコピー!$B$5:$V$89,3,FALSE))","v":""},null,{"$f":"IF($D198=\"\",\"\",VLOOKUP($D198,登録用データのコピー!$B$5:$V$89,2,FALSE))","v":""},null,{"$f":"IF($D198=\"\",\"\",VLOOKUP($D198,登録用データのコピー!$B$5:$V$89,2,FALSE))","v":""},null,{"$f":"IF(D198=\"\",\"\",VLOOKUP(D198,data!$Q$4:$S$88,3,FALSE))","v":""},null,{"$f":"IF($D198=\"\",\"\",VLOOKUP($D198,登録用データのコピー!$B$5:$V$89,7,FALSE))","v":""},null,{"$f":"IF($D198=\"\",\"\",VLOOKUP($D198,登録用データのコピー!$B$5:$V$89,2,FALSE))","v":""}]
[null,3,null,null,null,{"$f":"IF($D199=\"\",\"\",VLOOKUP($D199,登録用データのコピー!$B$5:$V$89,2,FALSE))","v":""},null,{"$f":"IF($D199=\"\",\"\",VLOOKUP($D199,登録用データのコピー!$B$5:$V$89,3,FALSE))","v":""},null,{"$f":"IF($D199=\"\",\"\",VLOOKUP($D199,登録用データのコピー!$B$5:$V$89,2,FALSE))","v":""},null,{"$f":"IF($D199=\"\",\"\",VLOOKUP($D199,登録用データのコピー!$B$5:$V$89,2,FALSE))","v":""},null,{"$f":"IF(D199=\"\",\"\",VLOOKUP(D199,data!$Q$4:$S$88,3,FALSE))","v":""},null,{"$f":"IF($D199=\"\",\"\",VLOOKUP($D199,登録用データのコピー!$B$5:$V$89,7,FALSE))","v":""},null,{"$f":"IF($D199=\"\",\"\",VLOOKUP($D199,登録用データのコピー!$B$5:$V$89,2,FALSE))","v":""}]
[null,4,null,null,null,{"$f":"IF($D200=\"\",\"\",VLOOKUP($D200,登録用データのコピー!$B$5:$V$89,2,FALSE))","v":""},null,{"$f":"IF($D200=\"\",\"\",VLOOKUP($D200,登録用データのコピー!$B$5:$V$89,3,FALSE))","v":""},null,{"$f":"IF($D200=\"\",\"\",VLOOKUP($D200,登録用データのコピー!$B$5:$V$89,2,FALSE))","v":""},null,{"$f":"IF($D200=\"\",\"\",VLOOKUP($D200,登録用データのコピー!$B$5:$V$89,2,FALSE))","v":""},null,{"$f":"IF(D200=\"\",\"\",VLOOKUP(D200,data!$Q$4:$S$88,3,FALSE))","v":""},null,{"$f":"IF($D200=\"\",\"\",VLOOKUP($D200,登録用データのコピー!$B$5:$V$89,7,FALSE))","v":""},null,{"$f":"IF($D200=\"\",\"\",VLOOKUP($D200,登録用データのコピー!$B$5:$V$89,2,FALSE))","v":""}]
[null,5,null,null,null,{"$f":"IF($D201=\"\",\"\",VLOOKUP($D201,登録用データのコピー!$B$5:$V$89,2,FALSE))","v":""},null,{"$f":"IF($D201=\"\",\"\",VLOOKUP($D201,登録用データのコピー!$B$5:$V$89,3,FALSE))","v":""},null,{"$f":"IF($D201=\"\",\"\",VLOOKUP($D201,登録用データのコピー!$B$5:$V$89,2,FALSE))","v":""},null,{"$f":"IF($D201=\"\",\"\",VLOOKUP($D201,登録用データのコピー!$B$5:$V$89,2,FALSE))","v":""},null,{"$f":"IF(D201=\"\",\"\",VLOOKUP(D201,data!$Q$4:$S$88,3,FALSE))","v":""},null,{"$f":"IF($D201=\"\",\"\",VLOOKUP($D201,登録用データのコピー!$B$5:$V$89,7,FALSE))","v":""},null,{"$f":"IF($D201=\"\",\"\",VLOOKUP($D201,登録用データのコピー!$B$5:$V$89,2,FALSE))","v":""}]
[null,6,null,null,null,{"$f":"IF($D202=\"\",\"\",VLOOKUP($D202,登録用データのコピー!$B$5:$V$89,2,FALSE))","v":""},null,{"$f":"IF($D202=\"\",\"\",VLOOKUP($D202,登録用データのコピー!$B$5:$V$89,3,FALSE))","v":""},null,{"$f":"IF($D202=\"\",\"\",VLOOKUP($D202,登録用データのコピー!$B$5:$V$89,2,FALSE))","v":""},null,{"$f":"IF($D202=\"\",\"\",VLOOKUP($D202,登録用データのコピー!$B$5:$V$89,2,FALSE))","v":""},null,{"$f":"IF(D202=\"\",\"\",VLOOKUP(D202,data!$Q$4:$S$88,3,FALSE))","v":""},null,{"$f":"IF($D202=\"\",\"\",VLOOKUP($D202,登録用データのコピー!$B$5:$V$89,7,FALSE))","v":""},null,{"$f":"IF($D202=\"\",\"\",VLOOKUP($D202,登録用データのコピー!$B$5:$V$89,2,FALSE))","v":""}]
[null,7,null,null,null,{"$f":"IF($D203=\"\",\"\",VLOOKUP($D203,登録用データのコピー!$B$5:$V$89,2,FALSE))","v":""},null,{"$f":"IF($D203=\"\",\"\",VLOOKUP($D203,登録用データのコピー!$B$5:$V$89,3,FALSE))","v":""},null,{"$f":"IF($D203=\"\",\"\",VLOOKUP($D203,登録用データのコピー!$B$5:$V$89,2,FALSE))","v":""},null,{"$f":"IF($D203=\"\",\"\",VLOOKUP($D203,登録用データのコピー!$B$5:$V$89,2,FALSE))","v":""},null,{"$f":"IF(D203=\"\",\"\",VLOOKUP(D203,data!$Q$4:$S$88,3,FALSE))","v":""},null,{"$f":"IF($D203=\"\",\"\",VLOOKUP($D203,登録用データのコピー!$B$5:$V$89,7,FALSE))","v":""},null,{"$f":"IF($D203=\"\",\"\",VLOOKUP($D203,登録用データのコピー!$B$5:$V$89,2,FALSE))","v":""}]
[null,8,null,null,null,{"$f":"IF($D204=\"\",\"\",VLOOKUP($D204,登録用データのコピー!$B$5:$V$89,2,FALSE))","v":""},null,{"$f":"IF($D204=\"\",\"\",VLOOKUP($D204,登録用データのコピー!$B$5:$V$89,3,FALSE))","v":""},null,{"$f":"IF($D204=\"\",\"\",VLOOKUP($D204,登録用データのコピー!$B$5:$V$89,2,FALSE))","v":""},null,{"$f":"IF($D204=\"\",\"\",VLOOKUP($D204,登録用データのコピー!$B$5:$V$89,2,FALSE))","v":""},null,{"$f":"IF(D204=\"\",\"\",VLOOKUP(D204,data!$Q$4:$S$88,3,FALSE))","v":""},null,{"$f":"IF($D204=\"\",\"\",VLOOKUP($D204,登録用データのコピー!$B$5:$V$89,7,FALSE))","v":""},null,{"$f":"IF($D204=\"\",\"\",VLOOKUP($D204,登録用データのコピー!$B$5:$V$89,2,FALSE))","v":""},null,{"$f":"IF(SUM(D194:D204)>0,1,0 )","v":0}]
[null,null,{"$f":"TODAY()","v":"2022-05-27"},null,null,null,null,null,"上記の通り、参加料を添えて申し込みます。"]
[null,null,null,null,"学 校 名",null,null,{"$f":"VLOOKUP(R195,data!$A$3:$C$302,2,0)","v":{"$error":"#N/A"}}]
[]
[null,null,null,null,"顧 問 名",null,null,{"$f":"申込基本!$K$27","v":0},null,null,null,null,null,null,null,null,null,null,"印"]
[]
[null,"大阪卓球協会",null,null,null,null,null,null,null,"様",null,null,"顧問連絡先",null,null,{"$f":"申込基本!$P$17&\" ( \"&申込基本!$S$17&\" ) \"&申込基本!$V$17","v":" (  ) "}]
[]
[]
[]
[]
[]
[]
[]
[]
[]
[]
[]
[]
[null,{"$f":"申込基本!$C$5&\"　年度\"","v":"2022　年度"}]
[null,"第",1,"回","特別普及大会（学校対抗）"]
[null,"　　　　　　　　　申　　込　　書",null,null,null,null,null,null,null,null,null,null,null,null,null,null,null,"男子"]
[null,null,null,null,null,null,null,null,null,null,null,null,null,null,null,"チームH"]
[null,"学校名",null,null,{"$f":"VLOOKUP($R$5,data!$A$3:$C$302,3)","v":{"$error":"#N/A"}},null,null,"監督名",null,null,{"$f":"申込基本!$C$17","v":0},null,null,null,null,"学校番号",null,{"$f":"申込基本!$C$7","v":0}]
[null,"ランク",null,"整理番号",null,"会員ＩＤ",null,"名　　　　　　　　前",null,null,null,null,null,"学年",null,"生 年 月 日"]
[null,1,null,null,null,{"$f":"IF($D229=\"\",\"\",VLOOKUP($D229,登録用データのコピー!$B$5:$V$89,2,FALSE))","v":""},null,{"$f":"IF($D229=\"\",\"\",VLOOKUP($D229,登録用データのコピー!$B$5:$V$89,3,FALSE))","v":""},null,{"$f":"IF($D229=\"\",\"\",VLOOKUP($D229,登録用データのコピー!$B$5:$V$89,2,FALSE))","v":""},null,{"$f":"IF($D229=\"\",\"\",VLOOKUP($D229,登録用データのコピー!$B$5:$V$89,2,FALSE))","v":""},null,{"$f":"IF(D229=\"\",\"\",VLOOKUP(D229,data!$Q$4:$S$88,3,FALSE))","v":""},null,{"$f":"IF($D229=\"\",\"\",VLOOKUP($D229,登録用データのコピー!$B$5:$V$89,7,FALSE))","v":""},null,{"$f":"IF($D229=\"\",\"\",VLOOKUP($D229,登録用データのコピー!$B$5:$V$89,2,FALSE))","v":""}]
[null,2,null,null,null,{"$f":"IF($D230=\"\",\"\",VLOOKUP($D230,登録用データのコピー!$B$5:$V$89,2,FALSE))","v":""},null,{"$f":"IF($D230=\"\",\"\",VLOOKUP($D230,登録用データのコピー!$B$5:$V$89,3,FALSE))","v":""},null,{"$f":"IF($D230=\"\",\"\",VLOOKUP($D230,登録用データのコピー!$B$5:$V$89,2,FALSE))","v":""},null,{"$f":"IF($D230=\"\",\"\",VLOOKUP($D230,登録用データのコピー!$B$5:$V$89,2,FALSE))","v":""},null,{"$f":"IF(D230=\"\",\"\",VLOOKUP(D230,data!$Q$4:$S$88,3,FALSE))","v":""},null,{"$f":"IF($D230=\"\",\"\",VLOOKUP($D230,登録用データのコピー!$B$5:$V$89,7,FALSE))","v":""},null,{"$f":"IF($D230=\"\",\"\",VLOOKUP($D230,登録用データのコピー!$B$5:$V$89,2,FALSE))","v":""}]
[null,3,null,null,null,{"$f":"IF($D231=\"\",\"\",VLOOKUP($D231,登録用データのコピー!$B$5:$V$89,2,FALSE))","v":""},null,{"$f":"IF($D231=\"\",\"\",VLOOKUP($D231,登録用データのコピー!$B$5:$V$89,3,FALSE))","v":""},null,{"$f":"IF($D231=\"\",\"\",VLOOKUP($D231,登録用データのコピー!$B$5:$V$89,2,FALSE))","v":""},null,{"$f":"IF($D231=\"\",\"\",VLOOKUP($D231,登録用データのコピー!$B$5:$V$89,2,FALSE))","v":""},null,{"$f":"IF(D231=\"\",\"\",VLOOKUP(D231,data!$Q$4:$S$88,3,FALSE))","v":""},null,{"$f":"IF($D231=\"\",\"\",VLOOKUP($D231,登録用データのコピー!$B$5:$V$89,7,FALSE))","v":""},null,{"$f":"IF($D231=\"\",\"\",VLOOKUP($D231,登録用データのコピー!$B$5:$V$89,2,FALSE))","v":""}]
[null,4,null,null,null,{"$f":"IF($D232=\"\",\"\",VLOOKUP($D232,登録用データのコピー!$B$5:$V$89,2,FALSE))","v":""},null,{"$f":"IF($D232=\"\",\"\",VLOOKUP($D232,登録用データのコピー!$B$5:$V$89,3,FALSE))","v":""},null,{"$f":"IF($D232=\"\",\"\",VLOOKUP($D232,登録用データのコピー!$B$5:$V$89,2,FALSE))","v":""},null,{"$f":"IF($D232=\"\",\"\",VLOOKUP($D232,登録用データのコピー!$B$5:$V$89,2,FALSE))","v":""},null,{"$f":"IF(D232=\"\",\"\",VLOOKUP(D232,data!$Q$4:$S$88,3,FALSE))","v":""},null,{"$f":"IF($D232=\"\",\"\",VLOOKUP($D232,登録用データのコピー!$B$5:$V$89,7,FALSE))","v":""},null,{"$f":"IF($D232=\"\",\"\",VLOOKUP($D232,登録用データのコピー!$B$5:$V$89,2,FALSE))","v":""}]
[null,5,null,null,null,{"$f":"IF($D233=\"\",\"\",VLOOKUP($D233,登録用データのコピー!$B$5:$V$89,2,FALSE))","v":""},null,{"$f":"IF($D233=\"\",\"\",VLOOKUP($D233,登録用データのコピー!$B$5:$V$89,3,FALSE))","v":""},null,{"$f":"IF($D233=\"\",\"\",VLOOKUP($D233,登録用データのコピー!$B$5:$V$89,2,FALSE))","v":""},null,{"$f":"IF($D233=\"\",\"\",VLOOKUP($D233,登録用データのコピー!$B$5:$V$89,2,FALSE))","v":""},null,{"$f":"IF(D233=\"\",\"\",VLOOKUP(D233,data!$Q$4:$S$88,3,FALSE))","v":""},null,{"$f":"IF($D233=\"\",\"\",VLOOKUP($D233,登録用データのコピー!$B$5:$V$89,7,FALSE))","v":""},null,{"$f":"IF($D233=\"\",\"\",VLOOKUP($D233,登録用データのコピー!$B$5:$V$89,2,FALSE))","v":""}]
[null,6,null,null,null,{"$f":"IF($D234=\"\",\"\",VLOOKUP($D234,登録用データのコピー!$B$5:$V$89,2,FALSE))","v":""},null,{"$f":"IF($D234=\"\",\"\",VLOOKUP($D234,登録用データのコピー!$B$5:$V$89,3,FALSE))","v":""},null,{"$f":"IF($D234=\"\",\"\",VLOOKUP($D234,登録用データのコピー!$B$5:$V$89,2,FALSE))","v":""},null,{"$f":"IF($D234=\"\",\"\",VLOOKUP($D234,登録用データのコピー!$B$5:$V$89,2,FALSE))","v":""},null,{"$f":"IF(D234=\"\",\"\",VLOOKUP(D234,data!$Q$4:$S$88,3,FALSE))","v":""},null,{"$f":"IF($D234=\"\",\"\",VLOOKUP($D234,登録用データのコピー!$B$5:$V$89,7,FALSE))","v":""},null,{"$f":"IF($D234=\"\",\"\",VLOOKUP($D234,登録用データのコピー!$B$5:$V$89,2,FALSE))","v":""}]
[null,7,null,null,null,{"$f":"IF($D235=\"\",\"\",VLOOKUP($D235,登録用データのコピー!$B$5:$V$89,2,FALSE))","v":""},null,{"$f":"IF($D235=\"\",\"\",VLOOKUP($D235,登録用データのコピー!$B$5:$V$89,3,FALSE))","v":""},null,{"$f":"IF($D235=\"\",\"\",VLOOKUP($D235,登録用データのコピー!$B$5:$V$89,2,FALSE))","v":""},null,{"$f":"IF($D235=\"\",\"\",VLOOKUP($D235,登録用データのコピー!$B$5:$V$89,2,FALSE))","v":""},null,{"$f":"IF(D235=\"\",\"\",VLOOKUP(D235,data!$Q$4:$S$88,3,FALSE))","v":""},null,{"$f":"IF($D235=\"\",\"\",VLOOKUP($D235,登録用データのコピー!$B$5:$V$89,7,FALSE))","v":""},null,{"$f":"IF($D235=\"\",\"\",VLOOKUP($D235,登録用データのコピー!$B$5:$V$89,2,FALSE))","v":""}]
[null,8,null,null,null,{"$f":"IF($D236=\"\",\"\",VLOOKUP($D236,登録用データのコピー!$B$5:$V$89,2,FALSE))","v":""},null,{"$f":"IF($D236=\"\",\"\",VLOOKUP($D236,登録用データのコピー!$B$5:$V$89,3,FALSE))","v":""},null,{"$f":"IF($D236=\"\",\"\",VLOOKUP($D236,登録用データのコピー!$B$5:$V$89,2,FALSE))","v":""},null,{"$f":"IF($D236=\"\",\"\",VLOOKUP($D236,登録用データのコピー!$B$5:$V$89,2,FALSE))","v":""},null,{"$f":"IF(D236=\"\",\"\",VLOOKUP(D236,data!$Q$4:$S$88,3,FALSE))","v":""},null,{"$f":"IF($D236=\"\",\"\",VLOOKUP($D236,登録用データのコピー!$B$5:$V$89,7,FALSE))","v":""},null,{"$f":"IF($D236=\"\",\"\",VLOOKUP($D236,登録用データのコピー!$B$5:$V$89,2,FALSE))","v":""},null,{"$f":"IF(SUM(D226:D236)>0,1,0 )","v":0}]
[null,null,{"$f":"TODAY()","v":"2022-05-27"},null,null,null,null,null,"上記の通り、参加料を添えて申し込みます。"]
[null,null,null,null,"学 校 名",null,null,{"$f":"VLOOKUP(R227,data!$A$3:$C$302,2,0)","v":{"$error":"#N/A"}}]
[]
[null,null,null,null,"顧 問 名",null,null,{"$f":"申込基本!$K$27","v":0},null,null,null,null,null,null,null,null,null,null,"印"]
[]
[null,"大阪卓球協会",null,null,null,null,null,null,null,"様",null,null,"顧問連絡先",null,null,{"$f":"申込基本!$P$17&\" ( \"&申込基本!$S$17&\" ) \"&申込基本!$V$17","v":" (  ) "}]

{"sheet":"送信用（学校対抗4人以上）","index":3,"n_rows":9,"n_cols":11,"rows_kept":9,"cut":false,"hidden":false,"merged":[]}
["学校番号","学校名","チーム","選手名"]
[{"$f":"申込基本!$C$7","v":0},{"$f":"'入力用（学校対抗4人以上）'!$E$5","v":{"$error":"#N/A"}},"A",{"$f":"'入力用（学校対抗4人以上）'!$H7&'入力用（学校対抗4人以上）'!$N7","v":""},{"$f":"'入力用（学校対抗4人以上）'!$H8&'入力用（学校対抗4人以上）'!$N8","v":""},{"$f":"'入力用（学校対抗4人以上）'!$H9&'入力用（学校対抗4人以上）'!$N9","v":""},{"$f":"'入力用（学校対抗4人以上）'!$H10&'入力用（学校対抗4人以上）'!$N10","v":""},{"$f":"'入力用（学校対抗4人以上）'!$H11&'入力用（学校対抗4人以上）'!$N11","v":""},{"$f":"'入力用（学校対抗4人以上）'!$H12&'入力用（学校対抗4人以上）'!$N12","v":""},{"$f":"'入力用（学校対抗4人以上）'!$H13&'入力用（学校対抗4人以上）'!$N13","v":""},{"$f":"'入力用（学校対抗4人以上）'!$H14&'入力用（学校対抗4人以上）'!$N14","v":""}]
[{"$f":"申込基本!$C$7","v":0},{"$f":"'入力用（学校対抗4人以上）'!$E$5","v":{"$error":"#N/A"}},"B",{"$f":"'入力用（学校対抗4人以上）'!$H37&'入力用（学校対抗4人以上）'!$N37","v":""},{"$f":"'入力用（学校対抗4人以上）'!$H38&'入力用（学校対抗4人以上）'!$N38","v":""},{"$f":"'入力用（学校対抗4人以上）'!$H39&'入力用（学校対抗4人以上）'!$N39","v":""},{"$f":"'入力用（学校対抗4人以上）'!$H40&'入力用（学校対抗4人以上）'!$N40","v":""},{"$f":"'入力用（学校対抗4人以上）'!$H41&'入力用（学校対抗4人以上）'!$N41","v":""},{"$f":"'入力用（学校対抗4人以上）'!$H42&'入力用（学校対抗4人以上）'!$N42","v":""},{"$f":"'入力用（学校対抗4人以上）'!$H43&'入力用（学校対抗4人以上）'!$N43","v":""},{"$f":"'入力用（学校対抗4人以上）'!$H44&'入力用（学校対抗4人以上）'!$N44","v":""}]
[{"$f":"申込基本!$C$7","v":0},{"$f":"'入力用（学校対抗4人以上）'!$E$5","v":{"$error":"#N/A"}},"C",{"$f":"'入力用（学校対抗4人以上）'!$H69&'入力用（学校対抗4人以上）'!$N69","v":""},{"$f":"'入力用（学校対抗4人以上）'!$H70&'入力用（学校対抗4人以上）'!$N70","v":""},{"$f":"'入力用（学校対抗4人以上）'!$H71&'入力用（学校対抗4人以上）'!$N71","v":""},{"$f":"'入力用（学校対抗4人以上）'!$H72&'入力用（学校対抗4人以上）'!$N72","v":""},{"$f":"'入力用（学校対抗4人以上）'!$H73&'入力用（学校対抗4人以上）'!$N73","v":""},{"$f":"'入力用（学校対抗4人以上）'!$H74&'入力用（学校対抗4人以上）'!$N74","v":""},{"$f":"'入力用（学校対抗4人以上）'!$H75&'入力用（学校対抗4人以上）'!$N75","v":""},{"$f":"'入力用（学校対抗4人以上）'!$H76&'入力用（学校対抗4人以上）'!$N76","v":""}]
[{"$f":"申込基本!$C$7","v":0},{"$f":"'入力用（学校対抗4人以上）'!$E$5","v":{"$error":"#N/A"}},"D",{"$f":"'入力用（学校対抗4人以上）'!$H101&'入力用（学校対抗4人以上）'!$N101","v":""},{"$f":"'入力用（学校対抗4人以上）'!$H102&'入力用（学校対抗4人以上）'!$N102","v":""},{"$f":"'入力用（学校対抗4人以上）'!$H103&'入力用（学校対抗4人以上）'!$N103","v":""},{"$f":"'入力用（学校対抗4人以上）'!$H104&'入力用（学校対抗4人以上）'!$N104","v":""},{"$f":"'入力用（学校対抗4人以上）'!$H105&'入力用（学校対抗4人以上）'!$N105","v":""},{"$f":"'入力用（学校対抗4人以上）'!$H106&'入力用（学校対抗4人以上）'!$N106","v":""},{"$f":"'入力用（学校対抗4人以上）'!$H107&'入力用（学校対抗4人以上）'!$N107","v":""},{"$f":"'入力用（学校対抗4人以上）'!$H108&'入力用（学校対抗4人以上）'!$N108","v":""}]
[{"$f":"申込基本!$C$7","v":0},{"$f":"'入力用（学校対抗4人以上）'!$E$5","v":{"$error":"#N/A"}},"E",{"$f":"'入力用（学校対抗4人以上）'!$H133&'入力用（学校対抗4人以上）'!$N133","v":""},{"$f":"'入力用（学校対抗4人以上）'!$H134&'入力用（学校対抗4人以上）'!$N134","v":""},{"$f":"'入力用（学校対抗4人以上）'!$H135&'入力用（学校対抗4人以上）'!$N135","v":""},{"$f":"'入力用（学校対抗4人以上）'!$H136&'入力用（学校対抗4人以上）'!$N136","v":""},{"$f":"'入力用（学校対抗4人以上）'!$H137&'入力用（学校対抗4人以上）'!$N137","v":""},{"$f":"'入力用（学校対抗4人以上）'!$H138&'入力用（学校対抗4人以上）'!$N138","v":""},{"$f":"'入力用（学校対抗4人以上）'!$H139&'入力用（学校対抗4人以上）'!$N139","v":""},{"$f":"'入力用（学校対抗4人以上）'!$H140&'入力用（学校対抗4人以上）'!$N140","v":""}]
[{"$f":"申込基本!$C$7","v":0},{"$f":"'入力用（学校対抗4人以上）'!$E$5","v":{"$error":"#N/A"}},"F",{"$f":"'入力用（学校対抗4人以上）'!$H165&'入力用（学校対抗4人以上）'!$N165","v":""},{"$f":"'入力用（学校対抗4人以上）'!$H166&'入力用（学校対抗4人以上）'!$N166","v":""},{"$f":"'入力用（学校対抗4人以上）'!$H167&'入力用（学校対抗4人以上）'!$N167","v":""},{"$f":"'入力用（学校対抗4人以上）'!$H168&'入力用（学校対抗4人以上）'!$N168","v":""},{"$f":"'入力用（学校対抗4人以上）'!$H169&'入力用（学校対抗4人以上）'!$N169","v":""},{"$f":"'入力用（学校対抗4人以上）'!$H170&'入力用（学校対抗4人以上）'!$N170","v":""},{"$f":"'入力用（学校対抗4人以上）'!$H171&'入力用（学校対抗4人以上）'!$N171","v":""},{"$f":"'入力用（学校対抗4人以上）'!$H172&'入力用（学校対抗4人以上）'!$N172","v":""}]
[{"$f":"申込基本!$C$7","v":0},{"$f":"'入力用（学校対抗4人以上）'!$E$5","v":{"$error":"#N/A"}},"G",{"$f":"'入力用（学校対抗4人以上）'!$H197&'入力用（学校対抗4人以上）'!$N197","v":""},{"$f":"'入力用（学校対抗4人以上）'!$H198&'入力用（学校対抗4人以上）'!$N198","v":""},{"$f":"'入力用（学校対抗4人以上）'!$H199&'入力用（学校対抗4人以上）'!$N199","v":""},{"$f":"'入力用（学校対抗4人以上）'!$H200&'入力用（学校対抗4人以上）'!$N200","v":""},{"$f":"'入力用（学校対抗4人以上）'!$H201&'入力用（学校対抗4人以上）'!$N201","v":""},{"$f":"'入力用（学校対抗4人以上）'!$H202&'入力用（学校対抗4人以上）'!$N202","v":""},{"$f":"'入力用（学校対抗4人以上）'!$H203&'入力用（学校対抗4人以上）'!$N203","v":""},{"$f":"'入力用（学校対抗4人以上）'!$H204&'入力用（学校対抗4人以上）'!$N204","v":""}]
[{"$f":"申込基本!$C$7","v":0},{"$f":"'入力用（学校対抗4人以上）'!$E$5","v":{"$error":"#N/A"}},"H",{"$f":"'入力用（学校対抗4人以上）'!$H229&'入力用（学校対抗4人以上）'!$N229","v":""},{"$f":"'入力用（学校対抗4人以上）'!$H230&'入力用（学校対抗4人以上）'!$N230","v":""},{"$f":"'入力用（学校対抗4人以上）'!$H231&'入力用（学校対抗4人以上）'!$N231","v":""},{"$f":"'入力用（学校対抗4人以上）'!$H232&'入力用（学校対抗4人以上）'!$N232","v":""},{"$f":"'入力用（学校対抗4人以上）'!$H233&'入力用（学校対抗4人以上）'!$N233","v":""},{"$f":"'入力用（学校対抗4人以上）'!$H234&'入力用（学校対抗4人以上）'!$N234","v":""},{"$f":"'入力用（学校対抗4人以上）'!$H235&'入力用（学校対抗4人以上）'!$N235","v":""},{"$f":"'入力用（学校対抗4人以上）'!$H236&'入力用（学校対抗4人以上）'!$N236","v":""}]

{"sheet":"入力用（学校対抗3人以下）","index":4,"n_rows":242,"n_cols":22,"rows_kept":242,"cut":false,"hidden":false,"merged":[[4,17,4,18],[4,21,5,22],[5,1,5,2],[5,3,5,4],[5,5,5,6],[5,7,5,12],[5,13,5,14],[5,15,5,18],[0,1,0,18],[1,4,1,14],[2,1,2,16],[2,17,2,18],[3,15,3,18],[4,1,4,3],[4,4,4,6],[4,7,4,9],[4,10,4,14],[4,15,4,16],[6,21,9,30],[7,1,7,2],[7,3,7,4],[7,5,7,6],[7,7,7,12],[7,13,7,14],[7,15,7,18],[8,1,8,2],[8,3,8,4],[8,5,8,6],[6,1,6,2],[6,3,6,4],[6,5,6,6],[6,7,6,12],[6,13,6,14],[6,15,6,18],[11,1,13,18],[10,1,10,2],[10,3,10,4],[10,5,10,6],[10,7,10,12],[10,13,10,14],[10,15,10,18],[8,7,8,12],[8,13,8,14],[8,15,8,18],[9,1,9,2],[9,3,9,4],[9,5,9,6],[9,7,9,12],[9,13,9,14],[9,15,9,18],[19,1,19,7],[19,9,19,10],[22,1,23,4],[22,8,23,17],[22,18,23,18],[24,4,25,13],[14,2,14,7],[14,8,14,18],[15,4,16,6],[15,7,16,18],[17,4,18,6],[17,7,18,16],[17,18,18,18],[34,1,34,3],[34,4,34,6],[34,7,34,9],[34,10,34,14],[34,15,34,16],[34,17,34,18],[28,8,29,17],[30,1,30,18],[31,4,31,14],[32,1,32,16],[32,17,32,18],[33,15,33,18],[36,1,36,2],[36,3,36,4],[36,5,36,6],[36,7,36,12],[36,13,36,14],[36,15,36,18],[35,1,35,2],[35,3,35,4],[35,5,35,6],[35,7,35,12],[35,13,35,14],[35,15,35,18],[38,1,38,2],[38,3,38,4],[38,5,38,6],[38,7,38,12],[38,13,38,14],[38,15,38,18],[37,1,37,2],[37,3,37,4],[37,5,37,6],[37,7,37,12],[37,13,37,14],[37,15,37,18],[41,1,43,18],[40,1,40,2],[40,3,40,4],[40,5,40,6],[40,7,40,12],[40,13,40,14],[40,15,40,18],[39,1,39,2],[39,3,39,4],[39,5,39,6],[39,7,39,12],[39,13,39,14],[39,15,39,18],[49,1,49,7],[49,9,49,10],[51,0,61,19],[62,1,62,18],[63,4,63,14],[64,1,64,16],[64,17,64,18],[44,2,44,7],[44,8,44,18],[45,4,46,6],[45,7,46,18],[47,4,48,6],[47,7,48,16],[47,18,48,18],[67,1,67,2],[67,3,67,4],[67,5,67,6],[67,7,67,12],[67,13,67,14],[67,15,67,18],[65,15,65,18],[66,1,66,3],[66,4,66,6],[66,7,66,9],[66,10,66,14],[66,15,66,16],[66,17,66,18],[69,1,69,2],[69,3,69,4],[69,5,69,6],[69,7,69,12],[69,13,69,14],[69,15,69,18],[68,1,68,2],[68,3,68,4],[68,5,68,6],[68,7,68,12],[68,13,68,14],[68,15,68,18],[71,1,71,2],[71,3,71,4],[71,5,71,6],[71,7,71,12],[71,13,71,14],[71,15,71,18],[70,1,70,2],[70,3,70,4],[70,5,70,6],[70,7,70,12],[70,13,70,14],[70,15,70,18],[76,2,76,7],[76,8,76,18],[77,4,78,6],[77,7,78,18],[79,4,80,6],[79,7,80,16],[79,18,80,18],[73,1,75,18],[72,1,72,2],[72,3,72,4],[72,5,72,6],[72,7,72,12],[72,13,72,14],[72,15,72,18],[97,15,97,18],[98,1,98,3],[98,4,98,6],[98,7,98,9],[98,10,98,14],[98,15,98,16],[98,17,98,18],[81,1,81,7],[81,9,81,10],[83,0,93,19],[94,1,94,18],[95,4,95,14],[96,1,96,16],[96,17,96,18],[100,1,100,2],[100,3,100,4],[100,5,100,6],[100,7,100,12],[100,13,100,14],[100,15,100,18],[99,1,99,2],[99,3,99,4],[99,5,99,6],[99,7,99,12],[99,13,99,14],[99,15,99,18],[102,1,102,2],[102,3,102,4],[102,5,102,6],[102,7,102,12],[102,13,102,14],[102,15,102,18],[101,1,101,2],[101,3,101,4],[101,5,101,6],[101,7,101,12],[101,13,101,14],[101,15,101,18],[105,1,107,18],[104,1,104,2],[104,3,104,4],[104,5,104,6],[104,7,104,12],[104,13,104,14],[104,15,104,18],[103,1,103,2],[103,3,103,4],[103,5,103,6],[103,7,103,12],[103,13,103,14],[103,15,103,18],[113,1,113,7],[113,9,113,10],[115,0,125,19],[126,1,126,18],[127,4,127,14],[128,1,128,16],[128,17,128,18],[108,2,108,7],[108,8,108,18],[109,4,110,6],[109,7,110,18],[111,4,112,6],[111,7,112,16],[111,18,112,18],[131,1,131,2],[131,3,131,4],[131,5,131,6],[131,7,131,12],[131,13,131,14],[131,15,131,18],[129,15,129,18],[130,1,130,3],[130,4,130,6],[130,7,130,9],[130,10,130,14],[130,15,130,16],[130,17,130,18],[133,1,133,2],[133,3,133,4],[133,5,133,6],[133,7,133,12],[133,13,133,14],[133,15,133,18],[132,1,132,2],[132,3,132,4],[132,5,132,6],[132,7,132,12],[132,13,132,14],[132,15,132,18],[135,1,135,2],[135,3,135,4],[135,5,135,6],[135,7,135,12],[135,13,135,14],[135,15,135,18],[134,1,134,2],[134,3,134,4],[134,5,134,6],[134,7,134,12],[134,13,134,14],[134,15,134,18],[140,2,140,7],[140,8,140,18],[141,4,142,6],[141,7,142,18],[143,4,144,6],[143,7,144,16],[143,18,144,18],[137,1,139,18],[136,1,136,2],[136,3,136,4],[136,5,136,6],[136,7,136,12],[136,13,136,14],[136,15,136,18],[161,15,161,18],[162,1,162,3],[162,4,162,6],[162,7,162,9],[162,10,162,14],[162,15,162,16],[162,17,162,18],[145,1,145,7],[145,9,145,10],[147,0,157,19],[158,1,158,18],[159,4,159,14],[160,1,160,16],[160,17,160,18],[164,1,164,2],[164,3,164,4],[164,5,164,6],[164,7,164,12],[164,13,164,14],[164,15,164,18],[163,1,163,2],[163,3,163,4],[163,5,163,6],[163,7,163,12],[163,13,163,14],[163,15,163,18],[166,1,166,2],[166,3,166,4],[166,5,166,6],[166,7,166,12],[166,13,166,14],[166,15,166,18],[165,1,165,2],[165,3,165,4],[165,5,165,6],[165,7,165,12],[165,13,165,14],[165,15,165,18],[169,1,171,18],[168,1,168,2],[168,3,168,4],[168,5,168,6],[168,7,168,12],[168,13,168,14],[168,15,168,18],[167,1,167,2],[167,3,167,4],[167,5,167,6],[167,7,167,12],[167,13,167,14],[167,15,167,18],[177,1,177,7],[177,9,177,10],[179,0,189,19],[190,1,190,18],[191,4,191,14],[192,1,192,16],[192,17,192,18],[172,2,172,7],[172,8,172,18],[173,4,174,6],[173,7,174,18],[175,4,176,6],[175,7,176,16],[175,18,176,18],[195,1,195,2],[195,3,195,4],[195,5,195,6],[195,7,195,12],[195,13,195,14],[195,15,195,18],[193,15,193,18],[194,1,194,3],[194,4,194,6],[194,7,194,9],[194,10,194,14],[194,15,194,16],[194,17,194,18],[197,1,197,2],[197,3,197,4],[197,5,197,6],[197,7,197,12],[197,13,197,14],[197,15,197,18],[196,1,196,2],[196,3,196,4],[196,5,196,6],[196,7,196,12],[196,13,196,14],[196,15,196,18],[199,1,199,2],[199,3,199,4],[199,5,199,6],[199,7,199,12],[199,13,199,14],[199,15,199,18],[198,1,198,2],[198,3,198,4],[198,5,198,6],[198,7,198,12],[198,13,198,14],[198,15,198,18],[204,2,204,7],[204,8,204,18],[205,4,206,6],[205,7,206,18],[207,4,208,6],[207,7,208,16],[207,18,208,18],[201,1,203,18],[200,1,200,2],[200,3,200,4],[200,5,200,6],[200,7,200,12],[200,13,200,14],[200,15,200,18],[225,15,225,18],[226,1,226,3],[226,4,226,6],[226,7,226,9],[226,10,226,14],[226,15,226,16],[226,17,226,18],[209,1,209,7],[209,9,209,10],[211,0,221,19],[222,1,222,18],[223,4,223,14],[224,1,224,16],[224,17,224,18],[228,1,228,2],[228,3,228,4],[228,5,228,6],[228,7,228,12],[228,13,228,14],[228,15,228,18],[227,1,227,2],[227,3,227,4],[227,5,227,6],[227,7,227,12],[227,13,227,14],[227,15,227,18],[230,1,230,2],[230,3,230,4],[230,5,230,6],[230,7,230,12],[230,13,230,14],[230,15,230,18],[229,1,229,2],[229,3,229,4],[229,5,229,6],[229,7,229,12],[229,13,229,14],[229,15,229,18],[233,1,235,18],[232,1,232,2],[232,3,232,4],[232,5,232,6],[232,7,232,12],[232,13,232,14],[232,15,232,18],[231,1,231,2],[231,3,231,4],[231,5,231,6],[231,7,231,12],[231,13,231,14],[231,15,231,18],[241,1,241,7],[241,9,241,10],[243,0,253,19],[236,2,236,7],[236,8,236,18],[237,4,238,6],[237,7,238,18],[239,4,240,6],[239,7,240,16],[239,18,240,18]]}
[null,{"$f":"申込基本!$C$5&\"　年度\"","v":"2022　年度"}]
[null,"第",1,"回","特別普及大会（学校対抗3人以下）",null,null,null,null,null,null,null,null,null,null,null,null,null,null,null,null,"←回数と、男子・女子を選んでください。"]
[null,"　　　　　　　　　申　　込　　書",null,null,null,null,null,null,null,null,null,null,null,null,null,null,null,"男子"]
[null,null,null,null,null,null,null,null,null,null,null,null,null,null,null,"チームA"]
[null,"学校名",null,null,{"$f":"申込基本!Q7","v":{"$error":"#N/A"}},null,null,"監督名",null,null,{"$f":"申込基本!$C$17","v":0},null,null,null,null,"学校番号",null,{"$f":"申込基本!$C$7","v":0}]
[null,"ランク",null,"整理番号",null,"会員ＩＤ",null,"名　　　　　　　　前",null,null,null,null,null,"学年",null,"生 年 月 日"]
[null,1,null,null,null,{"$f":"IF($D7=\"\",\"\",VLOOKUP($D7,登録用データのコピー!$B$5:$V$89,2,FALSE))","v":""},null,{"$f":"IF($D7=\"\",\"\",VLOOKUP($D7,登録用データのコピー!$B$5:$V$89,3,FALSE))","v":""},null,{"$f":"IF($D7=\"\",\"\",VLOOKUP($D7,登録用データのコピー!$B$5:$V$89,2,FALSE))","v":""},null,{"$f":"IF($D7=\"\",\"\",VLOOKUP($D7,登録用データのコピー!$B$5:$V$89,2,FALSE))","v":""},null,{"$f":"IF(D7=\"\",\"\",VLOOKUP(D7,data!$Q$4:$S$88,3,FALSE))","v":""},null,{"$f":"IF($D7=\"\",\"\",VLOOKUP($D7,登録用データのコピー!$B$5:$V$89,7,FALSE))","v":""},null,{"$f":"IF($D7=\"\",\"\",VLOOKUP($D7,登録用データのコピー!$B$5:$V$89,2,FALSE))","v":""},null,null,null,"「申込基本」のシートを最初に作業してから、\n黄色の枠に入力して下さい。\n１チームの参加人数、参加可能チーム数は大会によって異なります。\n入力後、送信用タブをクリック、緑のボタンを押して、送信用データを作成してください。\n申込書の印刷は下記のボタンでプレビューを確認後、必要ページのみプリントしてください。"]
[null,2,null,null,null,{"$f":"IF($D8=\"\",\"\",VLOOKUP($D8,登録用データのコピー!$B$5:$V$89,2,FALSE))","v":""},null,{"$f":"IF($D8=\"\",\"\",VLOOKUP($D8,登録用データのコピー!$B$5:$V$89,3,FALSE))","v":""},null,{"$f":"IF($D8=\"\",\"\",VLOOKUP($D8,登録用データのコピー!$B$5:$V$89,2,FALSE))","v":""},null,{"$f":"IF($D8=\"\",\"\",VLOOKUP($D8,登録用データのコピー!$B$5:$V$89,2,FALSE))","v":""},null,{"$f":"IF(D8=\"\",\"\",VLOOKUP(D8,data!$Q$4:$S$88,3,FALSE))","v":""},null,{"$f":"IF($D8=\"\",\"\",VLOOKUP($D8,登録用データのコピー!$B$5:$V$89,7,FALSE))","v":""},null,{"$f":"IF($D8=\"\",\"\",VLOOKUP($D8,登録用データのコピー!$B$5:$V$89,2,FALSE))","v":""}]
[null,3,null,null,null,{"$f":"IF($D9=\"\",\"\",VLOOKUP($D9,登録用データのコピー!$B$5:$V$89,2,FALSE))","v":""},null,{"$f":"IF($D9=\"\",\"\",VLOOKUP($D9,登録用データのコピー!$B$5:$V$89,3,FALSE))","v":""},null,{"$f":"IF($D9=\"\",\"\",VLOOKUP($D9,登録用データのコピー!$B$5:$V$89,2,FALSE))","v":""},null,{"$f":"IF($D9=\"\",\"\",VLOOKUP($D9,登録用データのコピー!$B$5:$V$89,2,FALSE))","v":""},null,{"$f":"IF(D9=\"\",\"\",VLOOKUP(D9,data!$Q$4:$S$88,3,FALSE))","v":""},null,{"$f":"IF($D9=\"\",\"\",VLOOKUP($D9,登録用データのコピー!$B$5:$V$89,7,FALSE))","v":""},null,{"$f":"IF($D9=\"\",\"\",VLOOKUP($D9,登録用データのコピー!$B$5:$V$89,2,FALSE))","v":""}]
[null,4,null,null,null,{"$f":"IF($D10=\"\",\"\",VLOOKUP($D10,登録用データのコピー!$B$5:$V$89,2,FALSE))","v":""},null,{"$f":"IF($D10=\"\",\"\",VLOOKUP($D10,登録用データのコピー!$B$5:$V$89,3,FALSE))","v":""},null,{"$f":"IF($D10=\"\",\"\",VLOOKUP($D10,登録用データのコピー!$B$5:$V$89,2,FALSE))","v":""},null,{"$f":"IF($D10=\"\",\"\",VLOOKUP($D10,登録用データのコピー!$B$5:$V$89,2,FALSE))","v":""},null,{"$f":"IF(D10=\"\",\"\",VLOOKUP(D10,data!$Q$4:$S$88,3,FALSE))","v":""},null,{"$f":"IF($D10=\"\",\"\",VLOOKUP($D10,登録用データのコピー!$B$5:$V$89,7,FALSE))","v":""},null,{"$f":"IF($D10=\"\",\"\",VLOOKUP($D10,登録用データのコピー!$B$5:$V$89,2,FALSE))","v":""}]
[null,5,null,null,null,{"$f":"IF($D11=\"\",\"\",VLOOKUP($D11,登録用データのコピー!$B$5:$V$89,2,FALSE))","v":""},null,{"$f":"IF($D11=\"\",\"\",VLOOKUP($D11,登録用データのコピー!$B$5:$V$89,3,FALSE))","v":""},null,{"$f":"IF($D11=\"\",\"\",VLOOKUP($D11,登録用データのコピー!$B$5:$V$89,2,FALSE))","v":""},null,{"$f":"IF($D11=\"\",\"\",VLOOKUP($D11,登録用データのコピー!$B$5:$V$89,2,FALSE))","v":""},null,{"$f":"IF(D11=\"\",\"\",VLOOKUP(D11,data!$Q$4:$S$88,3,FALSE))","v":""},null,{"$f":"IF($D11=\"\",\"\",VLOOKUP($D11,登録用データのコピー!$B$5:$V$89,7,FALSE))","v":""},null,{"$f":"IF($D11=\"\",\"\",VLOOKUP($D11,登録用データのコピー!$B$5:$V$89,2,FALSE))","v":""}]
[]
[]
[null,null,null,null,null,null,null,null,null,null,null,null,null,null,null,null,null,null,null,{"$f":"IF(SUM(D4:D14)>0,1,0 )","v":0}]
[null,null,{"$f":"TODAY()","v":"2022-05-27"},null,null,null,null,null,"上記の通り、参加料を添えて申し込みます。"]
[null,null,null,null,"学 校 名",null,null,{"$f":"VLOOKUP(R5,data!$A$3:$C$302,2,0)","v":{"$error":"#N/A"}}]
[]
[null,null,null,null,"顧 問 名",null,null,{"$f":"申込基本!K17","v":0},null,null,null,null,null,null,null,null,null,null,"印"]
[]
[null,"大阪卓球協会",null,null,null,null,null,null,null,"様",null,null,"顧問連絡先",null,null,{"$f":"申込基本!$P$17&\" ( \"&申込基本!$S$17&\" ) \"&申込基本!$V$17","v":" (  ) "}]
[]
[]
[null,"領収証",null,null,null,null,null,null,{"$f":"VLOOKUP($R$5,data!$A$3:$G$302,2)","v":{"$error":"#N/A"}},null,null,null,null,null,null,null,null,null,"様"]
[]
[null,{"$f":"COUNT(D7,D37,D69,D101,D133,D165,D197,D229)","v":0},"チーム",null,{"$f":"V5*1500","v":0}]
[]
[null,null,null,null,null,"但","特別普及大会参加料として"]
[null,null,null,null,null,null,"上記正に領収いたしました"]
[null,null,null,null,null,null,null,null,"大阪卓球協会"]
[]
[null,{"$f":"申込基本!$C$5&\"　年度\"","v":"2022　年度"}]
[null,"第",1,"回","特別普及大会（学校対抗）"]
[null,"　　　　　　　　　申　　込　　書",null,null,null,null,null,null,null,null,null,null,null,null,null,null,null,"男子"]
[null,null,null,null,null,null,null,null,null,null,null,null,null,null,null,"チームB"]
[null,"学校名",null,null,{"$f":"VLOOKUP($R$5,data!$A$3:$C$302,3)","v":{"$error":"#N/A"}},null,null,"監督名",null,null,{"$f":"申込基本!$C$17","v":0},null,null,null,null,"学校番号",null,{"$f":"申込基本!$C$7","v":0}]
[null,"ランク",null,"整理番号",null,"会員ＩＤ",null,"名　　　　　　　　前",null,null,null,null,null,"学年",null,"生 年 月 日"]
[null,1,null,null,null,{"$f":"IF($D37=\"\",\"\",VLOOKUP($D37,登録用データのコピー!$B$5:$V$89,2,FALSE))","v":""},null,{"$f":"IF($D37=\"\",\"\",VLOOKUP($D37,登録用データのコピー!$B$5:$V$89,3,FALSE))","v":""},null,{"$f":"IF($D37=\"\",\"\",VLOOKUP($D37,登録用データのコピー!$B$5:$V$89,2,FALSE))","v":""},null,{"$f":"IF($D37=\"\",\"\",VLOOKUP($D37,登録用データのコピー!$B$5:$V$89,2,FALSE))","v":""},null,{"$f":"IF(D37=\"\",\"\",VLOOKUP(D37,data!$Q$4:$S$88,3,FALSE))","v":""},null,{"$f":"IF($D37=\"\",\"\",VLOOKUP($D37,登録用データのコピー!$B$5:$V$89,7,FALSE))","v":""},null,{"$f":"IF($D37=\"\",\"\",VLOOKUP($D37,登録用データのコピー!$B$5:$V$89,2,FALSE))","v":""}]
[null,2,null,null,null,{"$f":"IF($D38=\"\",\"\",VLOOKUP($D38,登録用データのコピー!$B$5:$V$89,2,FALSE))","v":""},null,{"$f":"IF($D38=\"\",\"\",VLOOKUP($D38,登録用データのコピー!$B$5:$V$89,3,FALSE))","v":""},null,{"$f":"IF($D38=\"\",\"\",VLOOKUP($D38,登録用データのコピー!$B$5:$V$89,2,FALSE))","v":""},null,{"$f":"IF($D38=\"\",\"\",VLOOKUP($D38,登録用データのコピー!$B$5:$V$89,2,FALSE))","v":""},null,{"$f":"IF(D38=\"\",\"\",VLOOKUP(D38,data!$Q$4:$S$88,3,FALSE))","v":""},null,{"$f":"IF($D38=\"\",\"\",VLOOKUP($D38,登録用データのコピー!$B$5:$V$89,7,FALSE))","v":""},null,{"$f":"IF($D38=\"\",\"\",VLOOKUP($D38,登録用データのコピー!$B$5:$V$89,2,FALSE))","v":""}]
[null,3,null,null,null,{"$f":"IF($D39=\"\",\"\",VLOOKUP($D39,登録用データのコピー!$B$5:$V$89,2,FALSE))","v":""},null,{"$f":"IF($D39=\"\",\"\",VLOOKUP($D39,登録用データのコピー!$B$5:$V$89,3,FALSE))","v":""},null,{"$f":"IF($D39=\"\",\"\",VLOOKUP($D39,登録用データのコピー!$B$5:$V$89,2,FALSE))","v":""},null,{"$f":"IF($D39=\"\",\"\",VLOOKUP($D39,登録用データのコピー!$B$5:$V$89,2,FALSE))","v":""},null,{"$f":"IF(D39=\"\",\"\",VLOOKUP(D39,data!$Q$4:$S$88,3,FALSE))","v":""},null,{"$f":"IF($D39=\"\",\"\",VLOOKUP($D39,登録用データのコピー!$B$5:$V$89,7,FALSE))","v":""},null,{"$f":"IF($D39=\"\",\"\",VLOOKUP($D39,登録用データのコピー!$B$5:$V$89,2,FALSE))","v":""}]
[null,4,null,null,null,{"$f":"IF($D40=\"\",\"\",VLOOKUP($D40,登録用データのコピー!$B$5:$V$89,2,FALSE))","v":""},null,{"$f":"IF($D40=\"\",\"\",VLOOKUP($D40,登録用データのコピー!$B$5:$V$89,3,FALSE))","v":""},null,{"$f":"IF($D40=\"\",\"\",VLOOKUP($D40,登録用データのコピー!$B$5:$V$89,2,FALSE))","v":""},null,{"$f":"IF($D40=\"\",\"\",VLOOKUP($D40,登録用データのコピー!$B$5:$V$89,2,FALSE))","v":""},null,{"$f":"IF(D40=\"\",\"\",VLOOKUP(D40,data!$Q$4:$S$88,3,FALSE))","v":""},null,{"$f":"IF($D40=\"\",\"\",VLOOKUP($D40,登録用データのコピー!$B$5:$V$89,7,FALSE))","v":""},null,{"$f":"IF($D40=\"\",\"\",VLOOKUP($D40,登録用データのコピー!$B$5:$V$89,2,FALSE))","v":""}]
[null,5,null,null,null,{"$f":"IF($D41=\"\",\"\",VLOOKUP($D41,登録用データのコピー!$B$5:$V$89,2,FALSE))","v":""},null,{"$f":"IF($D41=\"\",\"\",VLOOKUP($D41,登録用データのコピー!$B$5:$V$89,3,FALSE))","v":""},null,{"$f":"IF($D41=\"\",\"\",VLOOKUP($D41,登録用データのコピー!$B$5:$V$89,2,FALSE))","v":""},null,{"$f":"IF($D41=\"\",\"\",VLOOKUP($D41,登録用データのコピー!$B$5:$V$89,2,FALSE))","v":""},null,{"$f":"IF(D41=\"\",\"\",VLOOKUP(D41,data!$Q$4:$S$88,3,FALSE))","v":""},null,{"$f":"IF($D41=\"\",\"\",VLOOKUP($D41,登録用データのコピー!$B$5:$V$89,7,FALSE))","v":""},null,{"$f":"IF($D41=\"\",\"\",VLOOKUP($D41,登録用データのコピー!$B$5:$V$89,2,FALSE))","v":""}]
[]
[]
[null,null,null,null,null,null,null,null,null,null,null,null,null,null,null,null,null,null,null,{"$f":"IF(SUM(D34:D44)>0,1,0 )","v":0}]
[null,null,{"$f":"TODAY()","v":"2022-05-27"},null,null,null,null,null,"上記の通り、参加料を添えて申し込みます。"]
[null,null,null,null,"学 校 名",null,null,{"$f":"VLOOKUP(R35,data!$A$3:$C$302,2,0)","v":{"$error":"#N/A"}}]
[]
[null,null,null,null,"顧 問 名",null,null,{"$f":"申込基本!$K$27","v":0},null,null,null,null,null,null,null,null,null,null,"印"]
[]
[null,"大阪卓球協会",null,null,null,null,null,null,null,"様",null,null,"顧問連絡先",null,null,{"$f":"申込基本!$P$17&\" ( \"&申込基本!$S$17&\" ) \"&申込基本!$V$17","v":" (  ) "}]
[]
[]
[]
[]
[]
[]
[]
[]
[]
[]
[]
[]
[null,{"$f":"申込基本!$C$5&\"　年度\"","v":"2022　年度"}]
[null,"第",1,"回","特別普及大会（学校対抗）"]
[null,"　　　　　　　　　申　　込　　書",null,null,null,null,null,null,null,null,null,null,null,null,null,null,null,"男子"]
[null,null,null,null,null,null,null,null,null,null,null,null,null,null,null,"チームC"]
[null,"学校名",null,null,{"$f":"VLOOKUP($R$5,data!$A$3:$C$302,3)","v":{"$error":"#N/A"}},null,null,"監督名",null,null,{"$f":"申込基本!$C$17","v":0},null,null,null,null,"学校番号",null,{"$f":"申込基本!$C$7","v":0}]
[null,"ランク",null,"整理番号",null,"会員ＩＤ",null,"名　　　　　　　　前",null,null,null,null,null,"学年",null,"生 年 月 日"]
[null,1,null,null,null,{"$f":"IF($D69=\"\",\"\",VLOOKUP($D69,登録用データのコピー!$B$5:$V$89,2,FALSE))","v":""},null,{"$f":"IF($D69=\"\",\"\",VLOOKUP($D69,登録用データのコピー!$B$5:$V$89,3,FALSE))","v":""},null,{"$f":"IF($D69=\"\",\"\",VLOOKUP($D69,登録用データのコピー!$B$5:$V$89,2,FALSE))","v":""},null,{"$f":"IF($D69=\"\",\"\",VLOOKUP($D69,登録用データのコピー!$B$5:$V$89,2,FALSE))","v":""},null,{"$f":"IF(D69=\"\",\"\",VLOOKUP(D69,data!$Q$4:$S$88,3,FALSE))","v":""},null,{"$f":"IF($D69=\"\",\"\",VLOOKUP($D69,登録用データのコピー!$B$5:$V$89,7,FALSE))","v":""},null,{"$f":"IF($D69=\"\",\"\",VLOOKUP($D69,登録用データのコピー!$B$5:$V$89,2,FALSE))","v":""}]
[null,2,null,null,null,{"$f":"IF($D70=\"\",\"\",VLOOKUP($D70,登録用データのコピー!$B$5:$V$89,2,FALSE))","v":""},null,{"$f":"IF($D70=\"\",\"\",VLOOKUP($D70,登録用データのコピー!$B$5:$V$89,3,FALSE))","v":""},null,{"$f":"IF($D70=\"\",\"\",VLOOKUP($D70,登録用データのコピー!$B$5:$V$89,2,FALSE))","v":""},null,{"$f":"IF($D70=\"\",\"\",VLOOKUP($D70,登録用データのコピー!$B$5:$V$89,2,FALSE))","v":""},null,{"$f":"IF(D70=\"\",\"\",VLOOKUP(D70,data!$Q$4:$S$88,3,FALSE))","v":""},null,{"$f":"IF($D70=\"\",\"\",VLOOKUP($D70,登録用データのコピー!$B$5:$V$89,7,FALSE))","v":""},null,{"$f":"IF($D70=\"\",\"\",VLOOKUP($D70,登録用データのコピー!$B$5:$V$89,2,FALSE))","v":""}]
[null,3,null,null,null,{"$f":"IF($D71=\"\",\"\",VLOOKUP($D71,登録用データのコピー!$B$5:$V$89,2,FALSE))","v":""},null,{"$f":"IF($D71=\"\",\"\",VLOOKUP($D71,登録用データのコピー!$B$5:$V$89,3,FALSE))","v":""},null,{"$f":"IF($D71=\"\",\"\",VLOOKUP($D71,登録用データのコピー!$B$5:$V$89,2,FALSE))","v":""},null,{"$f":"IF($D71=\"\",\"\",VLOOKUP($D71,登録用データのコピー!$B$5:$V$89,2,FALSE))","v":""},null,{"$f":"IF(D71=\"\",\"\",VLOOKUP(D71,data!$Q$4:$S$88,3,FALSE))","v":""},null,{"$f":"IF($D71=\"\",\"\",VLOOKUP($D71,登録用データのコピー!$B$5:$V$89,7,FALSE))","v":""},null,{"$f":"IF($D71=\"\",\"\",VLOOKUP($D71,登録用データのコピー!$B$5:$V$89,2,FALSE))","v":""}]
[null,4,null,null,null,{"$f":"IF($D72=\"\",\"\",VLOOKUP($D72,登録用データのコピー!$B$5:$V$89,2,FALSE))","v":""},null,{"$f":"IF($D72=\"\",\"\",VLOOKUP($D72,登録用データのコピー!$B$5:$V$89,3,FALSE))","v":""},null,{"$f":"IF($D72=\"\",\"\",VLOOKUP($D72,登録用データのコピー!$B$5:$V$89,2,FALSE))","v":""},null,{"$f":"IF($D72=\"\",\"\",VLOOKUP($D72,登録用データのコピー!$B$5:$V$89,2,FALSE))","v":""},null,{"$f":"IF(D72=\"\",\"\",VLOOKUP(D72,data!$Q$4:$S$88,3,FALSE))","v":""},null,{"$f":"IF($D72=\"\",\"\",VLOOKUP($D72,登録用データのコピー!$B$5:$V$89,7,FALSE))","v":""},null,{"$f":"IF($D72=\"\",\"\",VLOOKUP($D72,登録用データのコピー!$B$5:$V$89,2,FALSE))","v":""}]
[null,5,null,null,null,{"$f":"IF($D73=\"\",\"\",VLOOKUP($D73,登録用データのコピー!$B$5:$V$89,2,FALSE))","v":""},null,{"$f":"IF($D73=\"\",\"\",VLOOKUP($D73,登録用データのコピー!$B$5:$V$89,3,FALSE))","v":""},null,{"$f":"IF($D73=\"\",\"\",VLOOKUP($D73,登録用データのコピー!$B$5:$V$89,2,FALSE))","v":""},null,{"$f":"IF($D73=\"\",\"\",VLOOKUP($D73,登録用データのコピー!$B$5:$V$89,2,FALSE))","v":""},null,{"$f":"IF(D73=\"\",\"\",VLOOKUP(D73,data!$Q$4:$S$88,3,FALSE))","v":""},null,{"$f":"IF($D73=\"\",\"\",VLOOKUP($D73,登録用データのコピー!$B$5:$V$89,7,FALSE))","v":""},null,{"$f":"IF($D73=\"\",\"\",VLOOKUP($D73,登録用データのコピー!$B$5:$V$89,2,FALSE))","v":""}]
[]
[]
[null,null,null,null,null,null,null,null,null,null,null,null,null,null,null,null,null,null,null,{"$f":"IF(SUM(D66:D76)>0,1,0 )","v":0}]
[null,null,{"$f":"TODAY()","v":"2022-05-27"},null,null,null,null,null,"上記の通り、参加料を添えて申し込みます。"]
[null,null,null,null,"学 校 名",null,null,{"$f":"VLOOKUP(R67,data!$A$3:$C$302,2,0)","v":{"$error":"#N/A"}}]
[]
[null,null,null,null,"顧 問 名",null,null,{"$f":"申込基本!$K$27","v":0},null,null,null,null,null,null,null,null,null,null,"印"]
[]
[null,"大阪卓球協会",null,null,null,null,null,null,null,"様",null,null,"顧問連絡先",null,null,{"$f":"申込基本!$P$17&\" ( \"&申込基本!$S$17&\" ) \"&申込基本!$V$17","v":" (  ) "}]
[]
[]
[]
[]
[]
[]
[]
[]
[]
[]
[]
[]
[null,{"$f":"申込基本!$C$5&\"　年度\"","v":"2022　年度"}]
[null,"第",1,"回","特別普及大会（学校対抗）"]
[null,"　　　　　　　　　申　　込　　書",null,null,null,null,null,null,null,null,null,null,null,null,null,null,null,"男子"]
[null,null,null,null,null,null,null,null,null,null,null,null,null,null,null,"チームD"]
[null,"学校名",null,null,{"$f":"VLOOKUP($R$5,data!$A$3:$C$302,3)","v":{"$error":"#N/A"}},null,null,"監督名",null,null,{"$f":"申込基本!$C$17","v":0},null,null,null,null,"学校番号",null,{"$f":"申込基本!$C$7","v":0}]
[null,"ランク",null,"整理番号",null,"会員ＩＤ",null,"名　　　　　　　　前",null,null,null,null,null,"学年",null,"生 年 月 日"]
[null,1,null,null,null,{"$f":"IF($D101=\"\",\"\",VLOOKUP($D101,登録用データのコピー!$B$5:$V$89,2,FALSE))","v":""},null,{"$f":"IF($D101=\"\",\"\",VLOOKUP($D101,登録用データのコピー!$B$5:$V$89,3,FALSE))","v":""},null,{"$f":"IF($D101=\"\",\"\",VLOOKUP($D101,登録用データのコピー!$B$5:$V$89,2,FALSE))","v":""},null,{"$f":"IF($D101=\"\",\"\",VLOOKUP($D101,登録用データのコピー!$B$5:$V$89,2,FALSE))","v":""},null,{"$f":"IF(D101=\"\",\"\",VLOOKUP(D101,data!$Q$4:$S$88,3,FALSE))","v":""},null,{"$f":"IF($D101=\"\",\"\",VLOOKUP($D101,登録用データのコピー!$B$5:$V$89,7,FALSE))","v":""},null,{"$f":"IF($D101=\"\",\"\",VLOOKUP($D101,登録用データのコピー!$B$5:$V$89,2,FALSE))","v":""}]
[null,2,null,null,null,{"$f":"IF($D102=\"\",\"\",VLOOKUP($D102,登録用データのコピー!$B$5:$V$89,2,FALSE))","v":""},null,{"$f":"IF($D102=\"\",\"\",VLOOKUP($D102,登録用データのコピー!$B$5:$V$89,3,FALSE))","v":""},null,{"$f":"IF($D102=\"\",\"\",VLOOKUP($D102,登録用データのコピー!$B$5:$V$89,2,FALSE))","v":""},null,{"$f":"IF($D102=\"\",\"\",VLOOKUP($D102,登録用データのコピー!$B$5:$V$89,2,FALSE))","v":""},null,{"$f":"IF(D102=\"\",\"\",VLOOKUP(D102,data!$Q$4:$S$88,3,FALSE))","v":""},null,{"$f":"IF($D102=\"\",\"\",VLOOKUP($D102,登録用データのコピー!$B$5:$V$89,7,FALSE))","v":""},null,{"$f":"IF($D102=\"\",\"\",VLOOKUP($D102,登録用データのコピー!$B$5:$V$89,2,FALSE))","v":""}]
[null,3,null,null,null,{"$f":"IF($D103=\"\",\"\",VLOOKUP($D103,登録用データのコピー!$B$5:$V$89,2,FALSE))","v":""},null,{"$f":"IF($D103=\"\",\"\",VLOOKUP($D103,登録用データのコピー!$B$5:$V$89,3,FALSE))","v":""},null,{"$f":"IF($D103=\"\",\"\",VLOOKUP($D103,登録用データのコピー!$B$5:$V$89,2,FALSE))","v":""},null,{"$f":"IF($D103=\"\",\"\",VLOOKUP($D103,登録用データのコピー!$B$5:$V$89,2,FALSE))","v":""},null,{"$f":"IF(D103=\"\",\"\",VLOOKUP(D103,data!$Q$4:$S$88,3,FALSE))","v":""},null,{"$f":"IF($D103=\"\",\"\",VLOOKUP($D103,登録用データのコピー!$B$5:$V$89,7,FALSE))","v":""},null,{"$f":"IF($D103=\"\",\"\",VLOOKUP($D103,登録用データのコピー!$B$5:$V$89,2,FALSE))","v":""}]
[null,4,null,null,null,{"$f":"IF($D104=\"\",\"\",VLOOKUP($D104,登録用データのコピー!$B$5:$V$89,2,FALSE))","v":""},null,{"$f":"IF($D104=\"\",\"\",VLOOKUP($D104,登録用データのコピー!$B$5:$V$89,3,FALSE))","v":""},null,{"$f":"IF($D104=\"\",\"\",VLOOKUP($D104,登録用データのコピー!$B$5:$V$89,2,FALSE))","v":""},null,{"$f":"IF($D104=\"\",\"\",VLOOKUP($D104,登録用データのコピー!$B$5:$V$89,2,FALSE))","v":""},null,{"$f":"IF(D104=\"\",\"\",VLOOKUP(D104,data!$Q$4:$S$88,3,FALSE))","v":""},null,{"$f":"IF($D104=\"\",\"\",VLOOKUP($D104,登録用データのコピー!$B$5:$V$89,7,FALSE))","v":""},null,{"$f":"IF($D104=\"\",\"\",VLOOKUP($D104,登録用データのコピー!$B$5:$V$89,2,FALSE))","v":""}]
[null,5,null,null,null,{"$f":"IF($D105=\"\",\"\",VLOOKUP($D105,登録用データのコピー!$B$5:$V$89,2,FALSE))","v":""},null,{"$f":"IF($D105=\"\",\"\",VLOOKUP($D105,登録用データのコピー!$B$5:$V$89,3,FALSE))","v":""},null,{"$f":"IF($D105=\"\",\"\",VLOOKUP($D105,登録用データのコピー!$B$5:$V$89,2,FALSE))","v":""},null,{"$f":"IF($D105=\"\",\"\",VLOOKUP($D105,登録用データのコピー!$B$5:$V$89,2,FALSE))","v":""},null,{"$f":"IF(D105=\"\",\"\",VLOOKUP(D105,data!$Q$4:$S$88,3,FALSE))","v":""},null,{"$f":"IF($D105=\"\",\"\",VLOOKUP($D105,登録用データのコピー!$B$5:$V$89,7,FALSE))","v":""},null,{"$f":"IF($D105=\"\",\"\",VLOOKUP($D105,登録用データのコピー!$B$5:$V$89,2,FALSE))","v":""}]
[]
[]
[null,null,null,null,null,null,null,null,null,null,null,null,null,null,null,null,null,null,null,{"$f":"IF(SUM(D98:D108)>0,1,0 )","v":0}]
[null,null,{"$f":"TODAY()","v":"2022-05-27"},null,null,null,null,null,"上記の通り、参加料を添えて申し込みます。"]
[null,null,null,null,"学 校 名",null,null,{"$f":"VLOOKUP(R99,data!$A$3:$C$302,2,0)","v":{"$error":"#N/A"}}]
[]
[null,null,null,null,"顧 問 名",null,null,{"$f":"申込基本!$K$27","v":0},null,null,null,null,null,null,null,null,null,null,"印"]
[]
[null,"大阪卓球協会",null,null,null,null,null,null,null,"様",null,null,"顧問連絡先",null,null,{"$f":"申込基本!$P$17&\" ( \"&申込基本!$S$17&\" ) \"&申込基本!$V$17","v":" (  ) "}]
[]
[]
[]
[]
[]
[]
[]
[]
[]
[]
[]
[]
[null,{"$f":"申込基本!$C$5&\"　年度\"","v":"2022　年度"}]
[null,"第",1,"回","特別普及大会（学校対抗）"]
[null,"　　　　　　　　　申　　込　　書",null,null,null,null,null,null,null,null,null,null,null,null,null,null,null,"男子"]
[null,null,null,null,null,null,null,null,null,null,null,null,null,null,null,"チームE"]
[null,"学校名",null,null,{"$f":"VLOOKUP($R$5,data!$A$3:$C$302,3)","v":{"$error":"#N/A"}},null,null,"監督名",null,null,{"$f":"申込基本!$C$17","v":0},null,null,null,null,"学校番号",null,{"$f":"申込基本!$C$7","v":0}]
[null,"ランク",null,"整理番号",null,"会員ＩＤ",null,"名　　　　　　　　前",null,null,null,null,null,"学年",null,"生 年 月 日"]
[null,1,null,null,null,{"$f":"IF($D133=\"\",\"\",VLOOKUP($D133,登録用データのコピー!$B$5:$V$89,2,FALSE))","v":""},null,{"$f":"IF($D133=\"\",\"\",VLOOKUP($D133,登録用データのコピー!$B$5:$V$89,3,FALSE))","v":""},null,{"$f":"IF($D133=\"\",\"\",VLOOKUP($D133,登録用データのコピー!$B$5:$V$89,2,FALSE))","v":""},null,{"$f":"IF($D133=\"\",\"\",VLOOKUP($D133,登録用データのコピー!$B$5:$V$89,2,FALSE))","v":""},null,{"$f":"IF(D133=\"\",\"\",VLOOKUP(D133,data!$Q$4:$S$88,3,FALSE))","v":""},null,{"$f":"IF($D133=\"\",\"\",VLOOKUP($D133,登録用データのコピー!$B$5:$V$89,7,FALSE))","v":""},null,{"$f":"IF($D133=\"\",\"\",VLOOKUP($D133,登録用データのコピー!$B$5:$V$89,2,FALSE))","v":""}]
[null,2,null,null,null,{"$f":"IF($D134=\"\",\"\",VLOOKUP($D134,登録用データのコピー!$B$5:$V$89,2,FALSE))","v":""},null,{"$f":"IF($D134=\"\",\"\",VLOOKUP($D134,登録用データのコピー!$B$5:$V$89,3,FALSE))","v":""},null,{"$f":"IF($D134=\"\",\"\",VLOOKUP($D134,登録用データのコピー!$B$5:$V$89,2,FALSE))","v":""},null,{"$f":"IF($D134=\"\",\"\",VLOOKUP($D134,登録用データのコピー!$B$5:$V$89,2,FALSE))","v":""},null,{"$f":"IF(D134=\"\",\"\",VLOOKUP(D134,data!$Q$4:$S$88,3,FALSE))","v":""},null,{"$f":"IF($D134=\"\",\"\",VLOOKUP($D134,登録用データのコピー!$B$5:$V$89,7,FALSE))","v":""},null,{"$f":"IF($D134=\"\",\"\",VLOOKUP($D134,登録用データのコピー!$B$5:$V$89,2,FALSE))","v":""}]
[null,3,null,null,null,{"$f":"IF($D135=\"\",\"\",VLOOKUP($D135,登録用データのコピー!$B$5:$V$89,2,FALSE))","v":""},null,{"$f":"IF($D135=\"\",\"\",VLOOKUP($D135,登録用データのコピー!$B$5:$V$89,3,FALSE))","v":""},null,{"$f":"IF($D135=\"\",\"\",VLOOKUP($D135,登録用データのコピー!$B$5:$V$89,2,FALSE))","v":""},null,{"$f":"IF($D135=\"\",\"\",VLOOKUP($D135,登録用データのコピー!$B$5:$V$89,2,FALSE))","v":""},null,{"$f":"IF(D135=\"\",\"\",VLOOKUP(D135,data!$Q$4:$S$88,3,FALSE))","v":""},null,{"$f":"IF($D135=\"\",\"\",VLOOKUP($D135,登録用データのコピー!$B$5:$V$89,7,FALSE))","v":""},null,{"$f":"IF($D135=\"\",\"\",VLOOKUP($D135,登録用データのコピー!$B$5:$V$89,2,FALSE))","v":""}]
[null,4,null,null,null,{"$f":"IF($D136=\"\",\"\",VLOOKUP($D136,登録用データのコピー!$B$5:$V$89,2,FALSE))","v":""},null,{"$f":"IF($D136=\"\",\"\",VLOOKUP($D136,登録用データのコピー!$B$5:$V$89,3,FALSE))","v":""},null,{"$f":"IF($D136=\"\",\"\",VLOOKUP($D136,登録用データのコピー!$B$5:$V$89,2,FALSE))","v":""},null,{"$f":"IF($D136=\"\",\"\",VLOOKUP($D136,登録用データのコピー!$B$5:$V$89,2,FALSE))","v":""},null,{"$f":"IF(D136=\"\",\"\",VLOOKUP(D136,data!$Q$4:$S$88,3,FALSE))","v":""},null,{"$f":"IF($D136=\"\",\"\",VLOOKUP($D136,登録用データのコピー!$B$5:$V$89,7,FALSE))","v":""},null,{"$f":"IF($D136=\"\",\"\",VLOOKUP($D136,登録用データのコピー!$B$5:$V$89,2,FALSE))","v":""}]
[null,5,null,null,null,{"$f":"IF($D137=\"\",\"\",VLOOKUP($D137,登録用データのコピー!$B$5:$V$89,2,FALSE))","v":""},null,{"$f":"IF($D137=\"\",\"\",VLOOKUP($D137,登録用データのコピー!$B$5:$V$89,3,FALSE))","v":""},null,{"$f":"IF($D137=\"\",\"\",VLOOKUP($D137,登録用データのコピー!$B$5:$V$89,2,FALSE))","v":""},null,{"$f":"IF($D137=\"\",\"\",VLOOKUP($D137,登録用データのコピー!$B$5:$V$89,2,FALSE))","v":""},null,{"$f":"IF(D137=\"\",\"\",VLOOKUP(D137,data!$Q$4:$S$88,3,FALSE))","v":""},null,{"$f":"IF($D137=\"\",\"\",VLOOKUP($D137,登録用データのコピー!$B$5:$V$89,7,FALSE))","v":""},null,{"$f":"IF($D137=\"\",\"\",VLOOKUP($D137,登録用データのコピー!$B$5:$V$89,2,FALSE))","v":""}]
[]
[]
[null,null,null,null,null,null,null,null,null,null,null,null,null,null,null,null,null,null,null,{"$f":"IF(SUM(D130:D140)>0,1,0 )","v":0}]
[null,null,{"$f":"TODAY()","v":"2022-05-27"},null,null,null,null,null,"上記の通り、参加料を添えて申し込みます。"]
[null,null,null,null,"学 校 名",null,null,{"$f":"VLOOKUP(R131,data!$A$3:$C$302,2,0)","v":{"$error":"#N/A"}}]
[]
[null,null,null,null,"顧 問 名",null,null,{"$f":"申込基本!$K$27","v":0},null,null,null,null,null,null,null,null,null,null,"印"]
[]
[null,"大阪卓球協会",null,null,null,null,null,null,null,"様",null,null,"顧問連絡先",null,null,{"$f":"申込基本!$P$17&\" ( \"&申込基本!$S$17&\" ) \"&申込基本!$V$17","v":" (  ) "}]
[]
[]
[]
[]
[]
[]
[]
[]
[]
[]
[]
[]
[null,{"$f":"申込基本!$C$5&\"　年度\"","v":"2022　年度"}]
[null,"第",1,"回","特別普及大会（学校対抗）"]
[null,"　　　　　　　　　申　　込　　書",null,null,null,null,null,null,null,null,null,null,null,null,null,null,null,"男子"]
[null,null,null,null,null,null,null,null,null,null,null,null,null,null,null,"チームF"]
[null,"学校名",null,null,{"$f":"VLOOKUP($R$5,data!$A$3:$C$302,3)","v":{"$error":"#N/A"}},null,null,"監督名",null,null,{"$f":"申込基本!$C$17","v":0},null,null,null,null,"学校番号",null,{"$f":"申込基本!$C$7","v":0}]
[null,"ランク",null,"整理番号",null,"会員ＩＤ",null,"名　　　　　　　　前",null,null,null,null,null,"学年",null,"生 年 月 日"]
[null,1,null,null,null,{"$f":"IF($D165=\"\",\"\",VLOOKUP($D165,登録用データのコピー!$B$5:$V$89,2,FALSE))","v":""},null,{"$f":"IF($D165=\"\",\"\",VLOOKUP($D165,登録用データのコピー!$B$5:$V$89,3,FALSE))","v":""},null,{"$f":"IF($D165=\"\",\"\",VLOOKUP($D165,登録用データのコピー!$B$5:$V$89,2,FALSE))","v":""},null,{"$f":"IF($D165=\"\",\"\",VLOOKUP($D165,登録用データのコピー!$B$5:$V$89,2,FALSE))","v":""},null,{"$f":"IF(D165=\"\",\"\",VLOOKUP(D165,data!$Q$4:$S$88,3,FALSE))","v":""},null,{"$f":"IF($D165=\"\",\"\",VLOOKUP($D165,登録用データのコピー!$B$5:$V$89,7,FALSE))","v":""},null,{"$f":"IF($D165=\"\",\"\",VLOOKUP($D165,登録用データのコピー!$B$5:$V$89,2,FALSE))","v":""}]
[null,2,null,null,null,{"$f":"IF($D166=\"\",\"\",VLOOKUP($D166,登録用データのコピー!$B$5:$V$89,2,FALSE))","v":""},null,{"$f":"IF($D166=\"\",\"\",VLOOKUP($D166,登録用データのコピー!$B$5:$V$89,3,FALSE))","v":""},null,{"$f":"IF($D166=\"\",\"\",VLOOKUP($D166,登録用データのコピー!$B$5:$V$89,2,FALSE))","v":""},null,{"$f":"IF($D166=\"\",\"\",VLOOKUP($D166,登録用データのコピー!$B$5:$V$89,2,FALSE))","v":""},null,{"$f":"IF(D166=\"\",\"\",VLOOKUP(D166,data!$Q$4:$S$88,3,FALSE))","v":""},null,{"$f":"IF($D166=\"\",\"\",VLOOKUP($D166,登録用データのコピー!$B$5:$V$89,7,FALSE))","v":""},null,{"$f":"IF($D166=\"\",\"\",VLOOKUP($D166,登録用データのコピー!$B$5:$V$89,2,FALSE))","v":""}]
[null,3,null,null,null,{"$f":"IF($D167=\"\",\"\",VLOOKUP($D167,登録用データのコピー!$B$5:$V$89,2,FALSE))","v":""},null,{"$f":"IF($D167=\"\",\"\",VLOOKUP($D167,登録用データのコピー!$B$5:$V$89,3,FALSE))","v":""},null,{"$f":"IF($D167=\"\",\"\",VLOOKUP($D167,登録用データのコピー!$B$5:$V$89,2,FALSE))","v":""},null,{"$f":"IF($D167=\"\",\"\",VLOOKUP($D167,登録用データのコピー!$B$5:$V$89,2,FALSE))","v":""},null,{"$f":"IF(D167=\"\",\"\",VLOOKUP(D167,data!$Q$4:$S$88,3,FALSE))","v":""},null,{"$f":"IF($D167=\"\",\"\",VLOOKUP($D167,登録用データのコピー!$B$5:$V$89,7,FALSE))","v":""},null,{"$f":"IF($D167=\"\",\"\",VLOOKUP($D167,登録用データのコピー!$B$5:$V$89,2,FALSE))","v":""}]
[null,4,null,null,null,{"$f":"IF($D168=\"\",\"\",VLOOKUP($D168,登録用データのコピー!$B$5:$V$89,2,FALSE))","v":""},null,{"$f":"IF($D168=\"\",\"\",VLOOKUP($D168,登録用データのコピー!$B$5:$V$89,3,FALSE))","v":""},null,{"$f":"IF($D168=\"\",\"\",VLOOKUP($D168,登録用データのコピー!$B$5:$V$89,2,FALSE))","v":""},null,{"$f":"IF($D168=\"\",\"\",VLOOKUP($D168,登録用データのコピー!$B$5:$V$89,2,FALSE))","v":""},null,{"$f":"IF(D168=\"\",\"\",VLOOKUP(D168,data!$Q$4:$S$88,3,FALSE))","v":""},null,{"$f":"IF($D168=\"\",\"\",VLOOKUP($D168,登録用データのコピー!$B$5:$V$89,7,FALSE))","v":""},null,{"$f":"IF($D168=\"\",\"\",VLOOKUP($D168,登録用データのコピー!$B$5:$V$89,2,FALSE))","v":""}]
[null,5,null,null,null,{"$f":"IF($D169=\"\",\"\",VLOOKUP($D169,登録用データのコピー!$B$5:$V$89,2,FALSE))","v":""},null,{"$f":"IF($D169=\"\",\"\",VLOOKUP($D169,登録用データのコピー!$B$5:$V$89,3,FALSE))","v":""},null,{"$f":"IF($D169=\"\",\"\",VLOOKUP($D169,登録用データのコピー!$B$5:$V$89,2,FALSE))","v":""},null,{"$f":"IF($D169=\"\",\"\",VLOOKUP($D169,登録用データのコピー!$B$5:$V$89,2,FALSE))","v":""},null,{"$f":"IF(D169=\"\",\"\",VLOOKUP(D169,data!$Q$4:$S$88,3,FALSE))","v":""},null,{"$f":"IF($D169=\"\",\"\",VLOOKUP($D169,登録用データのコピー!$B$5:$V$89,7,FALSE))","v":""},null,{"$f":"IF($D169=\"\",\"\",VLOOKUP($D169,登録用データのコピー!$B$5:$V$89,2,FALSE))","v":""}]
[]
[]
[null,null,null,null,null,null,null,null,null,null,null,null,null,null,null,null,null,null,null,{"$f":"IF(SUM(D162:D172)>0,1,0 )","v":0}]
[null,null,{"$f":"TODAY()","v":"2022-05-27"},null,null,null,null,null,"上記の通り、参加料を添えて申し込みます。"]
[null,null,null,null,"学 校 名",null,null,{"$f":"VLOOKUP(R163,data!$A$3:$C$302,2,0)","v":{"$error":"#N/A"}}]
[]
[null,null,null,null,"顧 問 名",null,null,{"$f":"申込基本!$K$27","v":0},null,null,null,null,null,null,null,null,null,null,"印"]
[]
[null,"大阪卓球協会",null,null,null,null,null,null,null,"様",null,null,"顧問連絡先",null,null,{"$f":"申込基本!$P$17&\" ( \"&申込基本!$S$17&\" ) \"&申込基本!$V$17","v":" (  ) "}]
[]
[]
[]
[]
[]
[]
[]
[]
[]
[]
[]
[]
[null,{"$f":"申込基本!$C$5&\"　年度\"","v":"2022　年度"}]
[null,"第",1,"回","特別普及大会（学校対抗）"]
[null,"　　　　　　　　　申　　込　　書",null,null,null,null,null,null,null,null,null,null,null,null,null,null,null,"男子"]
[null,null,null,null,null,null,null,null,null,null,null,null,null,null,null,"チームG"]
[null,"学校名",null,null,{"$f":"VLOOKUP($R$5,data!$A$3:$C$302,3)","v":{"$error":"#N/A"}},null,null,"監督名",null,null,{"$f":"申込基本!$C$17","v":0},null,null,null,null,"学校番号",null,{"$f":"申込基本!$C$7","v":0}]
[null,"ランク",null,"整理番号",null,"会員ＩＤ",null,"名　　　　　　　　前",null,null,null,null,null,"学年",null,"生 年 月 日"]
[null,1,null,null,null,{"$f":"IF($D197=\"\",\"\",VLOOKUP($D197,登録用データのコピー!$B$5:$V$89,2,FALSE))","v":""},null,{"$f":"IF($D197=\"\",\"\",VLOOKUP($D197,登録用データのコピー!$B$5:$V$89,3,FALSE))","v":""},null,{"$f":"IF($D197=\"\",\"\",VLOOKUP($D197,登録用データのコピー!$B$5:$V$89,2,FALSE))","v":""},null,{"$f":"IF($D197=\"\",\"\",VLOOKUP($D197,登録用データのコピー!$B$5:$V$89,2,FALSE))","v":""},null,{"$f":"IF(D197=\"\",\"\",VLOOKUP(D197,data!$Q$4:$S$88,3,FALSE))","v":""},null,{"$f":"IF($D197=\"\",\"\",VLOOKUP($D197,登録用データのコピー!$B$5:$V$89,7,FALSE))","v":""},null,{"$f":"IF($D197=\"\",\"\",VLOOKUP($D197,登録用データのコピー!$B$5:$V$89,2,FALSE))","v":""}]
[null,2,null,null,null,{"$f":"IF($D198=\"\",\"\",VLOOKUP($D198,登録用データのコピー!$B$5:$V$89,2,FALSE))","v":""},null,{"$f":"IF($D198=\"\",\"\",VLOOKUP($D198,登録用データのコピー!$B$5:$V$89,3,FALSE))","v":""},null,{"$f":"IF($D198=\"\",\"\",VLOOKUP($D198,登録用データのコピー!$B$5:$V$89,2,FALSE))","v":""},null,{"$f":"IF($D198=\"\",\"\",VLOOKUP($D198,登録用データのコピー!$B$5:$V$89,2,FALSE))","v":""},null,{"$f":"IF(D198=\"\",\"\",VLOOKUP(D198,data!$Q$4:$S$88,3,FALSE))","v":""},null,{"$f":"IF($D198=\"\",\"\",VLOOKUP($D198,登録用データのコピー!$B$5:$V$89,7,FALSE))","v":""},null,{"$f":"IF($D198=\"\",\"\",VLOOKUP($D198,登録用データのコピー!$B$5:$V$89,2,FALSE))","v":""}]
[null,3,null,null,null,{"$f":"IF($D199=\"\",\"\",VLOOKUP($D199,登録用データのコピー!$B$5:$V$89,2,FALSE))","v":""},null,{"$f":"IF($D199=\"\",\"\",VLOOKUP($D199,登録用データのコピー!$B$5:$V$89,3,FALSE))","v":""},null,{"$f":"IF($D199=\"\",\"\",VLOOKUP($D199,登録用データのコピー!$B$5:$V$89,2,FALSE))","v":""},null,{"$f":"IF($D199=\"\",\"\",VLOOKUP($D199,登録用データのコピー!$B$5:$V$89,2,FALSE))","v":""},null,{"$f":"IF(D199=\"\",\"\",VLOOKUP(D199,data!$Q$4:$S$88,3,FALSE))","v":""},null,{"$f":"IF($D199=\"\",\"\",VLOOKUP($D199,登録用データのコピー!$B$5:$V$89,7,FALSE))","v":""},null,{"$f":"IF($D199=\"\",\"\",VLOOKUP($D199,登録用データのコピー!$B$5:$V$89,2,FALSE))","v":""}]
[null,4,null,null,null,{"$f":"IF($D200=\"\",\"\",VLOOKUP($D200,登録用データのコピー!$B$5:$V$89,2,FALSE))","v":""},null,{"$f":"IF($D200=\"\",\"\",VLOOKUP($D200,登録用データのコピー!$B$5:$V$89,3,FALSE))","v":""},null,{"$f":"IF($D200=\"\",\"\",VLOOKUP($D200,登録用データのコピー!$B$5:$V$89,2,FALSE))","v":""},null,{"$f":"IF($D200=\"\",\"\",VLOOKUP($D200,登録用データのコピー!$B$5:$V$89,2,FALSE))","v":""},null,{"$f":"IF(D200=\"\",\"\",VLOOKUP(D200,data!$Q$4:$S$88,3,FALSE))","v":""},null,{"$f":"IF($D200=\"\",\"\",VLOOKUP($D200,登録用データのコピー!$B$5:$V$89,7,FALSE))","v":""},null,{"$f":"IF($D200=\"\",\"\",VLOOKUP($D200,登録用データのコピー!$B$5:$V$89,2,FALSE))","v":""}]
[null,5,null,null,null,{"$f":"IF($D201=\"\",\"\",VLOOKUP($D201,登録用データのコピー!$B$5:$V$89,2,FALSE))","v":""},null,{"$f":"IF($D201=\"\",\"\",VLOOKUP($D201,登録用データのコピー!$B$5:$V$89,3,FALSE))","v":""},null,{"$f":"IF($D201=\"\",\"\",VLOOKUP($D201,登録用データのコピー!$B$5:$V$89,2,FALSE))","v":""},null,{"$f":"IF($D201=\"\",\"\",VLOOKUP($D201,登録用データのコピー!$B$5:$V$89,2,FALSE))","v":""},null,{"$f":"IF(D201=\"\",\"\",VLOOKUP(D201,data!$Q$4:$S$88,3,FALSE))","v":""},null,{"$f":"IF($D201=\"\",\"\",VLOOKUP($D201,登録用データのコピー!$B$5:$V$89,7,FALSE))","v":""},null,{"$f":"IF($D201=\"\",\"\",VLOOKUP($D201,登録用データのコピー!$B$5:$V$89,2,FALSE))","v":""}]
[]
[]
[null,null,null,null,null,null,null,null,null,null,null,null,null,null,null,null,null,null,null,{"$f":"IF(SUM(D194:D204)>0,1,0 )","v":0}]
[null,null,{"$f":"TODAY()","v":"2022-05-27"},null,null,null,null,null,"上記の通り、参加料を添えて申し込みます。"]
[null,null,null,null,"学 校 名",null,null,{"$f":"VLOOKUP(R195,data!$A$3:$C$302,2,0)","v":{"$error":"#N/A"}}]
[]
[null,null,null,null,"顧 問 名",null,null,{"$f":"申込基本!$K$27","v":0},null,null,null,null,null,null,null,null,null,null,"印"]
[]
[null,"大阪卓球協会",null,null,null,null,null,null,null,"様",null,null,"顧問連絡先",null,null,{"$f":"申込基本!$P$17&\" ( \"&申込基本!$S$17&\" ) \"&申込基本!$V$17","v":" (  ) "}]
[]
[]
[]
[]
[]
[]
[]
[]
[]
[]
[]
[]
[null,{"$f":"申込基本!$C$5&\"　年度\"","v":"2022　年度"}]
[null,"第",1,"回","特別普及大会（学校対抗）"]
[null,"　　　　　　　　　申　　込　　書",null,null,null,null,null,null,null,null,null,null,null,null,null,null,null,"男子"]
[null,null,null,null,null,null,null,null,null,null,null,null,null,null,null,"チームH"]
[null,"学校名",null,null,{"$f":"VLOOKUP($R$5,data!$A$3:$C$302,3)","v":{"$error":"#N/A"}},null,null,"監督名",null,null,{"$f":"申込基本!$C$17","v":0},null,null,null,null,"学校番号",null,{"$f":"申込基本!$C$7","v":0}]
[null,"ランク",null,"整理番号",null,"会員ＩＤ",null,"名　　　　　　　　前",null,null,null,null,null,"学年",null,"生 年 月 日"]
[null,1,null,null,null,{"$f":"IF($D229=\"\",\"\",VLOOKUP($D229,登録用データのコピー!$B$5:$V$89,2,FALSE))","v":""},null,{"$f":"IF($D229=\"\",\"\",VLOOKUP($D229,登録用データのコピー!$B$5:$V$89,3,FALSE))","v":""},null,{"$f":"IF($D229=\"\",\"\",VLOOKUP($D229,登録用データのコピー!$B$5:$V$89,2,FALSE))","v":""},null,{"$f":"IF($D229=\"\",\"\",VLOOKUP($D229,登録用データのコピー!$B$5:$V$89,2,FALSE))","v":""},null,{"$f":"IF(D229=\"\",\"\",VLOOKUP(D229,data!$Q$4:$S$88,3,FALSE))","v":""},null,{"$f":"IF($D229=\"\",\"\",VLOOKUP($D229,登録用データのコピー!$B$5:$V$89,7,FALSE))","v":""},null,{"$f":"IF($D229=\"\",\"\",VLOOKUP($D229,登録用データのコピー!$B$5:$V$89,2,FALSE))","v":""}]
[null,2,null,null,null,{"$f":"IF($D230=\"\",\"\",VLOOKUP($D230,登録用データのコピー!$B$5:$V$89,2,FALSE))","v":""},null,{"$f":"IF($D230=\"\",\"\",VLOOKUP($D230,登録用データのコピー!$B$5:$V$89,3,FALSE))","v":""},null,{"$f":"IF($D230=\"\",\"\",VLOOKUP($D230,登録用データのコピー!$B$5:$V$89,2,FALSE))","v":""},null,{"$f":"IF($D230=\"\",\"\",VLOOKUP($D230,登録用データのコピー!$B$5:$V$89,2,FALSE))","v":""},null,{"$f":"IF(D230=\"\",\"\",VLOOKUP(D230,data!$Q$4:$S$88,3,FALSE))","v":""},null,{"$f":"IF($D230=\"\",\"\",VLOOKUP($D230,登録用データのコピー!$B$5:$V$89,7,FALSE))","v":""},null,{"$f":"IF($D230=\"\",\"\",VLOOKUP($D230,登録用データのコピー!$B$5:$V$89,2,FALSE))","v":""}]
[null,3,null,null,null,{"$f":"IF($D231=\"\",\"\",VLOOKUP($D231,登録用データのコピー!$B$5:$V$89,2,FALSE))","v":""},null,{"$f":"IF($D231=\"\",\"\",VLOOKUP($D231,登録用データのコピー!$B$5:$V$89,3,FALSE))","v":""},null,{"$f":"IF($D231=\"\",\"\",VLOOKUP($D231,登録用データのコピー!$B$5:$V$89,2,FALSE))","v":""},null,{"$f":"IF($D231=\"\",\"\",VLOOKUP($D231,登録用データのコピー!$B$5:$V$89,2,FALSE))","v":""},null,{"$f":"IF(D231=\"\",\"\",VLOOKUP(D231,data!$Q$4:$S$88,3,FALSE))","v":""},null,{"$f":"IF($D231=\"\",\"\",VLOOKUP($D231,登録用データのコピー!$B$5:$V$89,7,FALSE))","v":""},null,{"$f":"IF($D231=\"\",\"\",VLOOKUP($D231,登録用データのコピー!$B$5:$V$89,2,FALSE))","v":""}]
[null,4,null,null,null,{"$f":"IF($D232=\"\",\"\",VLOOKUP($D232,登録用データのコピー!$B$5:$V$89,2,FALSE))","v":""},null,{"$f":"IF($D232=\"\",\"\",VLOOKUP($D232,登録用データのコピー!$B$5:$V$89,3,FALSE))","v":""},null,{"$f":"IF($D232=\"\",\"\",VLOOKUP($D232,登録用データのコピー!$B$5:$V$89,2,FALSE))","v":""},null,{"$f":"IF($D232=\"\",\"\",VLOOKUP($D232,登録用データのコピー!$B$5:$V$89,2,FALSE))","v":""},null,{"$f":"IF(D232=\"\",\"\",VLOOKUP(D232,data!$Q$4:$S$88,3,FALSE))","v":""},null,{"$f":"IF($D232=\"\",\"\",VLOOKUP($D232,登録用データのコピー!$B$5:$V$89,7,FALSE))","v":""},null,{"$f":"IF($D232=\"\",\"\",VLOOKUP($D232,登録用データのコピー!$B$5:$V$89,2,FALSE))","v":""}]
[null,5,null,null,null,{"$f":"IF($D233=\"\",\"\",VLOOKUP($D233,登録用データのコピー!$B$5:$V$89,2,FALSE))","v":""},null,{"$f":"IF($D233=\"\",\"\",VLOOKUP($D233,登録用データのコピー!$B$5:$V$89,3,FALSE))","v":""},null,{"$f":"IF($D233=\"\",\"\",VLOOKUP($D233,登録用データのコピー!$B$5:$V$89,2,FALSE))","v":""},null,{"$f":"IF($D233=\"\",\"\",VLOOKUP($D233,登録用データのコピー!$B$5:$V$89,2,FALSE))","v":""},null,{"$f":"IF(D233=\"\",\"\",VLOOKUP(D233,data!$Q$4:$S$88,3,FALSE))","v":""},null,{"$f":"IF($D233=\"\",\"\",VLOOKUP($D233,登録用データのコピー!$B$5:$V$89,7,FALSE))","v":""},null,{"$f":"IF($D233=\"\",\"\",VLOOKUP($D233,登録用データのコピー!$B$5:$V$89,2,FALSE))","v":""}]
[]
[]
[null,null,null,null,null,null,null,null,null,null,null,null,null,null,null,null,null,null,null,{"$f":"IF(SUM(D226:D236)>0,1,0 )","v":0}]
[null,null,{"$f":"TODAY()","v":"2022-05-27"},null,null,null,null,null,"上記の通り、参加料を添えて申し込みます。"]
[null,null,null,null,"学 校 名",null,null,{"$f":"VLOOKUP(R227,data!$A$3:$C$302,2,0)","v":{"$error":"#N/A"}}]
[]
[null,null,null,null,"顧 問 名",null,null,{"$f":"申込基本!$K$27","v":0},null,null,null,null,null,null,null,null,null,null,"印"]
[]
[null,"大阪卓球協会",null,null,null,null,null,null,null,"様",null,null,"顧問連絡先",null,null,{"$f":"申込基本!$P$17&\" ( \"&申込基本!$S$17&\" ) \"&申込基本!$V$17","v":" (  ) "}]

{"sheet":"送信用（学校対抗3人以下）","index":5,"n_rows":9,"n_cols":11,"rows_kept":9,"cut":false,"hidden":false,"merged":[]}
["学校番号","学校名","チーム","選手名"]
[{"$f":"申込基本!$C$7","v":0},{"$f":"'入力用（学校対抗3人以下）'!$E$5","v":{"$error":"#N/A"}},"A",{"$f":"'入力用（学校対抗3人以下）'!$H7&'入力用（学校対抗3人以下）'!$N7","v":""},{"$f":"'入力用（学校対抗3人以下）'!$H8&'入力用（学校対抗3人以下）'!$N8","v":""},{"$f":"'入力用（学校対抗3人以下）'!$H9&'入力用（学校対抗3人以下）'!$N9","v":""},{"$f":"'入力用（学校対抗3人以下）'!$H10&'入力用（学校対抗3人以下）'!$N10","v":""},{"$f":"'入力用（学校対抗3人以下）'!$H11&'入力用（学校対抗3人以下）'!$N11","v":""},{"$f":"'入力用（学校対抗3人以下）'!$H12&'入力用（学校対抗3人以下）'!$N12","v":""},{"$f":"'入力用（学校対抗3人以下）'!$H13&'入力用（学校対抗3人以下）'!$N13","v":""},{"$f":"'入力用（学校対抗3人以下）'!$H14&'入力用（学校対抗3人以下）'!$N14","v":""}]
[{"$f":"申込基本!$C$7","v":0},{"$f":"'入力用（学校対抗3人以下）'!$E$5","v":{"$error":"#N/A"}},"B",{"$f":"'入力用（学校対抗3人以下）'!$H37&'入力用（学校対抗3人以下）'!$N37","v":""},{"$f":"'入力用（学校対抗3人以下）'!$H38&'入力用（学校対抗3人以下）'!$N38","v":""},{"$f":"'入力用（学校対抗3人以下）'!$H39&'入力用（学校対抗3人以下）'!$N39","v":""},{"$f":"'入力用（学校対抗3人以下）'!$H40&'入力用（学校対抗3人以下）'!$N40","v":""},{"$f":"'入力用（学校対抗3人以下）'!$H41&'入力用（学校対抗3人以下）'!$N41","v":""},{"$f":"'入力用（学校対抗3人以下）'!$H42&'入力用（学校対抗3人以下）'!$N42","v":""},{"$f":"'入力用（学校対抗3人以下）'!$H43&'入力用（学校対抗3人以下）'!$N43","v":""},{"$f":"'入力用（学校対抗3人以下）'!$H44&'入力用（学校対抗3人以下）'!$N44","v":""}]
[{"$f":"申込基本!$C$7","v":0},{"$f":"'入力用（学校対抗3人以下）'!$E$5","v":{"$error":"#N/A"}},"C",{"$f":"'入力用（学校対抗3人以下）'!$H69&'入力用（学校対抗3人以下）'!$N69","v":""},{"$f":"'入力用（学校対抗3人以下）'!$H70&'入力用（学校対抗3人以下）'!$N70","v":""},{"$f":"'入力用（学校対抗3人以下）'!$H71&'入力用（学校対抗3人以下）'!$N71","v":""},{"$f":"'入力用（学校対抗3人以下）'!$H72&'入力用（学校対抗3人以下）'!$N72","v":""},{"$f":"'入力用（学校対抗3人以下）'!$H73&'入力用（学校対抗3人以下）'!$N73","v":""},{"$f":"'入力用（学校対抗3人以下）'!$H74&'入力用（学校対抗3人以下）'!$N74","v":""},{"$f":"'入力用（学校対抗3人以下）'!$H75&'入力用（学校対抗3人以下）'!$N75","v":""},{"$f":"'入力用（学校対抗3人以下）'!$H76&'入力用（学校対抗3人以下）'!$N76","v":""}]
[{"$f":"申込基本!$C$7","v":0},{"$f":"'入力用（学校対抗3人以下）'!$E$5","v":{"$error":"#N/A"}},"D",{"$f":"'入力用（学校対抗3人以下）'!$H101&'入力用（学校対抗3人以下）'!$N101","v":""},{"$f":"'入力用（学校対抗3人以下）'!$H102&'入力用（学校対抗3人以下）'!$N102","v":""},{"$f":"'入力用（学校対抗3人以下）'!$H103&'入力用（学校対抗3人以下）'!$N103","v":""},{"$f":"'入力用（学校対抗3人以下）'!$H104&'入力用（学校対抗3人以下）'!$N104","v":""},{"$f":"'入力用（学校対抗3人以下）'!$H105&'入力用（学校対抗3人以下）'!$N105","v":""},{"$f":"'入力用（学校対抗3人以下）'!$H106&'入力用（学校対抗3人以下）'!$N106","v":""},{"$f":"'入力用（学校対抗3人以下）'!$H107&'入力用（学校対抗3人以下）'!$N107","v":""},{"$f":"'入力用（学校対抗3人以下）'!$H108&'入力用（学校対抗3人以下）'!$N108","v":""}]
[{"$f":"申込基本!$C$7","v":0},{"$f":"'入力用（学校対抗3人以下）'!$E$5","v":{"$error":"#N/A"}},"E",{"$f":"'入力用（学校対抗3人以下）'!$H133&'入力用（学校対抗3人以下）'!$N133","v":""},{"$f":"'入力用（学校対抗3人以下）'!$H134&'入力用（学校対抗3人以下）'!$N134","v":""},{"$f":"'入力用（学校対抗3人以下）'!$H135&'入力用（学校対抗3人以下）'!$N135","v":""},{"$f":"'入力用（学校対抗3人以下）'!$H136&'入力用（学校対抗3人以下）'!$N136","v":""},{"$f":"'入力用（学校対抗3人以下）'!$H137&'入力用（学校対抗3人以下）'!$N137","v":""},{"$f":"'入力用（学校対抗3人以下）'!$H138&'入力用（学校対抗3人以下）'!$N138","v":""},{"$f":"'入力用（学校対抗3人以下）'!$H139&'入力用（学校対抗3人以下）'!$N139","v":""},{"$f":"'入力用（学校対抗3人以下）'!$H140&'入力用（学校対抗3人以下）'!$N140","v":""}]
[{"$f":"申込基本!$C$7","v":0},{"$f":"'入力用（学校対抗3人以下）'!$E$5","v":{"$error":"#N/A"}},"F",{"$f":"'入力用（学校対抗3人以下）'!$H165&'入力用（学校対抗3人以下）'!$N165","v":""},{"$f":"'入力用（学校対抗3人以下）'!$H166&'入力用（学校対抗3人以下）'!$N166","v":""},{"$f":"'入力用（学校対抗3人以下）'!$H167&'入力用（学校対抗3人以下）'!$N167","v":""},{"$f":"'入力用（学校対抗3人以下）'!$H168&'入力用（学校対抗3人以下）'!$N168","v":""},{"$f":"'入力用（学校対抗3人以下）'!$H169&'入力用（学校対抗3人以下）'!$N169","v":""},{"$f":"'入力用（学校対抗3人以下）'!$H170&'入力用（学校対抗3人以下）'!$N170","v":""},{"$f":"'入力用（学校対抗3人以下）'!$H171&'入力用（学校対抗3人以下）'!$N171","v":""},{"$f":"'入力用（学校対抗3人以下）'!$H172&'入力用（学校対抗3人以下）'!$N172","v":""}]
[{"$f":"申込基本!$C$7","v":0},{"$f":"'入力用（学校対抗3人以下）'!$E$5","v":{"$error":"#N/A"}},"G",{"$f":"'入力用（学校対抗3人以下）'!$H197&'入力用（学校対抗3人以下）'!$N197","v":""},{"$f":"'入力用（学校対抗3人以下）'!$H198&'入力用（学校対抗3人以下）'!$N198","v":""},{"$f":"'入力用（学校対抗3人以下）'!$H199&'入力用（学校対抗3人以下）'!$N199","v":""},{"$f":"'入力用（学校対抗3人以下）'!$H200&'入力用（学校対抗3人以下）'!$N200","v":""},{"$f":"'入力用（学校対抗3人以下）'!$H201&'入力用（学校対抗3人以下）'!$N201","v":""},{"$f":"'入力用（学校対抗3人以下）'!$H202&'入力用（学校対抗3人以下）'!$N202","v":""},{"$f":"'入力用（学校対抗3人以下）'!$H203&'入力用（学校対抗3人以下）'!$N203","v":""},{"$f":"'入力用（学校対抗3人以下）'!$H204&'入力用（学校対抗3人以下）'!$N204","v":""}]
[{"$f":"申込基本!$C$7","v":0},{"$f":"'入力用（学校対抗3人以下）'!$E$5","v":{"$error":"#N/A"}},"H",{"$f":"'入力用（学校対抗3人以下）'!$H229&'入力用（学校対抗3人以下）'!$N229","v":""},{"$f":"'入力用（学校対抗3人以下）'!$H230&'入力用（学校対抗3人以下）'!$N230","v":""},{"$f":"'入力用（学校対抗3人以下）'!$H231&'入力用（学校対抗3人以下）'!$N231","v":""},{"$f":"'入力用（学校対抗3人以下）'!$H232&'入力用（学校対抗3人以下）'!$N232","v":""},{"$f":"'入力用（学校対抗3人以下）'!$H233&'入力用（学校対抗3人以下）'!$N233","v":""},{"$f":"'入力用（学校対抗3人以下）'!$H234&'入力用（学校対抗3人以下）'!$N234","v":""},{"$f":"'入力用（学校対抗3人以下）'!$H235&'入力用（学校対抗3人以下）'!$N235","v":""},{"$f":"'入力用（学校対抗3人以下）'!$H236&'入力用（学校対抗3人以下）'!$N236","v":""}]

{"sheet":"入力用（シングルス）","index":6,"n_rows":155,"n_cols":21,"rows_kept":155,"cut":false,"hidden":false,"merged":[[7,20,11,27],[0,1,0,18],[2,1,2,16],[2,17,2,18],[4,1,4,3],[4,4,4,6],[4,7,4,9],[4,10,4,14],[4,15,4,16],[4,20,5,21],[7,5,7,10],[7,11,7,12],[7,13,7,16],[4,17,4,18],[5,1,5,2],[5,3,5,4],[5,5,5,10],[5,11,5,12],[5,13,5,16],[10,1,10,2],[10,3,10,4],[10,5,10,10],[10,11,10,12],[10,13,10,16],[8,3,8,4],[8,5,8,10],[8,11,8,12],[8,13,8,16],[9,1,9,2],[9,3,9,4],[9,5,9,10],[9,11,9,12],[9,13,9,16],[6,1,6,2],[6,3,6,4],[6,5,6,10],[6,11,6,12],[6,13,6,16],[7,1,7,2],[7,3,7,4],[13,13,13,16],[14,1,14,2],[14,3,14,4],[14,5,14,10],[14,11,14,12],[14,13,14,16],[11,1,11,2],[11,3,11,4],[11,5,11,10],[11,11,11,12],[11,13,11,16],[12,1,12,2],[12,3,12,4],[12,5,12,10],[12,11,12,12],[12,13,12,16],[8,1,8,2],[25,1,26,4],[25,8,26,17],[25,18,26,18],[27,4,28,13],[31,8,32,17],[1,4,1,14],[18,4,19,6],[18,7,19,18],[20,4,21,6],[20,7,21,16],[20,18,21,18],[22,1,22,7],[22,9,22,10],[15,1,15,2],[15,3,15,4],[15,5,15,10],[15,11,15,12],[15,13,15,16],[17,2,17,7],[17,8,17,18],[13,1,13,2],[13,3,13,4],[13,5,13,10],[13,11,13,12],[33,1,33,18],[34,4,34,14],[35,1,35,16],[35,17,35,18],[37,1,37,3],[37,4,37,6],[37,7,37,9],[37,10,37,14],[37,15,37,16],[37,17,37,18],[38,1,38,2],[38,3,38,4],[38,5,38,10],[38,11,38,12],[38,13,38,16],[39,1,39,2],[39,3,39,4],[39,5,39,10],[39,11,39,12],[39,13,39,16],[40,1,40,2],[40,3,40,4],[40,5,40,10],[40,11,40,12],[40,13,40,16],[41,1,41,2],[41,3,41,4],[41,5,41,10],[41,11,41,12],[41,13,41,16],[42,1,42,2],[42,3,42,4],[42,5,42,10],[42,11,42,12],[42,13,42,16],[43,1,43,2],[43,3,43,4],[43,5,43,10],[43,11,43,12],[43,13,43,16],[44,1,44,2],[44,3,44,4],[44,5,44,10],[44,11,44,12],[44,13,44,16],[45,1,45,2],[45,3,45,4],[45,5,45,10],[45,11,45,12],[45,13,45,16],[46,1,46,2],[46,3,46,4],[46,5,46,10],[46,11,46,12],[46,13,46,16],[47,1,47,2],[47,3,47,4],[47,5,47,10],[47,11,47,12],[47,13,47,16],[66,1,66,18],[51,4,52,6],[51,7,52,18],[53,4,54,6],[53,7,54,16],[53,18,54,18],[55,1,55,7],[55,9,55,10],[48,1,48,2],[48,3,48,4],[48,5,48,10],[48,11,48,12],[48,13,48,16],[50,2,50,7],[50,8,50,18],[57,0,65,18],[67,4,67,14],[68,1,68,16],[68,17,68,18],[70,1,70,3],[70,4,70,6],[70,7,70,9],[70,10,70,14],[70,15,70,16],[70,17,70,18],[71,1,71,2],[71,3,71,4],[71,5,71,10],[71,11,71,12],[71,13,71,16],[72,1,72,2],[72,3,72,4],[72,5,72,10],[72,11,72,12],[72,13,72,16],[73,1,73,2],[73,3,73,4],[73,5,73,10],[73,11,73,12],[73,13,73,16],[74,1,74,2],[74,3,74,4],[74,5,74,10],[74,11,74,12],[74,13,74,16],[75,1,75,2],[75,3,75,4],[75,5,75,10],[75,11,75,12],[75,13,75,16],[76,1,76,2],[76,3,76,4],[76,5,76,10],[76,11,76,12],[76,13,76,16],[77,1,77,2],[77,3,77,4],[77,5,77,10],[77,11,77,12],[77,13,77,16],[78,1,78,2],[78,3,78,4],[78,5,78,10],[78,11,78,12],[78,13,78,16],[79,1,79,2],[79,3,79,4],[79,5,79,10],[79,11,79,12],[79,13,79,16],[80,1,80,2],[80,3,80,4],[80,5,80,10],[80,11,80,12],[80,13,80,16],[99,1,99,18],[84,4,85,6],[84,7,85,18],[86,4,87,6],[86,7,87,16],[86,18,87,18],[88,1,88,7],[88,9,88,10],[81,1,81,2],[81,3,81,4],[81,5,81,10],[81,11,81,12],[81,13,81,16],[83,2,83,7],[83,8,83,18],[90,0,98,18],[100,4,100,14],[101,1,101,16],[101,17,101,18],[103,1,103,3],[103,4,103,6],[103,7,103,9],[103,10,103,14],[103,15,103,16],[103,17,103,18],[104,1,104,2],[104,3,104,4],[104,5,104,10],[104,11,104,12],[104,13,104,16],[105,1,105,2],[105,3,105,4],[105,5,105,10],[105,11,105,12],[105,13,105,16],[106,1,106,2],[106,3,106,4],[106,5,106,10],[106,11,106,12],[106,13,106,16],[107,1,107,2],[107,3,107,4],[107,5,107,10],[107,11,107,12],[107,13,107,16],[108,1,108,2],[108,3,108,4],[108,5,108,10],[108,11,108,12],[108,13,108,16],[109,1,109,2],[109,3,109,4],[109,5,109,10],[109,11,109,12],[109,13,109,16],[110,1,110,2],[110,3,110,4],[110,5,110,10],[110,11,110,12],[110,13,110,16],[111,1,111,2],[111,3,111,4],[111,5,111,10],[111,11,111,12],[111,13,111,16],[112,1,112,2],[112,3,112,4],[112,5,112,10],[112,11,112,12],[112,13,112,16],[113,1,113,2],[113,3,113,4],[113,5,113,10],[113,11,113,12],[113,13,113,16],[132,1,132,18],[117,4,118,6],[117,7,118,18],[119,4,120,6],[119,7,120,16],[119,18,120,18],[121,1,121,7],[121,9,121,10],[114,1,114,2],[114,3,114,4],[114,5,114,10],[114,11,114,12],[114,13,114,16],[116,2,116,7],[116,8,116,18],[123,0,131,18],[133,4,133,14],[134,1,134,16],[134,17,134,18],[136,1,136,3],[136,4,136,6],[136,7,136,9],[136,10,136,14],[136,15,136,16],[136,17,136,18],[137,1,137,2],[137,3,137,4],[137,5,137,10],[137,11,137,12],[137,13,137,16],[138,1,138,2],[138,3,138,4],[138,5,138,10],[138,11,138,12],[138,13,138,16],[139,1,139,2],[139,3,139,4],[139,5,139,10],[139,11,139,12],[139,13,139,16],[140,1,140,2],[140,3,140,4],[140,5,140,10],[140,11,140,12],[140,13,140,16],[146,1,146,2],[141,1,141,2],[141,3,141,4],[141,5,141,10],[141,11,141,12],[141,13,141,16],[142,1,142,2],[142,3,142,4],[142,5,142,10],[142,11,142,12],[142,13,142,16],[143,13,143,16],[144,1,144,2],[144,3,144,4],[144,5,144,10],[144,11,144,12],[144,13,144,16],[145,1,145,2],[145,3,145,4],[145,5,145,10],[145,11,145,12],[145,13,145,16],[1,1,1,3],[156,0,164,18],[150,4,151,6],[150,7,151,18],[152,4,153,6],[152,7,153,16],[152,18,153,18],[154,1,154,7],[154,9,154,10],[147,1,147,2],[147,3,147,4],[147,5,147,10],[147,11,147,12],[147,13,147,16],[149,2,149,7],[149,8,149,18],[146,3,146,4],[146,5,146,10],[146,11,146,12],[146,13,146,16],[143,1,143,2],[143,3,143,4],[143,5,143,10],[143,11,143,12]]}
[null,{"$f":"申込基本!$C$5&\"　年度\"","v":"2022　年度"}]
[null,"2022-06-25",null,null,"特別普及大会（シングルス）",null,null,null,null,null,null,null,null,null,null,null,null,null,null,null,"←日付と、男子・女子を選んでください。"]
[null,"　　　　　　　　　申　　込　　書",null,null,null,null,null,null,null,null,null,null,null,null,null,null,null,"男子"]
[]
[null,"学校名",null,null,{"$f":"申込基本!Q7","v":{"$error":"#N/A"}},null,null,"監督名",null,null,{"$f":"申込基本!C17","v":0},null,null,null,null,"学校番号",null,{"$f":"申込基本!C7","v":0}]
[null,"整理番号",null,"会員ＩＤ",null,"名　　　　　　　　前",null,null,null,null,null,"学年",null,"生 年 月 日",null,null,null,"男女別\nシングルス","初級\n(男女混合)"]
[null,null,null,{"$f":"IF($B7=\"\",\"\",VLOOKUP($B7,登録用データのコピー!$B$5:$V$89,2,FALSE))","v":""},null,{"$f":"IF($B7=\"\",\"\",VLOOKUP($B7,登録用データのコピー!$B$5:$V$89,3,FALSE))","v":""},null,{"$f":"IF($B7=\"\",\"\",VLOOKUP($B7,[1]登録用データのコピー!$B$5:$V$89,2,FALSE))","v":""},null,{"$f":"IF($B7=\"\",\"\",VLOOKUP($B7,[1]登録用データのコピー!$B$5:$V$89,2,FALSE))","v":""},null,{"$f":"IF(B7=\"\",\"\",VLOOKUP(B7,data!$Q$4:$S$88,3,FALSE))","v":""},null,{"$f":"IF($D7=\"\",\"\",VLOOKUP($B7,登録用データのコピー!$B$5:$V$89,7,FALSE))","v":""},null,{"$f":"IF($D7=\"\",\"\",VLOOKUP($D7,登録用データのコピー!$B$5:$V$89,2,FALSE))","v":""}]
[null,null,null,{"$f":"IF($B8=\"\",\"\",VLOOKUP($B8,登録用データのコピー!$B$5:$V$89,2,FALSE))","v":""},null,{"$f":"IF($B8=\"\",\"\",VLOOKUP($B8,登録用データのコピー!$B$5:$V$89,3,FALSE))","v":""},null,{"$f":"IF($B8=\"\",\"\",VLOOKUP($B8,[1]登録用データのコピー!$B$5:$V$89,2,FALSE))","v":""},null,{"$f":"IF($B8=\"\",\"\",VLOOKUP($B8,[1]登録用データのコピー!$B$5:$V$89,2,FALSE))","v":""},null,{"$f":"IF(B8=\"\",\"\",VLOOKUP(B8,data!$Q$4:$S$88,3,FALSE))","v":""},null,{"$f":"IF($D8=\"\",\"\",VLOOKUP($B8,登録用データのコピー!$B$5:$V$89,7,FALSE))","v":""},null,{"$f":"IF($D8=\"\",\"\",VLOOKUP($D8,登録用データのコピー!$B$5:$V$89,2,FALSE))","v":""},null,null,null,null,"「申込基本」のシートを最初に作業してから、\n黄色の枠に入力して下さい。\n初級の有無、参加可能人数は大会によって異なります。\n入力後、送信用タブをクリック、緑のボタンを押して、送信用データを作成してください。\n申込書の印刷は下記のボタンでプレビューを確認後、必要ページのみプリントしてください。"]
[null,null,null,{"$f":"IF($B9=\"\",\"\",VLOOKUP($B9,登録用データのコピー!$B$5:$V$89,2,FALSE))","v":""},null,{"$f":"IF($B9=\"\",\"\",VLOOKUP($B9,登録用データのコピー!$B$5:$V$89,3,FALSE))","v":""},null,{"$f":"IF($B9=\"\",\"\",VLOOKUP($B9,[1]登録用データのコピー!$B$5:$V$89,2,FALSE))","v":""},null,{"$f":"IF($B9=\"\",\"\",VLOOKUP($B9,[1]登録用データのコピー!$B$5:$V$89,2,FALSE))","v":""},null,{"$f":"IF(B9=\"\",\"\",VLOOKUP(B9,data!$Q$4:$S$88,3,FALSE))","v":""},null,{"$f":"IF($D9=\"\",\"\",VLOOKUP($B9,登録用データのコピー!$B$5:$V$89,7,FALSE))","v":""},null,{"$f":"IF($D9=\"\",\"\",VLOOKUP($D9,登録用データのコピー!$B$5:$V$89,2,FALSE))","v":""}]
[null,null,null,{"$f":"IF($B10=\"\",\"\",VLOOKUP($B10,登録用データのコピー!$B$5:$V$89,2,FALSE))","v":""},null,{"$f":"IF($B10=\"\",\"\",VLOOKUP($B10,登録用データのコピー!$B$5:$V$89,3,FALSE))","v":""},null,{"$f":"IF($B10=\"\",\"\",VLOOKUP($B10,[1]登録用データのコピー!$B$5:$V$89,2,FALSE))","v":""},null,{"$f":"IF($B10=\"\",\"\",VLOOKUP($B10,[1]登録用データのコピー!$B$5:$V$89,2,FALSE))","v":""},null,{"$f":"IF(B10=\"\",\"\",VLOOKUP(B10,data!$Q$4:$S$88,3,FALSE))","v":""},null,{"$f":"IF($D10=\"\",\"\",VLOOKUP($B10,登録用データのコピー!$B$5:$V$89,7,FALSE))","v":""},null,{"$f":"IF($D10=\"\",\"\",VLOOKUP($D10,登録用データのコピー!$B$5:$V$89,2,FALSE))","v":""}]
[null,null,null,{"$f":"IF($B11=\"\",\"\",VLOOKUP($B11,登録用データのコピー!$B$5:$V$89,2,FALSE))","v":""},null,{"$f":"IF($B11=\"\",\"\",VLOOKUP($B11,登録用データのコピー!$B$5:$V$89,3,FALSE))","v":""},null,{"$f":"IF($B11=\"\",\"\",VLOOKUP($B11,[1]登録用データのコピー!$B$5:$V$89,2,FALSE))","v":""},null,{"$f":"IF($B11=\"\",\"\",VLOOKUP($B11,[1]登録用データのコピー!$B$5:$V$89,2,FALSE))","v":""},null,{"$f":"IF(B11=\"\",\"\",VLOOKUP(B11,data!$Q$4:$S$88,3,FALSE))","v":""},null,{"$f":"IF($D11=\"\",\"\",VLOOKUP($B11,登録用データのコピー!$B$5:$V$89,7,FALSE))","v":""},null,{"$f":"IF($D11=\"\",\"\",VLOOKUP($D11,登録用データのコピー!$B$5:$V$89,2,FALSE))","v":""}]
[null,null,null,{"$f":"IF($B12=\"\",\"\",VLOOKUP($B12,登録用データのコピー!$B$5:$V$89,2,FALSE))","v":""},null,{"$f":"IF($B12=\"\",\"\",VLOOKUP($B12,登録用データのコピー!$B$5:$V$89,3,FALSE))","v":""},null,{"$f":"IF($B12=\"\",\"\",VLOOKUP($B12,[1]登録用データのコピー!$B$5:$V$89,2,FALSE))","v":""},null,{"$f":"IF($B12=\"\",\"\",VLOOKUP($B12,[1]登録用データのコピー!$B$5:$V$89,2,FALSE))","v":""},null,{"$f":"IF(B12=\"\",\"\",VLOOKUP(B12,data!$Q$4:$S$88,3,FALSE))","v":""},null,{"$f":"IF($D12=\"\",\"\",VLOOKUP($B12,登録用データのコピー!$B$5:$V$89,7,FALSE))","v":""},null,{"$f":"IF($D12=\"\",\"\",VLOOKUP($D12,登録用データのコピー!$B$5:$V$89,2,FALSE))","v":""}]
[null,null,null,{"$f":"IF($B13=\"\",\"\",VLOOKUP($B13,登録用データのコピー!$B$5:$V$89,2,FALSE))","v":""},null,{"$f":"IF($B13=\"\",\"\",VLOOKUP($B13,登録用データのコピー!$B$5:$V$89,3,FALSE))","v":""},null,{"$f":"IF($B13=\"\",\"\",VLOOKUP($B13,[1]登録用データのコピー!$B$5:$V$89,2,FALSE))","v":""},null,{"$f":"IF($B13=\"\",\"\",VLOOKUP($B13,[1]登録用データのコピー!$B$5:$V$89,2,FALSE))","v":""},null,{"$f":"IF(B13=\"\",\"\",VLOOKUP(B13,data!$Q$4:$S$88,3,FALSE))","v":""},null,{"$f":"IF($D13=\"\",\"\",VLOOKUP($B13,登録用データのコピー!$B$5:$V$89,7,FALSE))","v":""},null,{"$f":"IF($D13=\"\",\"\",VLOOKUP($D13,登録用データのコピー!$B$5:$V$89,2,FALSE))","v":""}]
[null,null,null,{"$f":"IF($B14=\"\",\"\",VLOOKUP($B14,登録用データのコピー!$B$5:$V$89,2,FALSE))","v":""},null,{"$f":"IF($B14=\"\",\"\",VLOOKUP($B14,登録用データのコピー!$B$5:$V$89,3,FALSE))","v":""},null,{"$f":"IF($B14=\"\",\"\",VLOOKUP($B14,[1]登録用データのコピー!$B$5:$V$89,2,FALSE))","v":""},null,{"$f":"IF($B14=\"\",\"\",VLOOKUP($B14,[1]登録用データのコピー!$B$5:$V$89,2,FALSE))","v":""},null,{"$f":"IF(B14=\"\",\"\",VLOOKUP(B14,data!$Q$4:$S$88,3,FALSE))","v":""},null,{"$f":"IF($D14=\"\",\"\",VLOOKUP($B14,登録用データのコピー!$B$5:$V$89,7,FALSE))","v":""},null,{"$f":"IF($D14=\"\",\"\",VLOOKUP($D14,登録用データのコピー!$B$5:$V$89,2,FALSE))","v":""}]
[null,null,null,{"$f":"IF($B15=\"\",\"\",VLOOKUP($B15,登録用データのコピー!$B$5:$V$89,2,FALSE))","v":""},null,{"$f":"IF($B15=\"\",\"\",VLOOKUP($B15,登録用データのコピー!$B$5:$V$89,3,FALSE))","v":""},null,{"$f":"IF($B15=\"\",\"\",VLOOKUP($B15,[1]登録用データのコピー!$B$5:$V$89,2,FALSE))","v":""},null,{"$f":"IF($B15=\"\",\"\",VLOOKUP($B15,[1]登録用データのコピー!$B$5:$V$89,2,FALSE))","v":""},null,{"$f":"IF(B15=\"\",\"\",VLOOKUP(B15,data!$Q$4:$S$88,3,FALSE))","v":""},null,{"$f":"IF($D15=\"\",\"\",VLOOKUP($B15,登録用データのコピー!$B$5:$V$89,7,FALSE))","v":""},null,{"$f":"IF($D15=\"\",\"\",VLOOKUP($D15,登録用データのコピー!$B$5:$V$89,2,FALSE))","v":""}]
[null,null,null,{"$f":"IF($B16=\"\",\"\",VLOOKUP($B16,登録用データのコピー!$B$5:$V$89,2,FALSE))","v":""},null,{"$f":"IF($B16=\"\",\"\",VLOOKUP($B16,登録用データのコピー!$B$5:$V$89,3,FALSE))","v":""},null,{"$f":"IF($B16=\"\",\"\",VLOOKUP($B16,[1]登録用データのコピー!$B$5:$V$89,2,FALSE))","v":""},null,{"$f":"IF($B16=\"\",\"\",VLOOKUP($B16,[1]登録用データのコピー!$B$5:$V$89,2,FALSE))","v":""},null,{"$f":"IF(B16=\"\",\"\",VLOOKUP(B16,data!$Q$4:$S$88,3,FALSE))","v":""},null,{"$f":"IF($D16=\"\",\"\",VLOOKUP($B16,登録用データのコピー!$B$5:$V$89,7,FALSE))","v":""},null,{"$f":"IF($D16=\"\",\"\",VLOOKUP($D16,登録用データのコピー!$B$5:$V$89,2,FALSE))","v":""}]
[null,null,null,null,null,null,null,null,null,null,null,null,null,null,null,null,null,{"$f":"COUNT(R7:S16)","v":0},"人"]
[null,null,{"$f":"TODAY()","v":"2022-05-27"},null,null,null,null,null,"上記の通り、参加料を添えて申し込みます。"]
[null,null,null,null,"学 校 名",null,null,{"$f":"申込基本!$H$7","v":{"$error":"#N/A"}}]
[]
[null,null,null,null,"顧 問 名",null,null,{"$f":"申込基本!K17","v":0},null,null,null,null,null,null,null,null,null,null,"印"]
[]
[null,"大阪卓球協会",null,null,null,null,null,null,null,"様",null,null,"顧問連絡先",null,null,{"$f":"申込基本!$P$17&\" ( \"&申込基本!$S$17&\" ) \"&申込基本!$V$17","v":" (  ) "}]
[]
[]
[null,"領収証",null,null,null,null,null,null,{"$f":"$H$19","v":{"$error":"#N/A"}},null,null,null,null,null,null,null,null,null,"様"]
[]
[null,{"$f":"R17+R50+R83+R116+R149","v":0},"人",null,{"$f":"U5*1000","v":0}]
[]
[null,null,null,null,null,"但","特別普及大会参加料として"]
[null,null,null,null,null,null,"上記正に領収いたしました"]
[null,null,null,null,null,null,null,null,"大阪卓球協会"]
[]
[null,{"$f":"申込基本!$C$5&\"　年度\"","v":"2022　年度"}]
[null,"第",1,"回","特別普及大会（シングルス）"]
[null,"　　　　　　　　　申　　込　　書",null,null,null,null,null,null,null,null,null,null,null,null,null,null,null,"男子"]
[]
[null,"学校名",null,null,{"$f":"$E$5","v":{"$error":"#N/A"}},null,null,"監督名",null,null,{"$f":"$K$5","v":0},null,null,null,null,"学校番号",null,{"$f":"$R$5","v":0}]
[null,"整理番号",null,"会員ＩＤ",null,"名　　　　　　　　前",null,null,null,null,null,"学年",null,"生 年 月 日",null,null,null,"男女別\nシングルス","初級\n(男女混合)"]
[null,null,null,{"$f":"IF($B40=\"\",\"\",VLOOKUP($B40,登録用データのコピー!$B$5:$V$89,2,FALSE))","v":""},null,{"$f":"IF($B40=\"\",\"\",VLOOKUP($B40,登録用データのコピー!$B$5:$V$89,3,FALSE))","v":""},null,{"$f":"IF($B40=\"\",\"\",VLOOKUP($B40,[1]登録用データのコピー!$B$5:$V$89,2,FALSE))","v":""},null,{"$f":"IF($B40=\"\",\"\",VLOOKUP($B40,[1]登録用データのコピー!$B$5:$V$89,2,FALSE))","v":""},null,{"$f":"IF(B40=\"\",\"\",VLOOKUP(B40,data!$Q$4:$S$88,3,FALSE))","v":""},null,{"$f":"IF($D40=\"\",\"\",VLOOKUP($B40,登録用データのコピー!$B$5:$V$89,7,FALSE))","v":""},null,{"$f":"IF($D40=\"\",\"\",VLOOKUP($D40,登録用データのコピー!$B$5:$V$89,2,FALSE))","v":""}]
[null,null,null,{"$f":"IF($B41=\"\",\"\",VLOOKUP($B41,登録用データのコピー!$B$5:$V$89,2,FALSE))","v":""},null,{"$f":"IF($B41=\"\",\"\",VLOOKUP($B41,登録用データのコピー!$B$5:$V$89,3,FALSE))","v":""},null,{"$f":"IF($B41=\"\",\"\",VLOOKUP($B41,[1]登録用データのコピー!$B$5:$V$89,2,FALSE))","v":""},null,{"$f":"IF($B41=\"\",\"\",VLOOKUP($B41,[1]登録用データのコピー!$B$5:$V$89,2,FALSE))","v":""},null,{"$f":"IF(B41=\"\",\"\",VLOOKUP(B41,data!$Q$4:$S$88,3,FALSE))","v":""},null,{"$f":"IF($D41=\"\",\"\",VLOOKUP($B41,登録用データのコピー!$B$5:$V$89,7,FALSE))","v":""},null,{"$f":"IF($D41=\"\",\"\",VLOOKUP($D41,登録用データのコピー!$B$5:$V$89,2,FALSE))","v":""}]
[null,null,null,{"$f":"IF($B42=\"\",\"\",VLOOKUP($B42,登録用データのコピー!$B$5:$V$89,2,FALSE))","v":""},null,{"$f":"IF($B42=\"\",\"\",VLOOKUP($B42,登録用データのコピー!$B$5:$V$89,3,FALSE))","v":""},null,{"$f":"IF($B42=\"\",\"\",VLOOKUP($B42,[1]登録用データのコピー!$B$5:$V$89,2,FALSE))","v":""},null,{"$f":"IF($B42=\"\",\"\",VLOOKUP($B42,[1]登録用データのコピー!$B$5:$V$89,2,FALSE))","v":""},null,{"$f":"IF(B42=\"\",\"\",VLOOKUP(B42,data!$Q$4:$S$88,3,FALSE))","v":""},null,{"$f":"IF($D42=\"\",\"\",VLOOKUP($B42,登録用データのコピー!$B$5:$V$89,7,FALSE))","v":""},null,{"$f":"IF($D42=\"\",\"\",VLOOKUP($D42,登録用データのコピー!$B$5:$V$89,2,FALSE))","v":""}]
[null,null,null,{"$f":"IF($B43=\"\",\"\",VLOOKUP($B43,登録用データのコピー!$B$5:$V$89,2,FALSE))","v":""},null,{"$f":"IF($B43=\"\",\"\",VLOOKUP($B43,登録用データのコピー!$B$5:$V$89,3,FALSE))","v":""},null,{"$f":"IF($B43=\"\",\"\",VLOOKUP($B43,[1]登録用データのコピー!$B$5:$V$89,2,FALSE))","v":""},null,{"$f":"IF($B43=\"\",\"\",VLOOKUP($B43,[1]登録用データのコピー!$B$5:$V$89,2,FALSE))","v":""},null,{"$f":"IF(B43=\"\",\"\",VLOOKUP(B43,data!$Q$4:$S$88,3,FALSE))","v":""},null,{"$f":"IF($D43=\"\",\"\",VLOOKUP($B43,登録用データのコピー!$B$5:$V$89,7,FALSE))","v":""},null,{"$f":"IF($D43=\"\",\"\",VLOOKUP($D43,登録用データのコピー!$B$5:$V$89,2,FALSE))","v":""}]
[null,null,null,{"$f":"IF($B44=\"\",\"\",VLOOKUP($B44,登録用データのコピー!$B$5:$V$89,2,FALSE))","v":""},null,{"$f":"IF($B44=\"\",\"\",VLOOKUP($B44,登録用データのコピー!$B$5:$V$89,3,FALSE))","v":""},null,{"$f":"IF($B44=\"\",\"\",VLOOKUP($B44,[1]登録用データのコピー!$B$5:$V$89,2,FALSE))","v":""},null,{"$f":"IF($B44=\"\",\"\",VLOOKUP($B44,[1]登録用データのコピー!$B$5:$V$89,2,FALSE))","v":""},null,{"$f":"IF(B44=\"\",\"\",VLOOKUP(B44,data!$Q$4:$S$88,3,FALSE))","v":""},null,{"$f":"IF($D44=\"\",\"\",VLOOKUP($B44,登録用データのコピー!$B$5:$V$89,7,FALSE))","v":""},null,{"$f":"IF($D44=\"\",\"\",VLOOKUP($D44,登録用データのコピー!$B$5:$V$89,2,FALSE))","v":""}]
[null,null,null,{"$f":"IF($B45=\"\",\"\",VLOOKUP($B45,登録用データのコピー!$B$5:$V$89,2,FALSE))","v":""},null,{"$f":"IF($B45=\"\",\"\",VLOOKUP($B45,登録用データのコピー!$B$5:$V$89,3,FALSE))","v":""},null,{"$f":"IF($B45=\"\",\"\",VLOOKUP($B45,[1]登録用データのコピー!$B$5:$V$89,2,FALSE))","v":""},null,{"$f":"IF($B45=\"\",\"\",VLOOKUP($B45,[1]登録用データのコピー!$B$5:$V$89,2,FALSE))","v":""},null,{"$f":"IF(B45=\"\",\"\",VLOOKUP(B45,data!$Q$4:$S$88,3,FALSE))","v":""},null,{"$f":"IF($D45=\"\",\"\",VLOOKUP($B45,登録用データのコピー!$B$5:$V$89,7,FALSE))","v":""},null,{"$f":"IF($D45=\"\",\"\",VLOOKUP($D45,登録用データのコピー!$B$5:$V$89,2,FALSE))","v":""}]
[null,null,null,{"$f":"IF($B46=\"\",\"\",VLOOKUP($B46,登録用データのコピー!$B$5:$V$89,2,FALSE))","v":""},null,{"$f":"IF($B46=\"\",\"\",VLOOKUP($B46,登録用データのコピー!$B$5:$V$89,3,FALSE))","v":""},null,{"$f":"IF($B46=\"\",\"\",VLOOKUP($B46,[1]登録用データのコピー!$B$5:$V$89,2,FALSE))","v":""},null,{"$f":"IF($B46=\"\",\"\",VLOOKUP($B46,[1]登録用データのコピー!$B$5:$V$89,2,FALSE))","v":""},null,{"$f":"IF(B46=\"\",\"\",VLOOKUP(B46,data!$Q$4:$S$88,3,FALSE))","v":""},null,{"$f":"IF($D46=\"\",\"\",VLOOKUP($B46,登録用データのコピー!$B$5:$V$89,7,FALSE))","v":""},null,{"$f":"IF($D46=\"\",\"\",VLOOKUP($D46,登録用データのコピー!$B$5:$V$89,2,FALSE))","v":""}]
[null,null,null,{"$f":"IF($B47=\"\",\"\",VLOOKUP($B47,登録用データのコピー!$B$5:$V$89,2,FALSE))","v":""},null,{"$f":"IF($B47=\"\",\"\",VLOOKUP($B47,登録用データのコピー!$B$5:$V$89,3,FALSE))","v":""},null,{"$f":"IF($B47=\"\",\"\",VLOOKUP($B47,[1]登録用データのコピー!$B$5:$V$89,2,FALSE))","v":""},null,{"$f":"IF($B47=\"\",\"\",VLOOKUP($B47,[1]登録用データのコピー!$B$5:$V$89,2,FALSE))","v":""},null,{"$f":"IF(B47=\"\",\"\",VLOOKUP(B47,data!$Q$4:$S$88,3,FALSE))","v":""},null,{"$f":"IF($D47=\"\",\"\",VLOOKUP($B47,登録用データのコピー!$B$5:$V$89,7,FALSE))","v":""},null,{"$f":"IF($D47=\"\",\"\",VLOOKUP($D47,登録用データのコピー!$B$5:$V$89,2,FALSE))","v":""}]
[null,null,null,{"$f":"IF($B48=\"\",\"\",VLOOKUP($B48,登録用データのコピー!$B$5:$V$89,2,FALSE))","v":""},null,{"$f":"IF($B48=\"\",\"\",VLOOKUP($B48,登録用データのコピー!$B$5:$V$89,3,FALSE))","v":""},null,{"$f":"IF($B48=\"\",\"\",VLOOKUP($B48,[1]登録用データのコピー!$B$5:$V$89,2,FALSE))","v":""},null,{"$f":"IF($B48=\"\",\"\",VLOOKUP($B48,[1]登録用データのコピー!$B$5:$V$89,2,FALSE))","v":""},null,{"$f":"IF(B48=\"\",\"\",VLOOKUP(B48,data!$Q$4:$S$88,3,FALSE))","v":""},null,{"$f":"IF($D48=\"\",\"\",VLOOKUP($B48,登録用データのコピー!$B$5:$V$89,7,FALSE))","v":""},null,{"$f":"IF($D48=\"\",\"\",VLOOKUP($D48,登録用データのコピー!$B$5:$V$89,2,FALSE))","v":""}]
[null,null,null,{"$f":"IF($B49=\"\",\"\",VLOOKUP($B49,登録用データのコピー!$B$5:$V$89,2,FALSE))","v":""},null,{"$f":"IF($B49=\"\",\"\",VLOOKUP($B49,登録用データのコピー!$B$5:$V$89,3,FALSE))","v":""},null,{"$f":"IF($B49=\"\",\"\",VLOOKUP($B49,[1]登録用データのコピー!$B$5:$V$89,2,FALSE))","v":""},null,{"$f":"IF($B49=\"\",\"\",VLOOKUP($B49,[1]登録用データのコピー!$B$5:$V$89,2,FALSE))","v":""},null,{"$f":"IF(B49=\"\",\"\",VLOOKUP(B49,data!$Q$4:$S$88,3,FALSE))","v":""},null,{"$f":"IF($D49=\"\",\"\",VLOOKUP($B49,登録用データのコピー!$B$5:$V$89,7,FALSE))","v":""},null,{"$f":"IF($D49=\"\",\"\",VLOOKUP($D49,登録用データのコピー!$B$5:$V$89,2,FALSE))","v":""}]
[null,null,null,null,null,null,null,null,null,null,null,null,null,null,null,null,null,{"$f":"COUNT(R40:S49)","v":0},"人"]
[null,null,{"$f":"TODAY()","v":"2022-05-27"},null,null,null,null,null,"上記の通り、参加料を添えて申し込みます。"]
[null,null,null,null,"学 校 名",null,null,{"$f":"申込基本!$H$7","v":{"$error":"#N/A"}}]
[]
[null,null,null,null,"顧 問 名",null,null,{"$f":"$H$21","v":0},null,null,null,null,null,null,null,null,null,null,"印"]
[]
[null,"大阪卓球協会",null,null,null,null,null,null,null,"様",null,null,"顧問連絡先",null,null,{"$f":"申込基本!$P$17&\" ( \"&申込基本!$S$17&\" ) \"&申込基本!$V$17","v":" (  ) "}]
[]
[]
[]
[]
[]
[]
[]
[]
[]
[]
[null,{"$f":"申込基本!$C$5&\"　年度\"","v":"2022　年度"}]
[null,"第",1,"回","特別普及大会（シングルス）"]
[null,"　　　　　　　　　申　　込　　書",null,null,null,null,null,null,null,null,null,null,null,null,null,null,null,"男子"]
[]
[null,"学校名",null,null,{"$f":"$E$5","v":{"$error":"#N/A"}},null,null,"監督名",null,null,{"$f":"$K$5","v":0},null,null,null,null,"学校番号",null,{"$f":"$R$5","v":0}]
[null,"整理番号",null,"会員ＩＤ",null,"名　　　　　　　　前",null,null,null,null,null,"学年",null,"生 年 月 日",null,null,null,"男女別\nシングルス","初級\n(男女混合)"]
[null,null,null,{"$f":"IF($B73=\"\",\"\",VLOOKUP($B73,登録用データのコピー!$B$5:$V$89,2,FALSE))","v":""},null,{"$f":"IF($B73=\"\",\"\",VLOOKUP($B73,登録用データのコピー!$B$5:$V$89,3,FALSE))","v":""},null,{"$f":"IF($B73=\"\",\"\",VLOOKUP($B73,[1]登録用データのコピー!$B$5:$V$89,2,FALSE))","v":""},null,{"$f":"IF($B73=\"\",\"\",VLOOKUP($B73,[1]登録用データのコピー!$B$5:$V$89,2,FALSE))","v":""},null,{"$f":"IF(B73=\"\",\"\",VLOOKUP(B73,data!$Q$4:$S$88,3,FALSE))","v":""},null,{"$f":"IF($D73=\"\",\"\",VLOOKUP($B73,登録用データのコピー!$B$5:$V$89,7,FALSE))","v":""},null,{"$f":"IF($D73=\"\",\"\",VLOOKUP($D73,登録用データのコピー!$B$5:$V$89,2,FALSE))","v":""}]
[null,null,null,{"$f":"IF($B74=\"\",\"\",VLOOKUP($B74,登録用データのコピー!$B$5:$V$89,2,FALSE))","v":""},null,{"$f":"IF($B74=\"\",\"\",VLOOKUP($B74,登録用データのコピー!$B$5:$V$89,3,FALSE))","v":""},null,{"$f":"IF($B74=\"\",\"\",VLOOKUP($B74,[1]登録用データのコピー!$B$5:$V$89,2,FALSE))","v":""},null,{"$f":"IF($B74=\"\",\"\",VLOOKUP($B74,[1]登録用データのコピー!$B$5:$V$89,2,FALSE))","v":""},null,{"$f":"IF(B74=\"\",\"\",VLOOKUP(B74,data!$Q$4:$S$88,3,FALSE))","v":""},null,{"$f":"IF($D74=\"\",\"\",VLOOKUP($B74,登録用データのコピー!$B$5:$V$89,7,FALSE))","v":""},null,{"$f":"IF($D74=\"\",\"\",VLOOKUP($D74,登録用データのコピー!$B$5:$V$89,2,FALSE))","v":""}]
[null,null,null,{"$f":"IF($B75=\"\",\"\",VLOOKUP($B75,登録用データのコピー!$B$5:$V$89,2,FALSE))","v":""},null,{"$f":"IF($B75=\"\",\"\",VLOOKUP($B75,登録用データのコピー!$B$5:$V$89,3,FALSE))","v":""},null,{"$f":"IF($B75=\"\",\"\",VLOOKUP($B75,[1]登録用データのコピー!$B$5:$V$89,2,FALSE))","v":""},null,{"$f":"IF($B75=\"\",\"\",VLOOKUP($B75,[1]登録用データのコピー!$B$5:$V$89,2,FALSE))","v":""},null,{"$f":"IF(B75=\"\",\"\",VLOOKUP(B75,data!$Q$4:$S$88,3,FALSE))","v":""},null,{"$f":"IF($D75=\"\",\"\",VLOOKUP($B75,登録用データのコピー!$B$5:$V$89,7,FALSE))","v":""},null,{"$f":"IF($D75=\"\",\"\",VLOOKUP($D75,登録用データのコピー!$B$5:$V$89,2,FALSE))","v":""}]
[null,null,null,{"$f":"IF($B76=\"\",\"\",VLOOKUP($B76,登録用データのコピー!$B$5:$V$89,2,FALSE))","v":""},null,{"$f":"IF($B76=\"\",\"\",VLOOKUP($B76,登録用データのコピー!$B$5:$V$89,3,FALSE))","v":""},null,{"$f":"IF($B76=\"\",\"\",VLOOKUP($B76,[1]登録用データのコピー!$B$5:$V$89,2,FALSE))","v":""},null,{"$f":"IF($B76=\"\",\"\",VLOOKUP($B76,[1]登録用データのコピー!$B$5:$V$89,2,FALSE))","v":""},null,{"$f":"IF(B76=\"\",\"\",VLOOKUP(B76,data!$Q$4:$S$88,3,FALSE))","v":""},null,{"$f":"IF($D76=\"\",\"\",VLOOKUP($B76,登録用データのコピー!$B$5:$V$89,7,FALSE))","v":""},null,{"$f":"IF($D76=\"\",\"\",VLOOKUP($D76,登録用データのコピー!$B$5:$V$89,2,FALSE))","v":""}]
[null,null,null,{"$f":"IF($B77=\"\",\"\",VLOOKUP($B77,登録用データのコピー!$B$5:$V$89,2,FALSE))","v":""},null,{"$f":"IF($B77=\"\",\"\",VLOOKUP($B77,登録用データのコピー!$B$5:$V$89,3,FALSE))","v":""},null,{"$f":"IF($B77=\"\",\"\",VLOOKUP($B77,[1]登録用データのコピー!$B$5:$V$89,2,FALSE))","v":""},null,{"$f":"IF($B77=\"\",\"\",VLOOKUP($B77,[1]登録用データのコピー!$B$5:$V$89,2,FALSE))","v":""},null,{"$f":"IF(B77=\"\",\"\",VLOOKUP(B77,data!$Q$4:$S$88,3,FALSE))","v":""},null,{"$f":"IF($D77=\"\",\"\",VLOOKUP($B77,登録用データのコピー!$B$5:$V$89,7,FALSE))","v":""},null,{"$f":"IF($D77=\"\",\"\",VLOOKUP($D77,登録用データのコピー!$B$5:$V$89,2,FALSE))","v":""}]
[null,null,null,{"$f":"IF($B78=\"\",\"\",VLOOKUP($B78,登録用データのコピー!$B$5:$V$89,2,FALSE))","v":""},null,{"$f":"IF($B78=\"\",\"\",VLOOKUP($B78,登録用データのコピー!$B$5:$V$89,3,FALSE))","v":""},null,{"$f":"IF($B78=\"\",\"\",VLOOKUP($B78,[1]登録用データのコピー!$B$5:$V$89,2,FALSE))","v":""},null,{"$f":"IF($B78=\"\",\"\",VLOOKUP($B78,[1]登録用データのコピー!$B$5:$V$89,2,FALSE))","v":""},null,{"$f":"IF(B78=\"\",\"\",VLOOKUP(B78,data!$Q$4:$S$88,3,FALSE))","v":""},null,{"$f":"IF($D78=\"\",\"\",VLOOKUP($B78,登録用データのコピー!$B$5:$V$89,7,FALSE))","v":""},null,{"$f":"IF($D78=\"\",\"\",VLOOKUP($D78,登録用データのコピー!$B$5:$V$89,2,FALSE))","v":""}]
[null,null,null,{"$f":"IF($B79=\"\",\"\",VLOOKUP($B79,登録用データのコピー!$B$5:$V$89,2,FALSE))","v":""},null,{"$f":"IF($B79=\"\",\"\",VLOOKUP($B79,登録用データのコピー!$B$5:$V$89,3,FALSE))","v":""},null,{"$f":"IF($B79=\"\",\"\",VLOOKUP($B79,[1]登録用データのコピー!$B$5:$V$89,2,FALSE))","v":""},null,{"$f":"IF($B79=\"\",\"\",VLOOKUP($B79,[1]登録用データのコピー!$B$5:$V$89,2,FALSE))","v":""},null,{"$f":"IF(B79=\"\",\"\",VLOOKUP(B79,data!$Q$4:$S$88,3,FALSE))","v":""},null,{"$f":"IF($D79=\"\",\"\",VLOOKUP($B79,登録用データのコピー!$B$5:$V$89,7,FALSE))","v":""},null,{"$f":"IF($D79=\"\",\"\",VLOOKUP($D79,登録用データのコピー!$B$5:$V$89,2,FALSE))","v":""}]
[null,null,null,{"$f":"IF($B80=\"\",\"\",VLOOKUP($B80,登録用データのコピー!$B$5:$V$89,2,FALSE))","v":""},null,{"$f":"IF($B80=\"\",\"\",VLOOKUP($B80,登録用データのコピー!$B$5:$V$89,3,FALSE))","v":""},null,{"$f":"IF($B80=\"\",\"\",VLOOKUP($B80,[1]登録用データのコピー!$B$5:$V$89,2,FALSE))","v":""},null,{"$f":"IF($B80=\"\",\"\",VLOOKUP($B80,[1]登録用データのコピー!$B$5:$V$89,2,FALSE))","v":""},null,{"$f":"IF(B80=\"\",\"\",VLOOKUP(B80,data!$Q$4:$S$88,3,FALSE))","v":""},null,{"$f":"IF($D80=\"\",\"\",VLOOKUP($B80,登録用データのコピー!$B$5:$V$89,7,FALSE))","v":""},null,{"$f":"IF($D80=\"\",\"\",VLOOKUP($D80,登録用データのコピー!$B$5:$V$89,2,FALSE))","v":""}]
[null,null,null,{"$f":"IF($B81=\"\",\"\",VLOOKUP($B81,登録用データのコピー!$B$5:$V$89,2,FALSE))","v":""},null,{"$f":"IF($B81=\"\",\"\",VLOOKUP($B81,登録用データのコピー!$B$5:$V$89,3,FALSE))","v":""},null,{"$f":"IF($B81=\"\",\"\",VLOOKUP($B81,[1]登録用データのコピー!$B$5:$V$89,2,FALSE))","v":""},null,{"$f":"IF($B81=\"\",\"\",VLOOKUP($B81,[1]登録用データのコピー!$B$5:$V$89,2,FALSE))","v":""},null,{"$f":"IF(B81=\"\",\"\",VLOOKUP(B81,data!$Q$4:$S$88,3,FALSE))","v":""},null,{"$f":"IF($D81=\"\",\"\",VLOOKUP($B81,登録用データのコピー!$B$5:$V$89,7,FALSE))","v":""},null,{"$f":"IF($D81=\"\",\"\",VLOOKUP($D81,登録用データのコピー!$B$5:$V$89,2,FALSE))","v":""}]
[null,null,null,{"$f":"IF($B82=\"\",\"\",VLOOKUP($B82,登録用データのコピー!$B$5:$V$89,2,FALSE))","v":""},null,{"$f":"IF($B82=\"\",\"\",VLOOKUP($B82,登録用データのコピー!$B$5:$V$89,3,FALSE))","v":""},null,{"$f":"IF($B82=\"\",\"\",VLOOKUP($B82,[1]登録用データのコピー!$B$5:$V$89,2,FALSE))","v":""},null,{"$f":"IF($B82=\"\",\"\",VLOOKUP($B82,[1]登録用データのコピー!$B$5:$V$89,2,FALSE))","v":""},null,{"$f":"IF(B82=\"\",\"\",VLOOKUP(B82,data!$Q$4:$S$88,3,FALSE))","v":""},null,{"$f":"IF($D82=\"\",\"\",VLOOKUP($B82,登録用データのコピー!$B$5:$V$89,7,FALSE))","v":""},null,{"$f":"IF($D82=\"\",\"\",VLOOKUP($D82,登録用データのコピー!$B$5:$V$89,2,FALSE))","v":""}]
[null,null,null,null,null,null,null,null,null,null,null,null,null,null,null,null,null,{"$f":"COUNT(R73:S82)","v":0},"人"]
[null,null,{"$f":"TODAY()","v":"2022-05-27"},null,null,null,null,null,"上記の通り、参加料を添えて申し込みます。"]
[null,null,null,null,"学 校 名",null,null,{"$f":"申込基本!$H$7","v":{"$error":"#N/A"}}]
[]
[null,null,null,null,"顧 問 名",null,null,{"$f":"$H$21","v":0},null,null,null,null,null,null,null,null,null,null,"印"]
[]
[null,"大阪卓球協会",null,null,null,null,null,null,null,"様",null,null,"顧問連絡先",null,null,{"$f":"申込基本!$P$17&\" ( \"&申込基本!$S$17&\" ) \"&申込基本!$V$17","v":" (  ) "}]
[]
[]
[]
[]
[]
[]
[]
[]
[]
[]
[null,{"$f":"申込基本!$C$5&\"　年度\"","v":"2022　年度"}]
[null,"第",1,"回","特別普及大会（シングルス）"]
[null,"　　　　　　　　　申　　込　　書",null,null,null,null,null,null,null,null,null,null,null,null,null,null,null,"男子"]
[]
[null,"学校名",null,null,{"$f":"$E$5","v":{"$error":"#N/A"}},null,null,"監督名",null,null,{"$f":"$K$5","v":0},null,null,null,null,"学校番号",null,{"$f":"$R$5","v":0}]
[null,"整理番号",null,"会員ＩＤ",null,"名　　　　　　　　前",null,null,null,null,null,"学年",null,"生 年 月 日",null,null,null,"男女別\nシングルス","初級\n(男女混合)"]
[null,null,null,{"$f":"IF($B106=\"\",\"\",VLOOKUP($B106,登録用データのコピー!$B$5:$V$89,2,FALSE))","v":""},null,{"$f":"IF($B106=\"\",\"\",VLOOKUP($B106,登録用データのコピー!$B$5:$V$89,3,FALSE))","v":""},null,{"$f":"IF($B106=\"\",\"\",VLOOKUP($B106,[1]登録用データのコピー!$B$5:$V$89,2,FALSE))","v":""},null,{"$f":"IF($B106=\"\",\"\",VLOOKUP($B106,[1]登録用データのコピー!$B$5:$V$89,2,FALSE))","v":""},null,{"$f":"IF(B106=\"\",\"\",VLOOKUP(B106,data!$Q$4:$S$88,3,FALSE))","v":""},null,{"$f":"IF($D106=\"\",\"\",VLOOKUP($B106,登録用データのコピー!$B$5:$V$89,7,FALSE))","v":""},null,{"$f":"IF($D106=\"\",\"\",VLOOKUP($D106,登録用データのコピー!$B$5:$V$89,2,FALSE))","v":""}]
[null,null,null,{"$f":"IF($B107=\"\",\"\",VLOOKUP($B107,登録用データのコピー!$B$5:$V$89,2,FALSE))","v":""},null,{"$f":"IF($B107=\"\",\"\",VLOOKUP($B107,登録用データのコピー!$B$5:$V$89,3,FALSE))","v":""},null,{"$f":"IF($B107=\"\",\"\",VLOOKUP($B107,[1]登録用データのコピー!$B$5:$V$89,2,FALSE))","v":""},null,{"$f":"IF($B107=\"\",\"\",VLOOKUP($B107,[1]登録用データのコピー!$B$5:$V$89,2,FALSE))","v":""},null,{"$f":"IF(B107=\"\",\"\",VLOOKUP(B107,data!$Q$4:$S$88,3,FALSE))","v":""},null,{"$f":"IF($D107=\"\",\"\",VLOOKUP($B107,登録用データのコピー!$B$5:$V$89,7,FALSE))","v":""},null,{"$f":"IF($D107=\"\",\"\",VLOOKUP($D107,登録用データのコピー!$B$5:$V$89,2,FALSE))","v":""}]
[null,null,null,{"$f":"IF($B108=\"\",\"\",VLOOKUP($B108,登録用データのコピー!$B$5:$V$89,2,FALSE))","v":""},null,{"$f":"IF($B108=\"\",\"\",VLOOKUP($B108,登録用データのコピー!$B$5:$V$89,3,FALSE))","v":""},null,{"$f":"IF($B108=\"\",\"\",VLOOKUP($B108,[1]登録用データのコピー!$B$5:$V$89,2,FALSE))","v":""},null,{"$f":"IF($B108=\"\",\"\",VLOOKUP($B108,[1]登録用データのコピー!$B$5:$V$89,2,FALSE))","v":""},null,{"$f":"IF(B108=\"\",\"\",VLOOKUP(B108,data!$Q$4:$S$88,3,FALSE))","v":""},null,{"$f":"IF($D108=\"\",\"\",VLOOKUP($B108,登録用データのコピー!$B$5:$V$89,7,FALSE))","v":""},null,{"$f":"IF($D108=\"\",\"\",VLOOKUP($D108,登録用データのコピー!$B$5:$V$89,2,FALSE))","v":""}]
[null,null,null,{"$f":"IF($B109=\"\",\"\",VLOOKUP($B109,登録用データのコピー!$B$5:$V$89,2,FALSE))","v":""},null,{"$f":"IF($B109=\"\",\"\",VLOOKUP($B109,登録用データのコピー!$B$5:$V$89,3,FALSE))","v":""},null,{"$f":"IF($B109=\"\",\"\",VLOOKUP($B109,[1]登録用データのコピー!$B$5:$V$89,2,FALSE))","v":""},null,{"$f":"IF($B109=\"\",\"\",VLOOKUP($B109,[1]登録用データのコピー!$B$5:$V$89,2,FALSE))","v":""},null,{"$f":"IF(B109=\"\",\"\",VLOOKUP(B109,data!$Q$4:$S$88,3,FALSE))","v":""},null,{"$f":"IF($D109=\"\",\"\",VLOOKUP($B109,登録用データのコピー!$B$5:$V$89,7,FALSE))","v":""},null,{"$f":"IF($D109=\"\",\"\",VLOOKUP($D109,登録用データのコピー!$B$5:$V$89,2,FALSE))","v":""}]
[null,null,null,{"$f":"IF($B110=\"\",\"\",VLOOKUP($B110,登録用データのコピー!$B$5:$V$89,2,FALSE))","v":""},null,{"$f":"IF($B110=\"\",\"\",VLOOKUP($B110,登録用データのコピー!$B$5:$V$89,3,FALSE))","v":""},null,{"$f":"IF($B110=\"\",\"\",VLOOKUP($B110,[1]登録用データのコピー!$B$5:$V$89,2,FALSE))","v":""},null,{"$f":"IF($B110=\"\",\"\",VLOOKUP($B110,[1]登録用データのコピー!$B$5:$V$89,2,FALSE))","v":""},null,{"$f":"IF(B110=\"\",\"\",VLOOKUP(B110,data!$Q$4:$S$88,3,FALSE))","v":""},null,{"$f":"IF($D110=\"\",\"\",VLOOKUP($B110,登録用データのコピー!$B$5:$V$89,7,FALSE))","v":""},null,{"$f":"IF($D110=\"\",\"\",VLOOKUP($D110,登録用データのコピー!$B$5:$V$89,2,FALSE))","v":""}]
[null,null,null,{"$f":"IF($B111=\"\",\"\",VLOOKUP($B111,登録用データのコピー!$B$5:$V$89,2,FALSE))","v":""},null,{"$f":"IF($B111=\"\",\"\",VLOOKUP($B111,登録用データのコピー!$B$5:$V$89,3,FALSE))","v":""},null,{"$f":"IF($B111=\"\",\"\",VLOOKUP($B111,[1]登録用データのコピー!$B$5:$V$89,2,FALSE))","v":""},null,{"$f":"IF($B111=\"\",\"\",VLOOKUP($B111,[1]登録用データのコピー!$B$5:$V$89,2,FALSE))","v":""},null,{"$f":"IF(B111=\"\",\"\",VLOOKUP(B111,data!$Q$4:$S$88,3,FALSE))","v":""},null,{"$f":"IF($D111=\"\",\"\",VLOOKUP($B111,登録用データのコピー!$B$5:$V$89,7,FALSE))","v":""},null,{"$f":"IF($D111=\"\",\"\",VLOOKUP($D111,登録用データのコピー!$B$5:$V$89,2,FALSE))","v":""}]
[null,null,null,{"$f":"IF($B112=\"\",\"\",VLOOKUP($B112,登録用データのコピー!$B$5:$V$89,2,FALSE))","v":""},null,{"$f":"IF($B112=\"\",\"\",VLOOKUP($B112,登録用データのコピー!$B$5:$V$89,3,FALSE))","v":""},null,{"$f":"IF($B112=\"\",\"\",VLOOKUP($B112,[1]登録用データのコピー!$B$5:$V$89,2,FALSE))","v":""},null,{"$f":"IF($B112=\"\",\"\",VLOOKUP($B112,[1]登録用データのコピー!$B$5:$V$89,2,FALSE))","v":""},null,{"$f":"IF(B112=\"\",\"\",VLOOKUP(B112,data!$Q$4:$S$88,3,FALSE))","v":""},null,{"$f":"IF($D112=\"\",\"\",VLOOKUP($B112,登録用データのコピー!$B$5:$V$89,7,FALSE))","v":""},null,{"$f":"IF($D112=\"\",\"\",VLOOKUP($D112,登録用データのコピー!$B$5:$V$89,2,FALSE))","v":""}]
[null,null,null,{"$f":"IF($B113=\"\",\"\",VLOOKUP($B113,登録用データのコピー!$B$5:$V$89,2,FALSE))","v":""},null,{"$f":"IF($B113=\"\",\"\",VLOOKUP($B113,登録用データのコピー!$B$5:$V$89,3,FALSE))","v":""},null,{"$f":"IF($B113=\"\",\"\",VLOOKUP($B113,[1]登録用データのコピー!$B$5:$V$89,2,FALSE))","v":""},null,{"$f":"IF($B113=\"\",\"\",VLOOKUP($B113,[1]登録用データのコピー!$B$5:$V$89,2,FALSE))","v":""},null,{"$f":"IF(B113=\"\",\"\",VLOOKUP(B113,data!$Q$4:$S$88,3,FALSE))","v":""},null,{"$f":"IF($D113=\"\",\"\",VLOOKUP($B113,登録用データのコピー!$B$5:$V$89,7,FALSE))","v":""},null,{"$f":"IF($D113=\"\",\"\",VLOOKUP($D113,登録用データのコピー!$B$5:$V$89,2,FALSE))","v":""}]
[null,null,null,{"$f":"IF($B114=\"\",\"\",VLOOKUP($B114,登録用データのコピー!$B$5:$V$89,2,FALSE))","v":""},null,{"$f":"IF($B114=\"\",\"\",VLOOKUP($B114,登録用データのコピー!$B$5:$V$89,3,FALSE))","v":""},null,{"$f":"IF($B114=\"\",\"\",VLOOKUP($B114,[1]登録用データのコピー!$B$5:$V$89,2,FALSE))","v":""},null,{"$f":"IF($B114=\"\",\"\",VLOOKUP($B114,[1]登録用データのコピー!$B$5:$V$89,2,FALSE))","v":""},null,{"$f":"IF(B114=\"\",\"\",VLOOKUP(B114,data!$Q$4:$S$88,3,FALSE))","v":""},null,{"$f":"IF($D114=\"\",\"\",VLOOKUP($B114,登録用データのコピー!$B$5:$V$89,7,FALSE))","v":""},null,{"$f":"IF($D114=\"\",\"\",VLOOKUP($D114,登録用データのコピー!$B$5:$V$89,2,FALSE))","v":""}]
[null,null,null,{"$f":"IF($B115=\"\",\"\",VLOOKUP($B115,登録用データのコピー!$B$5:$V$89,2,FALSE))","v":""},null,{"$f":"IF($B115=\"\",\"\",VLOOKUP($B115,登録用データのコピー!$B$5:$V$89,3,FALSE))","v":""},null,{"$f":"IF($B115=\"\",\"\",VLOOKUP($B115,[1]登録用データのコピー!$B$5:$V$89,2,FALSE))","v":""},null,{"$f":"IF($B115=\"\",\"\",VLOOKUP($B115,[1]登録用データのコピー!$B$5:$V$89,2,FALSE))","v":""},null,{"$f":"IF(B115=\"\",\"\",VLOOKUP(B115,data!$Q$4:$S$88,3,FALSE))","v":""},null,{"$f":"IF($D115=\"\",\"\",VLOOKUP($B115,登録用データのコピー!$B$5:$V$89,7,FALSE))","v":""},null,{"$f":"IF($D115=\"\",\"\",VLOOKUP($D115,登録用データのコピー!$B$5:$V$89,2,FALSE))","v":""}]
[null,null,null,null,null,null,null,null,null,null,null,null,null,null,null,null,null,{"$f":"COUNT(R106:S115)","v":0},"人"]
[null,null,{"$f":"TODAY()","v":"2022-05-27"},null,null,null,null,null,"上記の通り、参加料を添えて申し込みます。"]
[null,null,null,null,"学 校 名",null,null,{"$f":"申込基本!$H$7","v":{"$error":"#N/A"}}]
[]
[null,null,null,null,"顧 問 名",null,null,{"$f":"$H$21","v":0},null,null,null,null,null,null,null,null,null,null,"印"]
[]
[null,"大阪卓球協会",null,null,null,null,null,null,null,"様",null,null,"顧問連絡先",null,null,{"$f":"申込基本!$P$17&\" ( \"&申込基本!$S$17&\" ) \"&申込基本!$V$17","v":" (  ) "}]
[]
[]
[]
[]
[]
[]
[]
[]
[]
[]
[null,{"$f":"申込基本!$C$5&\"　年度\"","v":"2022　年度"}]
[null,"第",1,"回","特別普及大会（シングルス）"]
[null,"　　　　　　　　　申　　込　　書",null,null,null,null,null,null,null,null,null,null,null,null,null,null,null,"男子"]
[]
[null,"学校名",null,null,{"$f":"$E$5","v":{"$error":"#N/A"}},null,null,"監督名",null,null,{"$f":"$K$5","v":0},null,null,null,null,"学校番号",null,{"$f":"$R$5","v":0}]
[null,"整理番号",null,"会員ＩＤ",null,"名　　　　　　　　前",null,null,null,null,null,"学年",null,"生 年 月 日",null,null,null,"男女別\nシングルス","初級\n(男女混合)"]
[null,null,null,{"$f":"IF($B139=\"\",\"\",VLOOKUP($B139,登録用データのコピー!$B$5:$V$89,2,FALSE))","v":""},null,{"$f":"IF($B139=\"\",\"\",VLOOKUP($B139,登録用データのコピー!$B$5:$V$89,3,FALSE))","v":""},null,{"$f":"IF($B139=\"\",\"\",VLOOKUP($B139,[1]登録用データのコピー!$B$5:$V$89,2,FALSE))","v":""},null,{"$f":"IF($B139=\"\",\"\",VLOOKUP($B139,[1]登録用データのコピー!$B$5:$V$89,2,FALSE))","v":""},null,{"$f":"IF(B139=\"\",\"\",VLOOKUP(B139,data!$Q$4:$S$88,3,FALSE))","v":""},null,{"$f":"IF($D139=\"\",\"\",VLOOKUP($B139,登録用データのコピー!$B$5:$V$89,7,FALSE))","v":""},null,{"$f":"IF($D139=\"\",\"\",VLOOKUP($D139,登録用データのコピー!$B$5:$V$89,2,FALSE))","v":""}]
[null,null,null,{"$f":"IF($B140=\"\",\"\",VLOOKUP($B140,登録用データのコピー!$B$5:$V$89,2,FALSE))","v":""},null,{"$f":"IF($B140=\"\",\"\",VLOOKUP($B140,登録用データのコピー!$B$5:$V$89,3,FALSE))","v":""},null,{"$f":"IF($B140=\"\",\"\",VLOOKUP($B140,[1]登録用データのコピー!$B$5:$V$89,2,FALSE))","v":""},null,{"$f":"IF($B140=\"\",\"\",VLOOKUP($B140,[1]登録用データのコピー!$B$5:$V$89,2,FALSE))","v":""},null,{"$f":"IF(B140=\"\",\"\",VLOOKUP(B140,data!$Q$4:$S$88,3,FALSE))","v":""},null,{"$f":"IF($D140=\"\",\"\",VLOOKUP($B140,登録用データのコピー!$B$5:$V$89,7,FALSE))","v":""},null,{"$f":"IF($D140=\"\",\"\",VLOOKUP($D140,登録用データのコピー!$B$5:$V$89,2,FALSE))","v":""}]
[null,null,null,{"$f":"IF($B141=\"\",\"\",VLOOKUP($B141,登録用データのコピー!$B$5:$V$89,2,FALSE))","v":""},null,{"$f":"IF($B141=\"\",\"\",VLOOKUP($B141,登録用データのコピー!$B$5:$V$89,3,FALSE))","v":""},null,{"$f":"IF($B141=\"\",\"\",VLOOKUP($B141,[1]登録用データのコピー!$B$5:$V$89,2,FALSE))","v":""},null,{"$f":"IF($B141=\"\",\"\",VLOOKUP($B141,[1]登録用データのコピー!$B$5:$V$89,2,FALSE))","v":""},null,{"$f":"IF(B141=\"\",\"\",VLOOKUP(B141,data!$Q$4:$S$88,3,FALSE))","v":""},null,{"$f":"IF($D141=\"\",\"\",VLOOKUP($B141,登録用データのコピー!$B$5:$V$89,7,FALSE))","v":""},null,{"$f":"IF($D141=\"\",\"\",VLOOKUP($D141,登録用データのコピー!$B$5:$V$89,2,FALSE))","v":""}]
[null,null,null,{"$f":"IF($B142=\"\",\"\",VLOOKUP($B142,登録用データのコピー!$B$5:$V$89,2,FALSE))","v":""},null,{"$f":"IF($B142=\"\",\"\",VLOOKUP($B142,登録用データのコピー!$B$5:$V$89,3,FALSE))","v":""},null,{"$f":"IF($B142=\"\",\"\",VLOOKUP($B142,[1]登録用データのコピー!$B$5:$V$89,2,FALSE))","v":""},null,{"$f":"IF($B142=\"\",\"\",VLOOKUP($B142,[1]登録用データのコピー!$B$5:$V$89,2,FALSE))","v":""},null,{"$f":"IF(B142=\"\",\"\",VLOOKUP(B142,data!$Q$4:$S$88,3,FALSE))","v":""},null,{"$f":"IF($D142=\"\",\"\",VLOOKUP($B142,登録用データのコピー!$B$5:$V$89,7,FALSE))","v":""},null,{"$f":"IF($D142=\"\",\"\",VLOOKUP($D142,登録用データのコピー!$B$5:$V$89,2,FALSE))","v":""}]
[null,null,null,{"$f":"IF($B143=\"\",\"\",VLOOKUP($B143,登録用データのコピー!$B$5:$V$89,2,FALSE))","v":""},null,{"$f":"IF($B143=\"\",\"\",VLOOKUP($B143,登録用データのコピー!$B$5:$V$89,3,FALSE))","v":""},null,{"$f":"IF($B143=\"\",\"\",VLOOKUP($B143,[1]登録用データのコピー!$B$5:$V$89,2,FALSE))","v":""},null,{"$f":"IF($B143=\"\",\"\",VLOOKUP($B143,[1]登録用データのコピー!$B$5:$V$89,2,FALSE))","v":""},null,{"$f":"IF(B143=\"\",\"\",VLOOKUP(B143,data!$Q$4:$S$88,3,FALSE))","v":""},null,{"$f":"IF($D143=\"\",\"\",VLOOKUP($B143,登録用データのコピー!$B$5:$V$89,7,FALSE))","v":""},null,{"$f":"IF($D143=\"\",\"\",VLOOKUP($D143,登録用データのコピー!$B$5:$V$89,2,FALSE))","v":""}]
[null,null,null,{"$f":"IF($B144=\"\",\"\",VLOOKUP($B144,登録用データのコピー!$B$5:$V$89,2,FALSE))","v":""},null,{"$f":"IF($B144=\"\",\"\",VLOOKUP($B144,登録用データのコピー!$B$5:$V$89,3,FALSE))","v":""},null,{"$f":"IF($B144=\"\",\"\",VLOOKUP($B144,[1]登録用データのコピー!$B$5:$V$89,2,FALSE))","v":""},null,{"$f":"IF($B144=\"\",\"\",VLOOKUP($B144,[1]登録用データのコピー!$B$5:$V$89,2,FALSE))","v":""},null,{"$f":"IF(B144=\"\",\"\",VLOOKUP(B144,data!$Q$4:$S$88,3,FALSE))","v":""},null,{"$f":"IF($D144=\"\",\"\",VLOOKUP($B144,登録用データのコピー!$B$5:$V$89,7,FALSE))","v":""},null,{"$f":"IF($D144=\"\",\"\",VLOOKUP($D144,登録用データのコピー!$B$5:$V$89,2,FALSE))","v":""}]
[null,null,null,{"$f":"IF($B145=\"\",\"\",VLOOKUP($B145,登録用データのコピー!$B$5:$V$89,2,FALSE))","v":""},null,{"$f":"IF($B145=\"\",\"\",VLOOKUP($B145,登録用データのコピー!$B$5:$V$89,3,FALSE))","v":""},null,{"$f":"IF($B145=\"\",\"\",VLOOKUP($B145,[1]登録用データのコピー!$B$5:$V$89,2,FALSE))","v":""},null,{"$f":"IF($B145=\"\",\"\",VLOOKUP($B145,[1]登録用データのコピー!$B$5:$V$89,2,FALSE))","v":""},null,{"$f":"IF(B145=\"\",\"\",VLOOKUP(B145,data!$Q$4:$S$88,3,FALSE))","v":""},null,{"$f":"IF($D145=\"\",\"\",VLOOKUP($B145,登録用データのコピー!$B$5:$V$89,7,FALSE))","v":""},null,{"$f":"IF($D145=\"\",\"\",VLOOKUP($D145,登録用データのコピー!$B$5:$V$89,2,FALSE))","v":""}]
[null,null,null,{"$f":"IF($B146=\"\",\"\",VLOOKUP($B146,登録用データのコピー!$B$5:$V$89,2,FALSE))","v":""},null,{"$f":"IF($B146=\"\",\"\",VLOOKUP($B146,登録用データのコピー!$B$5:$V$89,3,FALSE))","v":""},null,{"$f":"IF($B146=\"\",\"\",VLOOKUP($B146,[1]登録用データのコピー!$B$5:$V$89,2,FALSE))","v":""},null,{"$f":"IF($B146=\"\",\"\",VLOOKUP($B146,[1]登録用データのコピー!$B$5:$V$89,2,FALSE))","v":""},null,{"$f":"IF(B146=\"\",\"\",VLOOKUP(B146,data!$Q$4:$S$88,3,FALSE))","v":""},null,{"$f":"IF($D146=\"\",\"\",VLOOKUP($B146,登録用データのコピー!$B$5:$V$89,7,FALSE))","v":""},null,{"$f":"IF($D146=\"\",\"\",VLOOKUP($D146,登録用データのコピー!$B$5:$V$89,2,FALSE))","v":""}]
[null,null,null,{"$f":"IF($B147=\"\",\"\",VLOOKUP($B147,登録用データのコピー!$B$5:$V$89,2,FALSE))","v":""},null,{"$f":"IF($B147=\"\",\"\",VLOOKUP($B147,登録用データのコピー!$B$5:$V$89,3,FALSE))","v":""},null,{"$f":"IF($B147=\"\",\"\",VLOOKUP($B147,[1]登録用データのコピー!$B$5:$V$89,2,FALSE))","v":""},null,{"$f":"IF($B147=\"\",\"\",VLOOKUP($B147,[1]登録用データのコピー!$B$5:$V$89,2,FALSE))","v":""},null,{"$f":"IF(B147=\"\",\"\",VLOOKUP(B147,data!$Q$4:$S$88,3,FALSE))","v":""},null,{"$f":"IF($D147=\"\",\"\",VLOOKUP($B147,登録用データのコピー!$B$5:$V$89,7,FALSE))","v":""},null,{"$f":"IF($D147=\"\",\"\",VLOOKUP($D147,登録用データのコピー!$B$5:$V$89,2,FALSE))","v":""}]
[null,null,null,{"$f":"IF($B148=\"\",\"\",VLOOKUP($B148,登録用データのコピー!$B$5:$V$89,2,FALSE))","v":""},null,{"$f":"IF($B148=\"\",\"\",VLOOKUP($B148,登録用データのコピー!$B$5:$V$89,3,FALSE))","v":""},null,{"$f":"IF($B148=\"\",\"\",VLOOKUP($B148,[1]登録用データのコピー!$B$5:$V$89,2,FALSE))","v":""},null,{"$f":"IF($B148=\"\",\"\",VLOOKUP($B148,[1]登録用データのコピー!$B$5:$V$89,2,FALSE))","v":""},null,{"$f":"IF(B148=\"\",\"\",VLOOKUP(B148,data!$Q$4:$S$88,3,FALSE))","v":""},null,{"$f":"IF($D148=\"\",\"\",VLOOKUP($B148,登録用データのコピー!$B$5:$V$89,7,FALSE))","v":""},null,{"$f":"IF($D148=\"\",\"\",VLOOKUP($D148,登録用データのコピー!$B$5:$V$89,2,FALSE))","v":""}]
[null,null,null,null,null,null,null,null,null,null,null,null,null,null,null,null,null,{"$f":"COUNT(R139:S148)","v":0},"人"]
[null,null,{"$f":"TODAY()","v":"2022-05-27"},null,null,null,null,null,"上記の通り、参加料を添えて申し込みます。"]
[null,null,null,null,"学 校 名",null,null,{"$f":"申込基本!$H$7","v":{"$error":"#N/A"}}]
[]
[null,null,null,null,"顧 問 名",null,null,{"$f":"$H$21","v":0},null,null,null,null,null,null,null,null,null,null,"印"]
[]
[null,"大阪卓球協会",null,null,null,null,null,null,null,"様",null,null,"顧問連絡先",null,null,{"$f":"申込基本!$P$17&\" ( \"&申込基本!$S$17&\" ) \"&申込基本!$V$17","v":" (  ) "}]

{"sheet":"送信用（シングルス）","index":7,"n_rows":51,"n_cols":29,"rows_kept":51,"cut":false,"hidden":false,"merged":[]}
["学校番号","学校名","氏名","シングルス","初級",null,null,null,null,null,null,null,null,null,null,null,null,null,null,null,null,null,null,null,"学校番号","学校名","氏名","Ⅰ部ランク","Ⅱ部ランク"]
[{"$f":"申込基本!$C$7","v":0},{"$f":"申込基本!$Q$7","v":{"$error":"#N/A"}},{"$f":"'入力用（シングルス）'!F7&'入力用（シングルス）'!L7","v":""},{"$f":"'入力用（シングルス）'!R7","v":0},{"$f":"'入力用（シングルス）'!S7","v":0},null,null,null,null,null,null,null,null,null,null,null,null,null,null,null,null,null,null,null,{"$f":"[1]申込基本!$C$7","v":0},{"$f":"[1]申込基本!$Q$7","v":{"$error":"#N/A"}},{"$f":"[1]入力用!$F7","v":""},{"$f":"[1]入力用!$R7","v":0},{"$f":"[1]入力用!#REF!","v":{"$error":"#REF!"}}]
[{"$f":"申込基本!$C$7","v":0},{"$f":"申込基本!$Q$7","v":{"$error":"#N/A"}},{"$f":"'入力用（シングルス）'!F8&'入力用（シングルス）'!L8","v":""},{"$f":"'入力用（シングルス）'!R8","v":0},{"$f":"'入力用（シングルス）'!S8","v":0},null,null,null,null,null,null,null,null,null,null,null,null,null,null,null,null,null,null,null,{"$f":"[1]申込基本!$C$7","v":0},{"$f":"[1]申込基本!$Q$7","v":{"$error":"#N/A"}},{"$f":"[1]入力用!$F8","v":""},{"$f":"[1]入力用!$R8","v":0},{"$f":"[1]入力用!#REF!","v":{"$error":"#REF!"}}]
[{"$f":"申込基本!$C$7","v":0},{"$f":"申込基本!$Q$7","v":{"$error":"#N/A"}},{"$f":"'入力用（シングルス）'!F9&'入力用（シングルス）'!L9","v":""},{"$f":"'入力用（シングルス）'!R9","v":0},{"$f":"'入力用（シングルス）'!S9","v":0},null,null,null,null,null,null,null,null,null,null,null,null,null,null,null,null,null,null,null,{"$f":"[1]申込基本!$C$7","v":0},{"$f":"[1]申込基本!$Q$7","v":{"$error":"#N/A"}},{"$f":"[1]入力用!$F9","v":""},{"$f":"[1]入力用!$R9","v":0},{"$f":"[1]入力用!#REF!","v":{"$error":"#REF!"}}]
[{"$f":"申込基本!$C$7","v":0},{"$f":"申込基本!$Q$7","v":{"$error":"#N/A"}},{"$f":"'入力用（シングルス）'!F10&'入力用（シングルス）'!L10","v":""},{"$f":"'入力用（シングルス）'!R10","v":0},{"$f":"'入力用（シングルス）'!S10","v":0},null,null,null,null,null,null,null,null,null,null,null,null,null,null,null,null,null,null,null,{"$f":"[1]申込基本!$C$7","v":0},{"$f":"[1]申込基本!$Q$7","v":{"$error":"#N/A"}},{"$f":"[1]入力用!$F10","v":""},{"$f":"[1]入力用!$R10","v":0},{"$f":"[1]入力用!#REF!","v":{"$error":"#REF!"}}]
[{"$f":"申込基本!$C$7","v":0},{"$f":"申込基本!$Q$7","v":{"$error":"#N/A"}},{"$f":"'入力用（シングルス）'!F11&'入力用（シングルス）'!L11","v":""},{"$f":"'入力用（シングルス）'!R11","v":0},{"$f":"'入力用（シングルス）'!S11","v":0},null,null,null,null,null,null,null,null,null,null,null,null,null,null,null,null,null,null,null,{"$f":"[1]申込基本!$C$7","v":0},{"$f":"[1]申込基本!$Q$7","v":{"$error":"#N/A"}},{"$f":"[1]入力用!$F11","v":""},{"$f":"[1]入力用!$R11","v":0},{"$f":"[1]入力用!#REF!","v":{"$error":"#REF!"}}]
[{"$f":"申込基本!$C$7","v":0},{"$f":"申込基本!$Q$7","v":{"$error":"#N/A"}},{"$f":"'入力用（シングルス）'!F12&'入力用（シングルス）'!L12","v":""},{"$f":"'入力用（シングルス）'!R12","v":0},{"$f":"'入力用（シングルス）'!S12","v":0},null,null,null,null,null,null,null,null,null,null,null,null,null,null,null,null,null,null,null,{"$f":"[1]申込基本!$C$7","v":0},{"$f":"[1]申込基本!$Q$7","v":{"$error":"#N/A"}},{"$f":"[1]入力用!$F12","v":""},{"$f":"[1]入力用!$R12","v":0},{"$f":"[1]入力用!#REF!","v":{"$error":"#REF!"}}]
[{"$f":"申込基本!$C$7","v":0},{"$f":"申込基本!$Q$7","v":{"$error":"#N/A"}},{"$f":"'入力用（シングルス）'!F13&'入力用（シングルス）'!L13","v":""},{"$f":"'入力用（シングルス）'!R13","v":0},{"$f":"'入力用（シングルス）'!S13","v":0},null,null,null,null,null,null,null,null,null,null,null,null,null,null,null,null,null,null,null,{"$f":"[1]申込基本!$C$7","v":0},{"$f":"[1]申込基本!$Q$7","v":{"$error":"#N/A"}},{"$f":"[1]入力用!$F13","v":""},{"$f":"[1]入力用!$R13","v":0},{"$f":"[1]入力用!#REF!","v":{"$error":"#REF!"}}]
[{"$f":"申込基本!$C$7","v":0},{"$f":"申込基本!$Q$7","v":{"$error":"#N/A"}},{"$f":"'入力用（シングルス）'!F14&'入力用（シングルス）'!L14","v":""},{"$f":"'入力用（シングルス）'!R14","v":0},{"$f":"'入力用（シングルス）'!S14","v":0},null,null,null,null,null,null,null,null,null,null,null,null,null,null,null,null,null,null,null,{"$f":"[1]申込基本!$C$7","v":0},{"$f":"[1]申込基本!$Q$7","v":{"$error":"#N/A"}},{"$f":"[1]入力用!$F14","v":""},{"$f":"[1]入力用!$R14","v":0},{"$f":"[1]入力用!#REF!","v":{"$error":"#REF!"}}]
[{"$f":"申込基本!$C$7","v":0},{"$f":"申込基本!$Q$7","v":{"$error":"#N/A"}},{"$f":"'入力用（シングルス）'!F15&'入力用（シングルス）'!L15","v":""},{"$f":"'入力用（シングルス）'!R15","v":0},{"$f":"'入力用（シングルス）'!S15","v":0},null,null,null,null,null,null,null,null,null,null,null,null,null,null,null,null,null,null,null,{"$f":"[1]申込基本!$C$7","v":0},{"$f":"[1]申込基本!$Q$7","v":{"$error":"#N/A"}},{"$f":"[1]入力用!$F15","v":""},{"$f":"[1]入力用!$R15","v":0},{"$f":"[1]入力用!#REF!","v":{"$error":"#REF!"}}]
[{"$f":"申込基本!$C$7","v":0},{"$f":"申込基本!$Q$7","v":{"$error":"#N/A"}},{"$f":"'入力用（シングルス）'!F16&'入力用（シングルス）'!L16","v":""},{"$f":"'入力用（シングルス）'!R16","v":0},{"$f":"'入力用（シングルス）'!S16","v":0},null,null,null,null,null,null,null,null,null,null,null,null,null,null,null,null,null,null,null,{"$f":"[1]申込基本!$C$7","v":0},{"$f":"[1]申込基本!$Q$7","v":{"$error":"#N/A"}},{"$f":"[1]入力用!$F16","v":""},{"$f":"[1]入力用!$R16","v":0},{"$f":"[1]入力用!#REF!","v":{"$error":"#REF!"}}]
[{"$f":"申込基本!$C$7","v":0},{"$f":"申込基本!$Q$7","v":{"$error":"#N/A"}},{"$f":"'入力用（シングルス）'!F40&'入力用（シングルス）'!L40","v":""},{"$f":"'入力用（シングルス）'!R40","v":0},{"$f":"'入力用（シングルス）'!S40","v":0},null,null,null,null,null,null,null,null,null,null,null,null,null,null,null,null,null,null,null,{"$f":"[1]申込基本!$C$7","v":0},{"$f":"[1]申込基本!$Q$7","v":{"$error":"#N/A"}},{"$f":"#REF!","v":{"$error":"#REF!"}},{"$f":"#REF!","v":{"$error":"#REF!"}},{"$f":"#REF!","v":{"$error":"#REF!"}}]
[{"$f":"申込基本!$C$7","v":0},{"$f":"申込基本!$Q$7","v":{"$error":"#N/A"}},{"$f":"'入力用（シングルス）'!F41&'入力用（シングルス）'!L41","v":""},{"$f":"'入力用（シングルス）'!R41","v":0},{"$f":"'入力用（シングルス）'!S41","v":0},null,null,null,null,null,null,null,null,null,null,null,null,null,null,null,null,null,null,null,{"$f":"[1]申込基本!$C$7","v":0},{"$f":"[1]申込基本!$Q$7","v":{"$error":"#N/A"}},{"$f":"[1]入力用!$F8","v":""},{"$f":"#REF!","v":{"$error":"#REF!"}},{"$f":"#REF!","v":{"$error":"#REF!"}}]
[{"$f":"申込基本!$C$7","v":0},{"$f":"申込基本!$Q$7","v":{"$error":"#N/A"}},{"$f":"'入力用（シングルス）'!F42&'入力用（シングルス）'!L42","v":""},{"$f":"'入力用（シングルス）'!R42","v":0},{"$f":"'入力用（シングルス）'!S42","v":0},null,null,null,null,null,null,null,null,null,null,null,null,null,null,null,null,null,null,null,{"$f":"[1]申込基本!$C$7","v":0},{"$f":"[1]申込基本!$Q$7","v":{"$error":"#N/A"}},{"$f":"#REF!","v":{"$error":"#REF!"}},{"$f":"#REF!","v":{"$error":"#REF!"}},{"$f":"#REF!","v":{"$error":"#REF!"}}]
[{"$f":"申込基本!$C$7","v":0},{"$f":"申込基本!$Q$7","v":{"$error":"#N/A"}},{"$f":"'入力用（シングルス）'!F43&'入力用（シングルス）'!L43","v":""},{"$f":"'入力用（シングルス）'!R43","v":0},{"$f":"'入力用（シングルス）'!S43","v":0},null,null,null,null,null,null,null,null,null,null,null,null,null,null,null,null,null,null,null,{"$f":"[1]申込基本!$C$7","v":0},{"$f":"[1]申込基本!$Q$7","v":{"$error":"#N/A"}},{"$f":"#REF!","v":{"$error":"#REF!"}},{"$f":"#REF!","v":{"$error":"#REF!"}},{"$f":"#REF!","v":{"$error":"#REF!"}}]
[{"$f":"申込基本!$C$7","v":0},{"$f":"申込基本!$Q$7","v":{"$error":"#N/A"}},{"$f":"'入力用（シングルス）'!F44&'入力用（シングルス）'!L44","v":""},{"$f":"'入力用（シングルス）'!R44","v":0},{"$f":"'入力用（シングルス）'!S44","v":0},null,null,null,null,null,null,null,null,null,null,null,null,null,null,null,null,null,null,null,{"$f":"[1]申込基本!$C$7","v":0},{"$f":"[1]申込基本!$Q$7","v":{"$error":"#N/A"}},{"$f":"#REF!","v":{"$error":"#REF!"}},{"$f":"#REF!","v":{"$error":"#REF!"}},{"$f":"#REF!","v":{"$error":"#REF!"}}]
[{"$f":"申込基本!$C$7","v":0},{"$f":"申込基本!$Q$7","v":{"$error":"#N/A"}},{"$f":"'入力用（シングルス）'!F45&'入力用（シングルス）'!L45","v":""},{"$f":"'入力用（シングルス）'!R45","v":0},{"$f":"'入力用（シングルス）'!S45","v":0},null,null,null,null,null,null,null,null,null,null,null,null,null,null,null,null,null,null,null,{"$f":"[1]申込基本!$C$7","v":0},{"$f":"[1]申込基本!$Q$7","v":{"$error":"#N/A"}},{"$f":"#REF!","v":{"$error":"#REF!"}},{"$f":"#REF!","v":{"$error":"#REF!"}},{"$f":"#REF!","v":{"$error":"#REF!"}}]
[{"$f":"申込基本!$C$7","v":0},{"$f":"申込基本!$Q$7","v":{"$error":"#N/A"}},{"$f":"'入力用（シングルス）'!F46&'入力用（シングルス）'!L46","v":""},{"$f":"'入力用（シングルス）'!R46","v":0},{"$f":"'入力用（シングルス）'!S46","v":0},null,null,null,null,null,null,null,null,null,null,null,null,null,null,null,null,null,null,null,{"$f":"[1]申込基本!$C$7","v":0},{"$f":"[1]申込基本!$Q$7","v":{"$error":"#N/A"}},{"$f":"#REF!","v":{"$error":"#REF!"}},{"$f":"#REF!","v":{"$error":"#REF!"}},{"$f":"#REF!","v":{"$error":"#REF!"}}]
[{"$f":"申込基本!$C$7","v":0},{"$f":"申込基本!$Q$7","v":{"$error":"#N/A"}},{"$f":"'入力用（シングルス）'!F47&'入力用（シングルス）'!L47","v":""},{"$f":"'入力用（シングルス）'!R47","v":0},{"$f":"'入力用（シングルス）'!S47","v":0},null,null,null,null,null,null,null,null,null,null,null,null,null,null,null,null,null,null,null,{"$f":"[1]申込基本!$C$7","v":0},{"$f":"[1]申込基本!$Q$7","v":{"$error":"#N/A"}},{"$f":"#REF!","v":{"$error":"#REF!"}},{"$f":"#REF!","v":{"$error":"#REF!"}},{"$f":"#REF!","v":{"$error":"#REF!"}}]
[{"$f":"申込基本!$C$7","v":0},{"$f":"申込基本!$Q$7","v":{"$error":"#N/A"}},{"$f":"'入力用（シングルス）'!F48&'入力用（シングルス）'!L48","v":""},{"$f":"'入力用（シングルス）'!R48","v":0},{"$f":"'入力用（シングルス）'!S48","v":0},null,null,null,null,null,null,null,null,null,null,null,null,null,null,null,null,null,null,null,{"$f":"[1]申込基本!$C$7","v":0},{"$f":"[1]申込基本!$Q$7","v":{"$error":"#N/A"}},{"$f":"#REF!","v":{"$error":"#REF!"}},{"$f":"#REF!","v":{"$error":"#REF!"}},{"$f":"#REF!","v":{"$error":"#REF!"}}]
[{"$f":"申込基本!$C$7","v":0},{"$f":"申込基本!$Q$7","v":{"$error":"#N/A"}},{"$f":"'入力用（シングルス）'!F49&'入力用（シングルス）'!L49","v":""},{"$f":"'入力用（シングルス）'!R49","v":0},{"$f":"'入力用（シングルス）'!S49","v":0},null,null,null,null,null,null,null,null,null,null,null,null,null,null,null,null,null,null,null,{"$f":"[1]申込基本!$C$7","v":0},{"$f":"[1]申込基本!$Q$7","v":{"$error":"#N/A"}},{"$f":"#REF!","v":{"$error":"#REF!"}},{"$f":"#REF!","v":{"$error":"#REF!"}},{"$f":"#REF!","v":{"$error":"#REF!"}}]
[{"$f":"申込基本!$C$7","v":0},{"$f":"申込基本!$Q$7","v":{"$error":"#N/A"}},{"$f":"'入力用（シングルス）'!F73&'入力用（シングルス）'!L73","v":""},{"$f":"'入力用（シングルス）'!R73","v":0},{"$f":"'入力用（シングルス）'!S73","v":0},null,null,null,null,null,null,null,null,null,null,null,null,null,null,null,null,null,null,null,{"$f":"[1]申込基本!$C$7","v":0},{"$f":"[1]申込基本!$Q$7","v":{"$error":"#N/A"}},{"$f":"#REF!","v":{"$error":"#REF!"}},{"$f":"#REF!","v":{"$error":"#REF!"}},{"$f":"#REF!","v":{"$error":"#REF!"}}]
[{"$f":"申込基本!$C$7","v":0},{"$f":"申込基本!$Q$7","v":{"$error":"#N/A"}},{"$f":"'入力用（シングルス）'!F74&'入力用（シングルス）'!L74","v":""},{"$f":"'入力用（シングルス）'!R74","v":0},{"$f":"'入力用（シングルス）'!S74","v":0},null,null,null,null,null,null,null,null,null,null,null,null,null,null,null,null,null,null,null,{"$f":"[1]申込基本!$C$7","v":0},{"$f":"[1]申込基本!$Q$7","v":{"$error":"#N/A"}},{"$f":"#REF!","v":{"$error":"#REF!"}},{"$f":"#REF!","v":{"$error":"#REF!"}},{"$f":"#REF!","v":{"$error":"#REF!"}}]
[{"$f":"申込基本!$C$7","v":0},{"$f":"申込基本!$Q$7","v":{"$error":"#N/A"}},{"$f":"'入力用（シングルス）'!F75&'入力用（シングルス）'!L75","v":""},{"$f":"'入力用（シングルス）'!R75","v":0},{"$f":"'入力用（シングルス）'!S75","v":0},null,null,null,null,null,null,null,null,null,null,null,null,null,null,null,null,null,null,null,{"$f":"[1]申込基本!$C$7","v":0},{"$f":"[1]申込基本!$Q$7","v":{"$error":"#N/A"}},{"$f":"#REF!","v":{"$error":"#REF!"}},{"$f":"#REF!","v":{"$error":"#REF!"}},{"$f":"#REF!","v":{"$error":"#REF!"}}]
[{"$f":"申込基本!$C$7","v":0},{"$f":"申込基本!$Q$7","v":{"$error":"#N/A"}},{"$f":"'入力用（シングルス）'!F76&'入力用（シングルス）'!L76","v":""},{"$f":"'入力用（シングルス）'!R76","v":0},{"$f":"'入力用（シングルス）'!S76","v":0},null,null,null,null,null,null,null,null,null,null,null,null,null,null,null,null,null,null,null,{"$f":"[1]申込基本!$C$7","v":0},{"$f":"[1]申込基本!$Q$7","v":{"$error":"#N/A"}},{"$f":"#REF!","v":{"$error":"#REF!"}},{"$f":"#REF!","v":{"$error":"#REF!"}},{"$f":"#REF!","v":{"$error":"#REF!"}}]
[{"$f":"申込基本!$C$7","v":0},{"$f":"申込基本!$Q$7","v":{"$error":"#N/A"}},{"$f":"'入力用（シングルス）'!F77&'入力用（シングルス）'!L77","v":""},{"$f":"'入力用（シングルス）'!R77","v":0},{"$f":"'入力用（シングルス）'!S77","v":0},null,null,null,null,null,null,null,null,null,null,null,null,null,null,null,null,null,null,null,{"$f":"[1]申込基本!$C$7","v":0},{"$f":"[1]申込基本!$Q$7","v":{"$error":"#N/A"}},{"$f":"#REF!","v":{"$error":"#REF!"}},{"$f":"#REF!","v":{"$error":"#REF!"}},{"$f":"#REF!","v":{"$error":"#REF!"}}]
[{"$f":"申込基本!$C$7","v":0},{"$f":"申込基本!$Q$7","v":{"$error":"#N/A"}},{"$f":"'入力用（シングルス）'!F78&'入力用（シングルス）'!L78","v":""},{"$f":"'入力用（シングルス）'!R78","v":0},{"$f":"'入力用（シングルス）'!S78","v":0},null,null,null,null,null,null,null,null,null,null,null,null,null,null,null,null,null,null,null,{"$f":"[1]申込基本!$C$7","v":0},{"$f":"[1]申込基本!$Q$7","v":{"$error":"#N/A"}},{"$f":"#REF!","v":{"$error":"#REF!"}},{"$f":"#REF!","v":{"$error":"#REF!"}},{"$f":"#REF!","v":{"$error":"#REF!"}}]
[{"$f":"申込基本!$C$7","v":0},{"$f":"申込基本!$Q$7","v":{"$error":"#N/A"}},{"$f":"'入力用（シングルス）'!F79&'入力用（シングルス）'!L79","v":""},{"$f":"'入力用（シングルス）'!R79","v":0},{"$f":"'入力用（シングルス）'!S79","v":0},null,null,null,null,null,null,null,null,null,null,null,null,null,null,null,null,null,null,null,{"$f":"[1]申込基本!$C$7","v":0},{"$f":"[1]申込基本!$Q$7","v":{"$error":"#N/A"}},{"$f":"#REF!","v":{"$error":"#REF!"}},{"$f":"#REF!","v":{"$error":"#REF!"}},{"$f":"#REF!","v":{"$error":"#REF!"}}]
[{"$f":"申込基本!$C$7","v":0},{"$f":"申込基本!$Q$7","v":{"$error":"#N/A"}},{"$f":"'入力用（シングルス）'!F80&'入力用（シングルス）'!L80","v":""},{"$f":"'入力用（シングルス）'!R80","v":0},{"$f":"'入力用（シングルス）'!S80","v":0},null,null,null,null,null,null,null,null,null,null,null,null,null,null,null,null,null,null,null,{"$f":"[1]申込基本!$C$7","v":0},{"$f":"[1]申込基本!$Q$7","v":{"$error":"#N/A"}},{"$f":"#REF!","v":{"$error":"#REF!"}},{"$f":"#REF!","v":{"$error":"#REF!"}},{"$f":"#REF!","v":{"$error":"#REF!"}}]
[{"$f":"申込基本!$C$7","v":0},{"$f":"申込基本!$Q$7","v":{"$error":"#N/A"}},{"$f":"'入力用（シングルス）'!F81&'入力用（シングルス）'!L81","v":""},{"$f":"'入力用（シングルス）'!R81","v":0},{"$f":"'入力用（シングルス）'!S81","v":0},null,null,null,null,null,null,null,null,null,null,null,null,null,null,null,null,null,null,null,{"$f":"[1]申込基本!$C$7","v":0},{"$f":"[1]申込基本!$Q$7","v":{"$error":"#N/A"}},{"$f":"#REF!","v":{"$error":"#REF!"}},{"$f":"#REF!","v":{"$error":"#REF!"}},{"$f":"#REF!","v":{"$error":"#REF!"}}]
[{"$f":"申込基本!$C$7","v":0},{"$f":"申込基本!$Q$7","v":{"$error":"#N/A"}},{"$f":"'入力用（シングルス）'!F82&'入力用（シングルス）'!L82","v":""},{"$f":"'入力用（シングルス）'!R82","v":0},{"$f":"'入力用（シングルス）'!S82","v":0},null,null,null,null,null,null,null,null,null,null,null,null,null,null,null,null,null,null,null,{"$f":"[1]申込基本!$C$7","v":0},{"$f":"[1]申込基本!$Q$7","v":{"$error":"#N/A"}},{"$f":"#REF!","v":{"$error":"#REF!"}},{"$f":"#REF!","v":{"$error":"#REF!"}},{"$f":"#REF!","v":{"$error":"#REF!"}}]
[{"$f":"申込基本!$C$7","v":0},{"$f":"申込基本!$Q$7","v":{"$error":"#N/A"}},{"$f":"'入力用（シングルス）'!F106&'入力用（シングルス）'!L106","v":""},{"$f":"'入力用（シングルス）'!R106","v":0},{"$f":"'入力用（シングルス）'!S106","v":0},null,null,null,null,null,null,null,null,null,null,null,null,null,null,null,null,null,null,null,{"$f":"[1]申込基本!$C$7","v":0},{"$f":"[1]申込基本!$Q$7","v":{"$error":"#N/A"}},{"$f":"#REF!","v":{"$error":"#REF!"}},{"$f":"#REF!","v":{"$error":"#REF!"}},{"$f":"#REF!","v":{"$error":"#REF!"}}]
[{"$f":"申込基本!$C$7","v":0},{"$f":"申込基本!$Q$7","v":{"$error":"#N/A"}},{"$f":"'入力用（シングルス）'!F107&'入力用（シングルス）'!L107","v":""},{"$f":"'入力用（シングルス）'!R107","v":0},{"$f":"'入力用（シングルス）'!S107","v":0},null,null,null,null,null,null,null,null,null,null,null,null,null,null,null,null,null,null,null,{"$f":"[1]申込基本!$C$7","v":0},{"$f":"[1]申込基本!$Q$7","v":{"$error":"#N/A"}},{"$f":"#REF!","v":{"$error":"#REF!"}},{"$f":"#REF!","v":{"$error":"#REF!"}},{"$f":"#REF!","v":{"$error":"#REF!"}}]
[{"$f":"申込基本!$C$7","v":0},{"$f":"申込基本!$Q$7","v":{"$error":"#N/A"}},{"$f":"'入力用（シングルス）'!F108&'入力用（シングルス）'!L108","v":""},{"$f":"'入力用（シングルス）'!R108","v":0},{"$f":"'入力用（シングルス）'!S108","v":0},null,null,null,null,null,null,null,null,null,null,null,null,null,null,null,null,null,null,null,{"$f":"[1]申込基本!$C$7","v":0},{"$f":"[1]申込基本!$Q$7","v":{"$error":"#N/A"}},{"$f":"#REF!","v":{"$error":"#REF!"}},{"$f":"#REF!","v":{"$error":"#REF!"}},{"$f":"#REF!","v":{"$error":"#REF!"}}]
[{"$f":"申込基本!$C$7","v":0},{"$f":"申込基本!$Q$7","v":{"$error":"#N/A"}},{"$f":"'入力用（シングルス）'!F109&'入力用（シングルス）'!L109","v":""},{"$f":"'入力用（シングルス）'!R109","v":0},{"$f":"'入力用（シングルス）'!S109","v":0},null,null,null,null,null,null,null,null,null,null,null,null,null,null,null,null,null,null,null,{"$f":"[1]申込基本!$C$7","v":0},{"$f":"[1]申込基本!$Q$7","v":{"$error":"#N/A"}},{"$f":"#REF!","v":{"$error":"#REF!"}},{"$f":"#REF!","v":{"$error":"#REF!"}},{"$f":"#REF!","v":{"$error":"#REF!"}}]
[{"$f":"申込基本!$C$7","v":0},{"$f":"申込基本!$Q$7","v":{"$error":"#N/A"}},{"$f":"'入力用（シングルス）'!F110&'入力用（シングルス）'!L110","v":""},{"$f":"'入力用（シングルス）'!R110","v":0},{"$f":"'入力用（シングルス）'!S110","v":0},null,null,null,null,null,null,null,null,null,null,null,null,null,null,null,null,null,null,null,{"$f":"[1]申込基本!$C$7","v":0},{"$f":"[1]申込基本!$Q$7","v":{"$error":"#N/A"}},{"$f":"#REF!","v":{"$error":"#REF!"}},{"$f":"#REF!","v":{"$error":"#REF!"}},{"$f":"#REF!","v":{"$error":"#REF!"}}]
[{"$f":"申込基本!$C$7","v":0},{"$f":"申込基本!$Q$7","v":{"$error":"#N/A"}},{"$f":"'入力用（シングルス）'!F111&'入力用（シングルス）'!L111","v":""},{"$f":"'入力用（シングルス）'!R111","v":0},{"$f":"'入力用（シングルス）'!S111","v":0},null,null,null,null,null,null,null,null,null,null,null,null,null,null,null,null,null,null,null,{"$f":"[1]申込基本!$C$7","v":0},{"$f":"[1]申込基本!$Q$7","v":{"$error":"#N/A"}},{"$f":"#REF!","v":{"$error":"#REF!"}},{"$f":"#REF!","v":{"$error":"#REF!"}},{"$f":"#REF!","v":{"$error":"#REF!"}}]
[{"$f":"申込基本!$C$7","v":0},{"$f":"申込基本!$Q$7","v":{"$error":"#N/A"}},{"$f":"'入力用（シングルス）'!F112&'入力用（シングルス）'!L112","v":""},{"$f":"'入力用（シングルス）'!R112","v":0},{"$f":"'入力用（シングルス）'!S112","v":0},null,null,null,null,null,null,null,null,null,null,null,null,null,null,null,null,null,null,null,{"$f":"[1]申込基本!$C$7","v":0},{"$f":"[1]申込基本!$Q$7","v":{"$error":"#N/A"}},{"$f":"#REF!","v":{"$error":"#REF!"}},{"$f":"#REF!","v":{"$error":"#REF!"}},{"$f":"#REF!","v":{"$error":"#REF!"}}]
[{"$f":"申込基本!$C$7","v":0},{"$f":"申込基本!$Q$7","v":{"$error":"#N/A"}},{"$f":"'入力用（シングルス）'!F113&'入力用（シングルス）'!L113","v":""},{"$f":"'入力用（シングルス）'!R113","v":0},{"$f":"'入力用（シングルス）'!S113","v":0},null,null,null,null,null,null,null,null,null,null,null,null,null,null,null,null,null,null,null,{"$f":"[1]申込基本!$C$7","v":0},{"$f":"[1]申込基本!$Q$7","v":{"$error":"#N/A"}},{"$f":"#REF!","v":{"$error":"#REF!"}},{"$f":"#REF!","v":{"$error":"#REF!"}},{"$f":"#REF!","v":{"$error":"#REF!"}}]
[{"$f":"申込基本!$C$7","v":0},{"$f":"申込基本!$Q$7","v":{"$error":"#N/A"}},{"$f":"'入力用（シングルス）'!F114&'入力用（シングルス）'!L114","v":""},{"$f":"'入力用（シングルス）'!R114","v":0},{"$f":"'入力用（シングルス）'!S114","v":0},null,null,null,null,null,null,null,null,null,null,null,null,null,null,null,null,null,null,null,{"$f":"[1]申込基本!$C$7","v":0},{"$f":"[1]申込基本!$Q$7","v":{"$error":"#N/A"}},{"$f":"#REF!","v":{"$error":"#REF!"}},{"$f":"#REF!","v":{"$error":"#REF!"}},{"$f":"#REF!","v":{"$error":"#REF!"}}]
[{"$f":"申込基本!$C$7","v":0},{"$f":"申込基本!$Q$7","v":{"$error":"#N/A"}},{"$f":"'入力用（シングルス）'!F115&'入力用（シングルス）'!L115","v":""},{"$f":"'入力用（シングルス）'!R115","v":0},{"$f":"'入力用（シングルス）'!S115","v":0},null,null,null,null,null,null,null,null,null,null,null,null,null,null,null,null,null,null,null,{"$f":"[1]申込基本!$C$7","v":0},{"$f":"[1]申込基本!$Q$7","v":{"$error":"#N/A"}},{"$f":"#REF!","v":{"$error":"#REF!"}},{"$f":"#REF!","v":{"$error":"#REF!"}},{"$f":"#REF!","v":{"$error":"#REF!"}}]
[{"$f":"申込基本!$C$7","v":0},{"$f":"申込基本!$Q$7","v":{"$error":"#N/A"}},{"$f":"'入力用（シングルス）'!F139&'入力用（シングルス）'!L139","v":""},{"$f":"'入力用（シングルス）'!R139","v":0},{"$f":"'入力用（シングルス）'!S139","v":0},null,null,null,null,null,null,null,null,null,null,null,null,null,null,null,null,null,null,null,{"$f":"[1]申込基本!$C$7","v":0},{"$f":"[1]申込基本!$Q$7","v":{"$error":"#N/A"}},{"$f":"#REF!","v":{"$error":"#REF!"}},{"$f":"#REF!","v":{"$error":"#REF!"}},{"$f":"#REF!","v":{"$error":"#REF!"}}]
[{"$f":"申込基本!$C$7","v":0},{"$f":"申込基本!$Q$7","v":{"$error":"#N/A"}},{"$f":"'入力用（シングルス）'!F140&'入力用（シングルス）'!L140","v":""},{"$f":"'入力用（シングルス）'!R140","v":0},{"$f":"'入力用（シングルス）'!S140","v":0},null,null,null,null,null,null,null,null,null,null,null,null,null,null,null,null,null,null,null,{"$f":"[1]申込基本!$C$7","v":0},{"$f":"[1]申込基本!$Q$7","v":{"$error":"#N/A"}},{"$f":"#REF!","v":{"$error":"#REF!"}},{"$f":"#REF!","v":{"$error":"#REF!"}},{"$f":"#REF!","v":{"$error":"#REF!"}}]
[{"$f":"申込基本!$C$7","v":0},{"$f":"申込基本!$Q$7","v":{"$error":"#N/A"}},{"$f":"'入力用（シングルス）'!F141&'入力用（シングルス）'!L141","v":""},{"$f":"'入力用（シングルス）'!R141","v":0},{"$f":"'入力用（シングルス）'!S141","v":0},null,null,null,null,null,null,null,null,null,null,null,null,null,null,null,null,null,null,null,{"$f":"[1]申込基本!$C$7","v":0},{"$f":"[1]申込基本!$Q$7","v":{"$error":"#N/A"}},{"$f":"#REF!","v":{"$error":"#REF!"}},{"$f":"#REF!","v":{"$error":"#REF!"}},{"$f":"#REF!","v":{"$error":"#REF!"}}]
[{"$f":"申込基本!$C$7","v":0},{"$f":"申込基本!$Q$7","v":{"$error":"#N/A"}},{"$f":"'入力用（シングルス）'!F142&'入力用（シングルス）'!L142","v":""},{"$f":"'入力用（シングルス）'!R142","v":0},{"$f":"'入力用（シングルス）'!S142","v":0},null,null,null,null,null,null,null,null,null,null,null,null,null,null,null,null,null,null,null,{"$f":"[1]申込基本!$C$7","v":0},{"$f":"[1]申込基本!$Q$7","v":{"$error":"#N/A"}},{"$f":"#REF!","v":{"$error":"#REF!"}},{"$f":"#REF!","v":{"$error":"#REF!"}},{"$f":"#REF!","v":{"$error":"#REF!"}}]
[{"$f":"申込基本!$C$7","v":0},{"$f":"申込基本!$Q$7","v":{"$error":"#N/A"}},{"$f":"'入力用（シングルス）'!F143&'入力用（シングルス）'!L143","v":""},{"$f":"'入力用（シングルス）'!R143","v":0},{"$f":"'入力用（シングルス）'!S143","v":0},null,null,null,null,null,null,null,null,null,null,null,null,null,null,null,null,null,null,null,{"$f":"[1]申込基本!$C$7","v":0},{"$f":"[1]申込基本!$Q$7","v":{"$error":"#N/A"}},{"$f":"#REF!","v":{"$error":"#REF!"}},{"$f":"#REF!","v":{"$error":"#REF!"}},{"$f":"#REF!","v":{"$error":"#REF!"}}]
[{"$f":"申込基本!$C$7","v":0},{"$f":"申込基本!$Q$7","v":{"$error":"#N/A"}},{"$f":"'入力用（シングルス）'!F144&'入力用（シングルス）'!L144","v":""},{"$f":"'入力用（シングルス）'!R144","v":0},{"$f":"'入力用（シングルス）'!S144","v":0},null,null,null,null,null,null,null,null,null,null,null,null,null,null,null,null,null,null,null,{"$f":"[1]申込基本!$C$7","v":0},{"$f":"[1]申込基本!$Q$7","v":{"$error":"#N/A"}},{"$f":"#REF!","v":{"$error":"#REF!"}},{"$f":"#REF!","v":{"$error":"#REF!"}},{"$f":"#REF!","v":{"$error":"#REF!"}}]
[{"$f":"申込基本!$C$7","v":0},{"$f":"申込基本!$Q$7","v":{"$error":"#N/A"}},{"$f":"'入力用（シングルス）'!F145&'入力用（シングルス）'!L145","v":""},{"$f":"'入力用（シングルス）'!R145","v":0},{"$f":"'入力用（シングルス）'!S145","v":0},null,null,null,null,null,null,null,null,null,null,null,null,null,null,null,null,null,null,null,{"$f":"[1]申込基本!$C$7","v":0},{"$f":"[1]申込基本!$Q$7","v":{"$error":"#N/A"}},{"$f":"#REF!","v":{"$error":"#REF!"}},{"$f":"#REF!","v":{"$error":"#REF!"}},{"$f":"#REF!","v":{"$error":"#REF!"}}]
[{"$f":"申込基本!$C$7","v":0},{"$f":"申込基本!$Q$7","v":{"$error":"#N/A"}},{"$f":"'入力用（シングルス）'!F146&'入力用（シングルス）'!L146","v":""},{"$f":"'入力用（シングルス）'!R146","v":0},{"$f":"'入力用（シングルス）'!S146","v":0},null,null,null,null,null,null,null,null,null,null,null,null,null,null,null,null,null,null,null,{"$f":"[1]申込基本!$C$7","v":0},{"$f":"[1]申込基本!$Q$7","v":{"$error":"#N/A"}},{"$f":"#REF!","v":{"$error":"#REF!"}},{"$f":"#REF!","v":{"$error":"#REF!"}},{"$f":"#REF!","v":{"$error":"#REF!"}}]
[{"$f":"申込基本!$C$7","v":0},{"$f":"申込基本!$Q$7","v":{"$error":"#N/A"}},{"$f":"'入力用（シングルス）'!F147&'入力用（シングルス）'!L147","v":""},{"$f":"'入力用（シングルス）'!R147","v":0},{"$f":"'入力用（シングルス）'!S147","v":0},null,null,null,null,null,null,null,null,null,null,null,null,null,null,null,null,null,null,null,{"$f":"[1]申込基本!$C$7","v":0},{"$f":"[1]申込基本!$Q$7","v":{"$error":"#N/A"}},{"$f":"#REF!","v":{"$error":"#REF!"}},{"$f":"#REF!","v":{"$error":"#REF!"}},{"$f":"#REF!","v":{"$error":"#REF!"}}]
[{"$f":"申込基本!$C$7","v":0},{"$f":"申込基本!$Q$7","v":{"$error":"#N/A"}},{"$f":"'入力用（シングルス）'!F148&'入力用（シングルス）'!L148","v":""},{"$f":"'入力用（シングルス）'!R148","v":0},{"$f":"'入力用（シングルス）'!S148","v":0},null,null,null,null,null,null,null,null,null,null,null,null,null,null,null,null,null,null,null,{"$f":"[1]申込基本!$C$7","v":0},{"$f":"[1]申込基本!$Q$7","v":{"$error":"#N/A"}},{"$f":"#REF!","v":{"$error":"#REF!"}},{"$f":"#REF!","v":{"$error":"#REF!"}},{"$f":"#REF!","v":{"$error":"#REF!"}}]

{"sheet":"入力用（ダブルス）","index":8,"n_rows":155,"n_cols":21,"rows_kept":155,"cut":false,"hidden":false,"merged":[[79,13,79,16],[80,5,80,10],[80,13,80,16],[74,13,74,16],[75,5,75,10],[75,13,75,16],[76,5,76,10],[76,13,76,16],[77,5,77,10],[77,13,77,16],[78,5,78,10],[78,13,78,16],[46,13,46,16],[47,5,47,10],[47,13,47,16],[48,5,48,10],[48,13,48,16],[72,5,72,10],[72,13,72,16],[73,5,73,10],[73,13,73,16],[66,1,66,18],[67,4,67,14],[68,1,68,16],[68,17,68,18],[70,1,70,3],[70,4,70,6],[70,7,70,9],[70,10,70,14],[70,15,70,16],[70,17,70,18],[47,1,47,2],[47,3,47,4],[47,11,47,12],[57,0,65,18],[51,4,52,6],[41,13,41,16],[42,5,42,10],[42,13,42,16],[43,5,43,10],[43,13,43,16],[44,5,44,10],[44,13,44,16],[45,5,45,10],[45,13,45,16],[156,0,164,18],[150,4,151,6],[150,7,151,18],[152,4,153,6],[152,7,153,16],[152,18,153,18],[154,1,154,7],[154,9,154,10],[147,1,147,2],[147,3,147,4],[147,5,147,10],[147,11,147,12],[147,13,147,16],[149,2,149,7],[149,8,149,18],[145,1,145,2],[145,3,145,4],[145,5,145,10],[145,11,145,12],[145,13,145,16],[146,1,146,2],[146,3,146,4],[146,5,146,10],[146,11,146,12],[146,13,146,16],[143,1,143,2],[143,3,143,4],[143,5,143,10],[143,11,143,12],[143,13,143,16],[144,1,144,2],[144,3,144,4],[144,5,144,10],[144,11,144,12],[144,13,144,16],[141,1,141,2],[141,3,141,4],[141,5,141,10],[141,11,141,12],[141,13,141,16],[142,1,142,2],[142,3,142,4],[142,5,142,10],[142,11,142,12],[142,13,142,16],[139,1,139,2],[139,3,139,4],[139,5,139,10],[139,11,139,12],[139,13,139,16],[140,1,140,2],[140,3,140,4],[140,5,140,10],[140,11,140,12],[140,13,140,16],[137,1,137,2],[137,3,137,4],[137,5,137,10],[137,11,137,12],[137,13,137,16],[138,1,138,2],[138,3,138,4],[138,5,138,10],[138,11,138,12],[138,13,138,16],[136,1,136,3],[136,4,136,6],[136,7,136,9],[136,10,136,14],[136,15,136,16],[136,17,136,18],[121,1,121,7],[121,9,121,10],[123,0,131,18],[132,1,132,18],[133,4,133,14],[134,1,134,16],[134,17,134,18],[116,2,116,7],[116,8,116,18],[117,4,118,6],[117,7,118,18],[119,4,120,6],[119,7,120,16],[119,18,120,18],[113,1,113,2],[113,3,113,4],[113,5,113,10],[113,11,113,12],[113,13,113,16],[114,1,114,2],[114,3,114,4],[114,5,114,10],[114,11,114,12],[114,13,114,16],[111,1,111,2],[111,3,111,4],[111,5,111,10],[111,11,111,12],[111,13,111,16],[112,1,112,2],[112,3,112,4],[112,5,112,10],[112,11,112,12],[112,13,112,16],[109,1,109,2],[109,3,109,4],[109,5,109,10],[109,11,109,12],[109,13,109,16],[110,1,110,2],[110,3,110,4],[110,5,110,10],[110,11,110,12],[110,13,110,16],[107,1,107,2],[107,3,107,4],[107,5,107,10],[107,11,107,12],[107,13,107,16],[108,1,108,2],[108,3,108,4],[108,5,108,10],[108,11,108,12],[108,13,108,16],[105,1,105,2],[105,3,105,4],[105,5,105,10],[105,11,105,12],[105,13,105,16],[106,1,106,2],[106,3,106,4],[106,5,106,10],[106,11,106,12],[106,13,106,16],[103,17,103,18],[104,1,104,2],[104,3,104,4],[104,5,104,10],[104,11,104,12],[104,13,104,16],[90,0,98,18],[99,1,99,18],[100,4,100,14],[101,1,101,16],[101,17,101,18],[103,1,103,3],[103,4,103,6],[103,7,103,9],[103,10,103,14],[103,15,103,16],[80,1,80,2],[80,3,80,4],[80,11,80,12],[84,4,85,6],[84,7,85,18],[86,4,87,6],[86,7,87,16],[86,18,87,18],[88,1,88,7],[88,9,88,10],[81,1,81,2],[81,3,81,4],[81,5,81,10],[81,11,81,12],[81,13,81,16],[83,2,83,7],[83,8,83,18],[77,1,77,2],[77,3,77,4],[77,11,77,12],[78,1,78,2],[78,3,78,4],[78,11,78,12],[79,1,79,2],[79,3,79,4],[79,11,79,12],[79,5,79,10],[74,1,74,2],[74,3,74,4],[74,11,74,12],[75,1,75,2],[75,3,75,4],[75,11,75,12],[76,1,76,2],[76,3,76,4],[76,11,76,12],[74,5,74,10],[71,1,71,2],[71,3,71,4],[71,5,71,10],[71,11,71,12],[71,13,71,16],[72,1,72,2],[72,3,72,4],[72,11,72,12],[73,1,73,2],[73,3,73,4],[73,11,73,12],[51,7,52,18],[53,4,54,6],[53,7,54,16],[53,18,54,18],[55,1,55,7],[55,9,55,10],[48,1,48,2],[48,3,48,4],[48,11,48,12],[50,2,50,7],[50,8,50,18],[44,1,44,2],[44,3,44,4],[44,11,44,12],[45,1,45,2],[45,3,45,4],[45,11,45,12],[46,1,46,2],[46,3,46,4],[46,11,46,12],[46,5,46,10],[41,1,41,2],[41,3,41,4],[41,11,41,12],[42,1,42,2],[42,3,42,4],[42,11,42,12],[43,1,43,2],[43,3,43,4],[43,11,43,12],[41,5,41,10],[38,1,38,2],[38,3,38,4],[38,5,38,10],[38,11,38,12],[38,13,38,16],[39,1,39,2],[39,3,39,4],[39,11,39,12],[40,1,40,2],[40,3,40,4],[40,11,40,12],[39,5,39,10],[39,13,39,16],[40,5,40,10],[40,13,40,16],[37,1,37,3],[37,4,37,6],[37,7,37,9],[37,10,37,14],[37,15,37,16],[37,17,37,18],[4,20,5,21],[7,20,11,27],[33,1,33,18],[34,4,34,14],[35,1,35,16],[35,17,35,18],[25,1,26,4],[25,8,26,17],[25,18,26,18],[27,4,28,13],[31,8,32,17],[14,13,14,16],[11,13,11,16],[12,1,12,2],[12,3,12,4],[12,5,12,10],[12,11,12,12],[12,13,12,16],[13,1,13,2],[13,3,13,4],[13,5,13,10],[13,11,13,12],[13,13,13,16],[14,1,14,2],[14,3,14,4],[14,5,14,10],[14,11,14,12],[18,4,19,6],[18,7,19,18],[20,4,21,6],[20,7,21,16],[20,18,21,18],[22,1,22,7],[22,9,22,10],[15,1,15,2],[15,3,15,4],[15,5,15,10],[15,11,15,12],[15,13,15,16],[17,2,17,7],[17,8,17,18],[10,1,10,2],[10,3,10,4],[10,5,10,10],[10,11,10,12],[10,13,10,16],[11,1,11,2],[11,3,11,4],[11,5,11,10],[11,11,11,12],[8,1,8,2],[8,3,8,4],[8,5,8,10],[8,11,8,12],[8,13,8,16],[9,1,9,2],[9,3,9,4],[9,5,9,10],[9,11,9,12],[9,13,9,16],[6,1,6,2],[6,3,6,4],[6,5,6,10],[6,11,6,12],[6,13,6,16],[7,1,7,2],[7,3,7,4],[7,5,7,10],[7,11,7,12],[7,13,7,16],[4,17,4,18],[5,1,5,2],[5,3,5,4],[5,5,5,10],[5,11,5,12],[5,13,5,16],[0,1,0,18],[2,1,2,16],[2,17,2,18],[4,1,4,3],[4,4,4,6],[4,7,4,9],[4,10,4,14],[4,15,4,16],[1,4,1,14]]}
[null,{"$f":"申込基本!$C$5&\"　年度\"","v":"2022　年度"}]
[null,"第",1,"回","特別普及大会（ダブルス）",null,null,null,null,null,null,null,null,null,null,null,null,null,null,null,"←回数と、男子・女子を選んでください。"]
[null,"　　　　　　　　　申　　込　　書",null,null,null,null,null,null,null,null,null,null,null,null,null,null,null,"男子"]
[]
[null,"学校名",null,null,{"$f":"申込基本!$Q$7","v":{"$error":"#N/A"}},null,null,"監督名",null,null,{"$f":"申込基本!$C$17","v":0},null,null,null,null,"学校番号",null,{"$f":"申込基本!$C$7","v":0}]
[null,"整理番号",null,"会員ＩＤ",null,"名　　　　　　　　前",null,null,null,null,null,"学年",null,"生 年 月 日",null,null,null,"男女別\nダブルス","初級\n(男女混合)"]
[null,null,null,{"$f":"IF($B7=\"\",\"\",VLOOKUP($B7,登録用データのコピー!$B$5:$V$89,2,FALSE))","v":""},null,{"$f":"IF($B7=\"\",\"\",VLOOKUP($B7,登録用データのコピー!$B$5:$V$89,3,FALSE))","v":""},null,{"$f":"IF($B7=\"\",\"\",VLOOKUP($B7,[1]登録用データのコピー!$B$5:$V$89,2,FALSE))","v":""},null,{"$f":"IF($B7=\"\",\"\",VLOOKUP($B7,[1]登録用データのコピー!$B$5:$V$89,2,FALSE))","v":""},null,{"$f":"IF(B7=\"\",\"\",VLOOKUP(B7,data!$Q$4:$S$88,3,FALSE))","v":""},null,{"$f":"IF($D7=\"\",\"\",VLOOKUP($B7,登録用データのコピー!$B$5:$V$89,7,FALSE))","v":""},null,{"$f":"IF($D7=\"\",\"\",VLOOKUP($D7,登録用データのコピー!$B$5:$V$89,2,FALSE))","v":""}]
[null,null,null,{"$f":"IF($B8=\"\",\"\",VLOOKUP($B8,登録用データのコピー!$B$5:$V$89,2,FALSE))","v":""},null,{"$f":"IF($B8=\"\",\"\",VLOOKUP($B8,登録用データのコピー!$B$5:$V$89,3,FALSE))","v":""},null,{"$f":"IF($B8=\"\",\"\",VLOOKUP($B8,[1]登録用データのコピー!$B$5:$V$89,2,FALSE))","v":""},null,{"$f":"IF($B8=\"\",\"\",VLOOKUP($B8,[1]登録用データのコピー!$B$5:$V$89,2,FALSE))","v":""},null,{"$f":"IF(B8=\"\",\"\",VLOOKUP(B8,data!$Q$4:$S$88,3,FALSE))","v":""},null,{"$f":"IF($D8=\"\",\"\",VLOOKUP($B8,登録用データのコピー!$B$5:$V$89,7,FALSE))","v":""},null,{"$f":"IF($D8=\"\",\"\",VLOOKUP($D8,登録用データのコピー!$B$5:$V$89,2,FALSE))","v":""},null,null,null,null,"「申込基本」のシートを最初に作業してから、黄色の枠に入力して下さい。\nペアごとに、ランクを１・１、２・２、と入力してください。\n初級の有無、参加可能人数は大会によって異なります。\n入力後、送信用タブをクリック、緑のボタンを押して、送信用データを作成してください。\n申込書の印刷は下記のボタンでプレビューを確認後、必要ページのみプリントしてください。"]
[null,null,null,{"$f":"IF($B9=\"\",\"\",VLOOKUP($B9,登録用データのコピー!$B$5:$V$89,2,FALSE))","v":""},null,{"$f":"IF($B9=\"\",\"\",VLOOKUP($B9,登録用データのコピー!$B$5:$V$89,3,FALSE))","v":""},null,{"$f":"IF($B9=\"\",\"\",VLOOKUP($B9,[1]登録用データのコピー!$B$5:$V$89,2,FALSE))","v":""},null,{"$f":"IF($B9=\"\",\"\",VLOOKUP($B9,[1]登録用データのコピー!$B$5:$V$89,2,FALSE))","v":""},null,{"$f":"IF(B9=\"\",\"\",VLOOKUP(B9,data!$Q$4:$S$88,3,FALSE))","v":""},null,{"$f":"IF($D9=\"\",\"\",VLOOKUP($B9,登録用データのコピー!$B$5:$V$89,7,FALSE))","v":""},null,{"$f":"IF($D9=\"\",\"\",VLOOKUP($D9,登録用データのコピー!$B$5:$V$89,2,FALSE))","v":""}]
[null,null,null,{"$f":"IF($B10=\"\",\"\",VLOOKUP($B10,登録用データのコピー!$B$5:$V$89,2,FALSE))","v":""},null,{"$f":"IF($B10=\"\",\"\",VLOOKUP($B10,登録用データのコピー!$B$5:$V$89,3,FALSE))","v":""},null,{"$f":"IF($B10=\"\",\"\",VLOOKUP($B10,[1]登録用データのコピー!$B$5:$V$89,2,FALSE))","v":""},null,{"$f":"IF($B10=\"\",\"\",VLOOKUP($B10,[1]登録用データのコピー!$B$5:$V$89,2,FALSE))","v":""},null,{"$f":"IF(B10=\"\",\"\",VLOOKUP(B10,data!$Q$4:$S$88,3,FALSE))","v":""},null,{"$f":"IF($D10=\"\",\"\",VLOOKUP($B10,登録用データのコピー!$B$5:$V$89,7,FALSE))","v":""},null,{"$f":"IF($D10=\"\",\"\",VLOOKUP($D10,登録用データのコピー!$B$5:$V$89,2,FALSE))","v":""}]
[null,null,null,{"$f":"IF($B11=\"\",\"\",VLOOKUP($B11,登録用データのコピー!$B$5:$V$89,2,FALSE))","v":""},null,{"$f":"IF($B11=\"\",\"\",VLOOKUP($B11,登録用データのコピー!$B$5:$V$89,3,FALSE))","v":""},null,{"$f":"IF($B11=\"\",\"\",VLOOKUP($B11,[1]登録用データのコピー!$B$5:$V$89,2,FALSE))","v":""},null,{"$f":"IF($B11=\"\",\"\",VLOOKUP($B11,[1]登録用データのコピー!$B$5:$V$89,2,FALSE))","v":""},null,{"$f":"IF(B11=\"\",\"\",VLOOKUP(B11,data!$Q$4:$S$88,3,FALSE))","v":""},null,{"$f":"IF($D11=\"\",\"\",VLOOKUP($B11,登録用データのコピー!$B$5:$V$89,7,FALSE))","v":""},null,{"$f":"IF($D11=\"\",\"\",VLOOKUP($D11,登録用データのコピー!$B$5:$V$89,2,FALSE))","v":""}]
[null,null,null,{"$f":"IF($B12=\"\",\"\",VLOOKUP($B12,登録用データのコピー!$B$5:$V$89,2,FALSE))","v":""},null,{"$f":"IF($B12=\"\",\"\",VLOOKUP($B12,登録用データのコピー!$B$5:$V$89,3,FALSE))","v":""},null,{"$f":"IF($B12=\"\",\"\",VLOOKUP($B12,[1]登録用データのコピー!$B$5:$V$89,2,FALSE))","v":""},null,{"$f":"IF($B12=\"\",\"\",VLOOKUP($B12,[1]登録用データのコピー!$B$5:$V$89,2,FALSE))","v":""},null,{"$f":"IF(B12=\"\",\"\",VLOOKUP(B12,data!$Q$4:$S$88,3,FALSE))","v":""},null,{"$f":"IF($D12=\"\",\"\",VLOOKUP($B12,登録用データのコピー!$B$5:$V$89,7,FALSE))","v":""},null,{"$f":"IF($D12=\"\",\"\",VLOOKUP($D12,登録用データのコピー!$B$5:$V$89,2,FALSE))","v":""}]
[null,null,null,{"$f":"IF($B13=\"\",\"\",VLOOKUP($B13,登録用データのコピー!$B$5:$V$89,2,FALSE))","v":""},null,{"$f":"IF($B13=\"\",\"\",VLOOKUP($B13,登録用データのコピー!$B$5:$V$89,3,FALSE))","v":""},null,{"$f":"IF($B13=\"\",\"\",VLOOKUP($B13,[1]登録用データのコピー!$B$5:$V$89,2,FALSE))","v":""},null,{"$f":"IF($B13=\"\",\"\",VLOOKUP($B13,[1]登録用データのコピー!$B$5:$V$89,2,FALSE))","v":""},null,{"$f":"IF(B13=\"\",\"\",VLOOKUP(B13,data!$Q$4:$S$88,3,FALSE))","v":""},null,{"$f":"IF($D13=\"\",\"\",VLOOKUP($B13,登録用データのコピー!$B$5:$V$89,7,FALSE))","v":""},null,{"$f":"IF($D13=\"\",\"\",VLOOKUP($D13,登録用データのコピー!$B$5:$V$89,2,FALSE))","v":""}]
[null,null,null,{"$f":"IF($B14=\"\",\"\",VLOOKUP($B14,登録用データのコピー!$B$5:$V$89,2,FALSE))","v":""},null,{"$f":"IF($B14=\"\",\"\",VLOOKUP($B14,登録用データのコピー!$B$5:$V$89,3,FALSE))","v":""},null,{"$f":"IF($B14=\"\",\"\",VLOOKUP($B14,[1]登録用データのコピー!$B$5:$V$89,2,FALSE))","v":""},null,{"$f":"IF($B14=\"\",\"\",VLOOKUP($B14,[1]登録用データのコピー!$B$5:$V$89,2,FALSE))","v":""},null,{"$f":"IF(B14=\"\",\"\",VLOOKUP(B14,data!$Q$4:$S$88,3,FALSE))","v":""},null,{"$f":"IF($D14=\"\",\"\",VLOOKUP($B14,登録用データのコピー!$B$5:$V$89,7,FALSE))","v":""},null,{"$f":"IF($D14=\"\",\"\",VLOOKUP($D14,登録用データのコピー!$B$5:$V$89,2,FALSE))","v":""}]
[null,null,null,{"$f":"IF($B15=\"\",\"\",VLOOKUP($B15,登録用データのコピー!$B$5:$V$89,2,FALSE))","v":""},null,{"$f":"IF($B15=\"\",\"\",VLOOKUP($B15,登録用データのコピー!$B$5:$V$89,3,FALSE))","v":""},null,{"$f":"IF($B15=\"\",\"\",VLOOKUP($B15,[1]登録用データのコピー!$B$5:$V$89,2,FALSE))","v":""},null,{"$f":"IF($B15=\"\",\"\",VLOOKUP($B15,[1]登録用データのコピー!$B$5:$V$89,2,FALSE))","v":""},null,{"$f":"IF(B15=\"\",\"\",VLOOKUP(B15,data!$Q$4:$S$88,3,FALSE))","v":""},null,{"$f":"IF($D15=\"\",\"\",VLOOKUP($B15,登録用データのコピー!$B$5:$V$89,7,FALSE))","v":""},null,{"$f":"IF($D15=\"\",\"\",VLOOKUP($D15,登録用データのコピー!$B$5:$V$89,2,FALSE))","v":""}]
[null,null,null,{"$f":"IF($B16=\"\",\"\",VLOOKUP($B16,登録用データのコピー!$B$5:$V$89,2,FALSE))","v":""},null,{"$f":"IF($B16=\"\",\"\",VLOOKUP($B16,登録用データのコピー!$B$5:$V$89,3,FALSE))","v":""},null,{"$f":"IF($B16=\"\",\"\",VLOOKUP($B16,[1]登録用データのコピー!$B$5:$V$89,2,FALSE))","v":""},null,{"$f":"IF($B16=\"\",\"\",VLOOKUP($B16,[1]登録用データのコピー!$B$5:$V$89,2,FALSE))","v":""},null,{"$f":"IF(B16=\"\",\"\",VLOOKUP(B16,data!$Q$4:$S$88,3,FALSE))","v":""},null,{"$f":"IF($D16=\"\",\"\",VLOOKUP($B16,登録用データのコピー!$B$5:$V$89,7,FALSE))","v":""},null,{"$f":"IF($D16=\"\",\"\",VLOOKUP($D16,登録用データのコピー!$B$5:$V$89,2,FALSE))","v":""}]
[null,null,null,null,null,null,null,null,null,null,null,null,null,null,null,null,null,{"$f":"COUNT(R7:S16)/2","v":0},"組"]
[null,null,{"$f":"TODAY()","v":"2022-05-27"},null,null,null,null,null,"上記の通り、参加料を添えて申し込みます。"]
[null,null,null,null,"学 校 名",null,null,{"$f":"申込基本!$H$7","v":{"$error":"#N/A"}}]
[]
[null,null,null,null,"顧 問 名",null,null,{"$f":"申込基本!$K$17","v":0},null,null,null,null,null,null,null,null,null,null,"印"]
[]
[null,"大阪卓球協会",null,null,null,null,null,null,null,"様",null,null,"顧問連絡先",null,null,{"$f":"申込基本!$P$17&\" ( \"&申込基本!$S$17&\" ) \"&申込基本!$V$17","v":" (  ) "}]
[]
[]
[null,"領収証",null,null,null,null,null,null,{"$f":"H19","v":{"$error":"#N/A"}},null,null,null,null,null,null,null,null,null,"様"]
[]
[null,{"$f":"R17+R50+R83+R116+R149","v":0},"組",null,{"$f":"U5*1200","v":0}]
[]
[null,null,null,null,null,"但","特別普及大会参加料として"]
[null,null,null,null,null,null,"上記正に領収いたしました"]
[null,null,null,null,null,null,null,null,"大阪卓球協会"]
[]
[null,{"$f":"申込基本!$C$5&\"　年度\"","v":"2022　年度"}]
[null,"第",1,"回","特別普及大会（ダブルス）"]
[null,"　　　　　　　　　申　　込　　書",null,null,null,null,null,null,null,null,null,null,null,null,null,null,null,"男子"]
[]
[null,"学校名",null,null,{"$f":"申込基本!$Q$7","v":{"$error":"#N/A"}},null,null,"監督名",null,null,{"$f":"申込基本!$C$17","v":0},null,null,null,null,"学校番号",null,{"$f":"申込基本!$C$7","v":0}]
[null,"整理番号",null,"会員ＩＤ",null,"名　　　　　　　　前",null,null,null,null,null,"学年",null,"生 年 月 日",null,null,null,"男女別\nダブルス","初級\n(男女混合)"]
[null,null,null,{"$f":"IF($B40=\"\",\"\",VLOOKUP($B40,登録用データのコピー!$B$5:$V$89,2,FALSE))","v":""},null,{"$f":"IF($B40=\"\",\"\",VLOOKUP($B40,登録用データのコピー!$B$5:$V$89,3,FALSE))","v":""},null,{"$f":"IF($B40=\"\",\"\",VLOOKUP($B40,[1]登録用データのコピー!$B$5:$V$89,2,FALSE))","v":""},null,{"$f":"IF($B40=\"\",\"\",VLOOKUP($B40,[1]登録用データのコピー!$B$5:$V$89,2,FALSE))","v":""},null,{"$f":"IF(B40=\"\",\"\",VLOOKUP(B40,data!$Q$4:$S$88,3,FALSE))","v":""},null,{"$f":"IF($D40=\"\",\"\",VLOOKUP($B40,登録用データのコピー!$B$5:$V$89,7,FALSE))","v":""},null,{"$f":"IF($D40=\"\",\"\",VLOOKUP($D40,登録用データのコピー!$B$5:$V$89,2,FALSE))","v":""}]
[null,null,null,{"$f":"IF($B41=\"\",\"\",VLOOKUP($B41,登録用データのコピー!$B$5:$V$89,2,FALSE))","v":""},null,{"$f":"IF($B41=\"\",\"\",VLOOKUP($B41,登録用データのコピー!$B$5:$V$89,3,FALSE))","v":""},null,{"$f":"IF($B41=\"\",\"\",VLOOKUP($B41,[1]登録用データのコピー!$B$5:$V$89,2,FALSE))","v":""},null,{"$f":"IF($B41=\"\",\"\",VLOOKUP($B41,[1]登録用データのコピー!$B$5:$V$89,2,FALSE))","v":""},null,{"$f":"IF(B41=\"\",\"\",VLOOKUP(B41,data!$Q$4:$S$88,3,FALSE))","v":""},null,{"$f":"IF($D41=\"\",\"\",VLOOKUP($B41,登録用データのコピー!$B$5:$V$89,7,FALSE))","v":""},null,{"$f":"IF($D41=\"\",\"\",VLOOKUP($D41,登録用データのコピー!$B$5:$V$89,2,FALSE))","v":""}]
[null,null,null,{"$f":"IF($B42=\"\",\"\",VLOOKUP($B42,登録用データのコピー!$B$5:$V$89,2,FALSE))","v":""},null,{"$f":"IF($B42=\"\",\"\",VLOOKUP($B42,登録用データのコピー!$B$5:$V$89,3,FALSE))","v":""},null,{"$f":"IF($B42=\"\",\"\",VLOOKUP($B42,[1]登録用データのコピー!$B$5:$V$89,2,FALSE))","v":""},null,{"$f":"IF($B42=\"\",\"\",VLOOKUP($B42,[1]登録用データのコピー!$B$5:$V$89,2,FALSE))","v":""},null,{"$f":"IF(B42=\"\",\"\",VLOOKUP(B42,data!$Q$4:$S$88,3,FALSE))","v":""},null,{"$f":"IF($D42=\"\",\"\",VLOOKUP($B42,登録用データのコピー!$B$5:$V$89,7,FALSE))","v":""},null,{"$f":"IF($D42=\"\",\"\",VLOOKUP($D42,登録用データのコピー!$B$5:$V$89,2,FALSE))","v":""}]
[null,null,null,{"$f":"IF($B43=\"\",\"\",VLOOKUP($B43,登録用データのコピー!$B$5:$V$89,2,FALSE))","v":""},null,{"$f":"IF($B43=\"\",\"\",VLOOKUP($B43,登録用データのコピー!$B$5:$V$89,3,FALSE))","v":""},null,{"$f":"IF($B43=\"\",\"\",VLOOKUP($B43,[1]登録用データのコピー!$B$5:$V$89,2,FALSE))","v":""},null,{"$f":"IF($B43=\"\",\"\",VLOOKUP($B43,[1]登録用データのコピー!$B$5:$V$89,2,FALSE))","v":""},null,{"$f":"IF(B43=\"\",\"\",VLOOKUP(B43,data!$Q$4:$S$88,3,FALSE))","v":""},null,{"$f":"IF($D43=\"\",\"\",VLOOKUP($B43,登録用データのコピー!$B$5:$V$89,7,FALSE))","v":""},null,{"$f":"IF($D43=\"\",\"\",VLOOKUP($D43,登録用データのコピー!$B$5:$V$89,2,FALSE))","v":""}]
[null,null,null,{"$f":"IF($B44=\"\",\"\",VLOOKUP($B44,登録用データのコピー!$B$5:$V$89,2,FALSE))","v":""},null,{"$f":"IF($B44=\"\",\"\",VLOOKUP($B44,登録用データのコピー!$B$5:$V$89,3,FALSE))","v":""},null,{"$f":"IF($B44=\"\",\"\",VLOOKUP($B44,[1]登録用データのコピー!$B$5:$V$89,2,FALSE))","v":""},null,{"$f":"IF($B44=\"\",\"\",VLOOKUP($B44,[1]登録用データのコピー!$B$5:$V$89,2,FALSE))","v":""},null,{"$f":"IF(B44=\"\",\"\",VLOOKUP(B44,data!$Q$4:$S$88,3,FALSE))","v":""},null,{"$f":"IF($D44=\"\",\"\",VLOOKUP($B44,登録用データのコピー!$B$5:$V$89,7,FALSE))","v":""},null,{"$f":"IF($D44=\"\",\"\",VLOOKUP($D44,登録用データのコピー!$B$5:$V$89,2,FALSE))","v":""}]
[null,null,null,{"$f":"IF($B45=\"\",\"\",VLOOKUP($B45,登録用データのコピー!$B$5:$V$89,2,FALSE))","v":""},null,{"$f":"IF($B45=\"\",\"\",VLOOKUP($B45,登録用データのコピー!$B$5:$V$89,3,FALSE))","v":""},null,{"$f":"IF($B45=\"\",\"\",VLOOKUP($B45,[1]登録用データのコピー!$B$5:$V$89,2,FALSE))","v":""},null,{"$f":"IF($B45=\"\",\"\",VLOOKUP($B45,[1]登録用データのコピー!$B$5:$V$89,2,FALSE))","v":""},null,{"$f":"IF(B45=\"\",\"\",VLOOKUP(B45,data!$Q$4:$S$88,3,FALSE))","v":""},null,{"$f":"IF($D45=\"\",\"\",VLOOKUP($B45,登録用データのコピー!$B$5:$V$89,7,FALSE))","v":""},null,{"$f":"IF($D45=\"\",\"\",VLOOKUP($D45,登録用データのコピー!$B$5:$V$89,2,FALSE))","v":""}]
[null,null,null,{"$f":"IF($B46=\"\",\"\",VLOOKUP($B46,登録用データのコピー!$B$5:$V$89,2,FALSE))","v":""},null,{"$f":"IF($B46=\"\",\"\",VLOOKUP($B46,登録用データのコピー!$B$5:$V$89,3,FALSE))","v":""},null,{"$f":"IF($B46=\"\",\"\",VLOOKUP($B46,[1]登録用データのコピー!$B$5:$V$89,2,FALSE))","v":""},null,{"$f":"IF($B46=\"\",\"\",VLOOKUP($B46,[1]登録用データのコピー!$B$5:$V$89,2,FALSE))","v":""},null,{"$f":"IF(B46=\"\",\"\",VLOOKUP(B46,data!$Q$4:$S$88,3,FALSE))","v":""},null,{"$f":"IF($D46=\"\",\"\",VLOOKUP($B46,登録用データのコピー!$B$5:$V$89,7,FALSE))","v":""},null,{"$f":"IF($D46=\"\",\"\",VLOOKUP($D46,登録用データのコピー!$B$5:$V$89,2,FALSE))","v":""}]
[null,null,null,{"$f":"IF($B47=\"\",\"\",VLOOKUP($B47,登録用データのコピー!$B$5:$V$89,2,FALSE))","v":""},null,{"$f":"IF($B47=\"\",\"\",VLOOKUP($B47,登録用データのコピー!$B$5:$V$89,3,FALSE))","v":""},null,{"$f":"IF($B47=\"\",\"\",VLOOKUP($B47,[1]登録用データのコピー!$B$5:$V$89,2,FALSE))","v":""},null,{"$f":"IF($B47=\"\",\"\",VLOOKUP($B47,[1]登録用データのコピー!$B$5:$V$89,2,FALSE))","v":""},null,{"$f":"IF(B47=\"\",\"\",VLOOKUP(B47,data!$Q$4:$S$88,3,FALSE))","v":""},null,{"$f":"IF($D47=\"\",\"\",VLOOKUP($B47,登録用データのコピー!$B$5:$V$89,7,FALSE))","v":""},null,{"$f":"IF($D47=\"\",\"\",VLOOKUP($D47,登録用データのコピー!$B$5:$V$89,2,FALSE))","v":""}]
[null,null,null,{"$f":"IF($B48=\"\",\"\",VLOOKUP($B48,登録用データのコピー!$B$5:$V$89,2,FALSE))","v":""},null,{"$f":"IF($B48=\"\",\"\",VLOOKUP($B48,登録用データのコピー!$B$5:$V$89,3,FALSE))","v":""},null,{"$f":"IF($B48=\"\",\"\",VLOOKUP($B48,[1]登録用データのコピー!$B$5:$V$89,2,FALSE))","v":""},null,{"$f":"IF($B48=\"\",\"\",VLOOKUP($B48,[1]登録用データのコピー!$B$5:$V$89,2,FALSE))","v":""},null,{"$f":"IF(B48=\"\",\"\",VLOOKUP(B48,data!$Q$4:$S$88,3,FALSE))","v":""},null,{"$f":"IF($D48=\"\",\"\",VLOOKUP($B48,登録用データのコピー!$B$5:$V$89,7,FALSE))","v":""},null,{"$f":"IF($D48=\"\",\"\",VLOOKUP($D48,登録用データのコピー!$B$5:$V$89,2,FALSE))","v":""}]
[null,null,null,{"$f":"IF($B49=\"\",\"\",VLOOKUP($B49,登録用データのコピー!$B$5:$V$89,2,FALSE))","v":""},null,{"$f":"IF($B49=\"\",\"\",VLOOKUP($B49,登録用データのコピー!$B$5:$V$89,3,FALSE))","v":""},null,{"$f":"IF($B49=\"\",\"\",VLOOKUP($B49,[1]登録用データのコピー!$B$5:$V$89,2,FALSE))","v":""},null,{"$f":"IF($B49=\"\",\"\",VLOOKUP($B49,[1]登録用データのコピー!$B$5:$V$89,2,FALSE))","v":""},null,{"$f":"IF(B49=\"\",\"\",VLOOKUP(B49,data!$Q$4:$S$88,3,FALSE))","v":""},null,{"$f":"IF($D49=\"\",\"\",VLOOKUP($B49,登録用データのコピー!$B$5:$V$89,7,FALSE))","v":""},null,{"$f":"IF($D49=\"\",\"\",VLOOKUP($D49,登録用データのコピー!$B$5:$V$89,2,FALSE))","v":""}]
[null,null,null,null,null,null,null,null,null,null,null,null,null,null,null,null,null,{"$f":"COUNT(R40:S49)/2","v":0},"組"]
[null,null,{"$f":"TODAY()","v":"2022-05-27"},null,null,null,null,null,"上記の通り、参加料を添えて申し込みます。"]
[null,null,null,null,"学 校 名",null,null,{"$f":"申込基本!$H$7","v":{"$error":"#N/A"}}]
[]
[null,null,null,null,"顧 問 名",null,null,{"$f":"申込基本!$K$17","v":0},null,null,null,null,null,null,null,null,null,null,"印"]
[]
[null,"大阪卓球協会",null,null,null,null,null,null,null,"様",null,null,"顧問連絡先",null,null,{"$f":"申込基本!$P$17&\" ( \"&申込基本!$S$17&\" ) \"&申込基本!$V$17","v":" (  ) "}]
[]
[]
[]
[]
[]
[]
[]
[]
[]
[]
[null,{"$f":"申込基本!$C$5&\"　年度\"","v":"2022　年度"}]
[null,"第",1,"回","特別普及大会（ダブルス）"]
[null,"　　　　　　　　　申　　込　　書",null,null,null,null,null,null,null,null,null,null,null,null,null,null,null,"男子"]
[]
[null,"学校名",null,null,{"$f":"申込基本!$Q$7","v":{"$error":"#N/A"}},null,null,"監督名",null,null,{"$f":"申込基本!$C$17","v":0},null,null,null,null,"学校番号",null,{"$f":"申込基本!$C$7","v":0}]
[null,"整理番号",null,"会員ＩＤ",null,"名　　　　　　　　前",null,null,null,null,null,"学年",null,"生 年 月 日",null,null,null,"男女別\nダブルス","初級\n(男女混合)"]
[null,null,null,{"$f":"IF($B73=\"\",\"\",VLOOKUP($B73,登録用データのコピー!$B$5:$V$89,2,FALSE))","v":""},null,{"$f":"IF($B73=\"\",\"\",VLOOKUP($B73,登録用データのコピー!$B$5:$V$89,3,FALSE))","v":""},null,{"$f":"IF($B73=\"\",\"\",VLOOKUP($B73,[1]登録用データのコピー!$B$5:$V$89,2,FALSE))","v":""},null,{"$f":"IF($B73=\"\",\"\",VLOOKUP($B73,[1]登録用データのコピー!$B$5:$V$89,2,FALSE))","v":""},null,{"$f":"IF(B73=\"\",\"\",VLOOKUP(B73,data!$Q$4:$S$88,3,FALSE))","v":""},null,{"$f":"IF($D73=\"\",\"\",VLOOKUP($B73,登録用データのコピー!$B$5:$V$89,7,FALSE))","v":""},null,{"$f":"IF($D73=\"\",\"\",VLOOKUP($D73,登録用データのコピー!$B$5:$V$89,2,FALSE))","v":""}]
[null,null,null,{"$f":"IF($B74=\"\",\"\",VLOOKUP($B74,登録用データのコピー!$B$5:$V$89,2,FALSE))","v":""},null,{"$f":"IF($B74=\"\",\"\",VLOOKUP($B74,登録用データのコピー!$B$5:$V$89,3,FALSE))","v":""},null,{"$f":"IF($B74=\"\",\"\",VLOOKUP($B74,[1]登録用データのコピー!$B$5:$V$89,2,FALSE))","v":""},null,{"$f":"IF($B74=\"\",\"\",VLOOKUP($B74,[1]登録用データのコピー!$B$5:$V$89,2,FALSE))","v":""},null,{"$f":"IF(B74=\"\",\"\",VLOOKUP(B74,data!$Q$4:$S$88,3,FALSE))","v":""},null,{"$f":"IF($D74=\"\",\"\",VLOOKUP($B74,登録用データのコピー!$B$5:$V$89,7,FALSE))","v":""},null,{"$f":"IF($D74=\"\",\"\",VLOOKUP($D74,登録用データのコピー!$B$5:$V$89,2,FALSE))","v":""}]
[null,null,null,{"$f":"IF($B75=\"\",\"\",VLOOKUP($B75,登録用データのコピー!$B$5:$V$89,2,FALSE))","v":""},null,{"$f":"IF($B75=\"\",\"\",VLOOKUP($B75,登録用データのコピー!$B$5:$V$89,3,FALSE))","v":""},null,{"$f":"IF($B75=\"\",\"\",VLOOKUP($B75,[1]登録用データのコピー!$B$5:$V$89,2,FALSE))","v":""},null,{"$f":"IF($B75=\"\",\"\",VLOOKUP($B75,[1]登録用データのコピー!$B$5:$V$89,2,FALSE))","v":""},null,{"$f":"IF(B75=\"\",\"\",VLOOKUP(B75,data!$Q$4:$S$88,3,FALSE))","v":""},null,{"$f":"IF($D75=\"\",\"\",VLOOKUP($B75,登録用データのコピー!$B$5:$V$89,7,FALSE))","v":""},null,{"$f":"IF($D75=\"\",\"\",VLOOKUP($D75,登録用データのコピー!$B$5:$V$89,2,FALSE))","v":""}]
[null,null,null,{"$f":"IF($B76=\"\",\"\",VLOOKUP($B76,登録用データのコピー!$B$5:$V$89,2,FALSE))","v":""},null,{"$f":"IF($B76=\"\",\"\",VLOOKUP($B76,登録用データのコピー!$B$5:$V$89,3,FALSE))","v":""},null,{"$f":"IF($B76=\"\",\"\",VLOOKUP($B76,[1]登録用データのコピー!$B$5:$V$89,2,FALSE))","v":""},null,{"$f":"IF($B76=\"\",\"\",VLOOKUP($B76,[1]登録用データのコピー!$B$5:$V$89,2,FALSE))","v":""},null,{"$f":"IF(B76=\"\",\"\",VLOOKUP(B76,data!$Q$4:$S$88,3,FALSE))","v":""},null,{"$f":"IF($D76=\"\",\"\",VLOOKUP($B76,登録用データのコピー!$B$5:$V$89,7,FALSE))","v":""},null,{"$f":"IF($D76=\"\",\"\",VLOOKUP($D76,登録用データのコピー!$B$5:$V$89,2,FALSE))","v":""}]
[null,null,null,{"$f":"IF($B77=\"\",\"\",VLOOKUP($B77,登録用データのコピー!$B$5:$V$89,2,FALSE))","v":""},null,{"$f":"IF($B77=\"\",\"\",VLOOKUP($B77,登録用データのコピー!$B$5:$V$89,3,FALSE))","v":""},null,{"$f":"IF($B77=\"\",\"\",VLOOKUP($B77,[1]登録用データのコピー!$B$5:$V$89,2,FALSE))","v":""},null,{"$f":"IF($B77=\"\",\"\",VLOOKUP($B77,[1]登録用データのコピー!$B$5:$V$89,2,FALSE))","v":""},null,{"$f":"IF(B77=\"\",\"\",VLOOKUP(B77,data!$Q$4:$S$88,3,FALSE))","v":""},null,{"$f":"IF($D77=\"\",\"\",VLOOKUP($B77,登録用データのコピー!$B$5:$V$89,7,FALSE))","v":""},null,{"$f":"IF($D77=\"\",\"\",VLOOKUP($D77,登録用データのコピー!$B$5:$V$89,2,FALSE))","v":""}]
[null,null,null,{"$f":"IF($B78=\"\",\"\",VLOOKUP($B78,登録用データのコピー!$B$5:$V$89,2,FALSE))","v":""},null,{"$f":"IF($B78=\"\",\"\",VLOOKUP($B78,登録用データのコピー!$B$5:$V$89,3,FALSE))","v":""},null,{"$f":"IF($B78=\"\",\"\",VLOOKUP($B78,[1]登録用データのコピー!$B$5:$V$89,2,FALSE))","v":""},null,{"$f":"IF($B78=\"\",\"\",VLOOKUP($B78,[1]登録用データのコピー!$B$5:$V$89,2,FALSE))","v":""},null,{"$f":"IF(B78=\"\",\"\",VLOOKUP(B78,data!$Q$4:$S$88,3,FALSE))","v":""},null,{"$f":"IF($D78=\"\",\"\",VLOOKUP($B78,登録用データのコピー!$B$5:$V$89,7,FALSE))","v":""},null,{"$f":"IF($D78=\"\",\"\",VLOOKUP($D78,登録用データのコピー!$B$5:$V$89,2,FALSE))","v":""}]
[null,null,null,{"$f":"IF($B79=\"\",\"\",VLOOKUP($B79,登録用データのコピー!$B$5:$V$89,2,FALSE))","v":""},null,{"$f":"IF($B79=\"\",\"\",VLOOKUP($B79,登録用データのコピー!$B$5:$V$89,3,FALSE))","v":""},null,{"$f":"IF($B79=\"\",\"\",VLOOKUP($B79,[1]登録用データのコピー!$B$5:$V$89,2,FALSE))","v":""},null,{"$f":"IF($B79=\"\",\"\",VLOOKUP($B79,[1]登録用データのコピー!$B$5:$V$89,2,FALSE))","v":""},null,{"$f":"IF(B79=\"\",\"\",VLOOKUP(B79,data!$Q$4:$S$88,3,FALSE))","v":""},null,{"$f":"IF($D79=\"\",\"\",VLOOKUP($B79,登録用データのコピー!$B$5:$V$89,7,FALSE))","v":""},null,{"$f":"IF($D79=\"\",\"\",VLOOKUP($D79,登録用データのコピー!$B$5:$V$89,2,FALSE))","v":""}]
[null,null,null,{"$f":"IF($B80=\"\",\"\",VLOOKUP($B80,登録用データのコピー!$B$5:$V$89,2,FALSE))","v":""},null,{"$f":"IF($B80=\"\",\"\",VLOOKUP($B80,登録用データのコピー!$B$5:$V$89,3,FALSE))","v":""},null,{"$f":"IF($B80=\"\",\"\",VLOOKUP($B80,[1]登録用データのコピー!$B$5:$V$89,2,FALSE))","v":""},null,{"$f":"IF($B80=\"\",\"\",VLOOKUP($B80,[1]登録用データのコピー!$B$5:$V$89,2,FALSE))","v":""},null,{"$f":"IF(B80=\"\",\"\",VLOOKUP(B80,data!$Q$4:$S$88,3,FALSE))","v":""},null,{"$f":"IF($D80=\"\",\"\",VLOOKUP($B80,登録用データのコピー!$B$5:$V$89,7,FALSE))","v":""},null,{"$f":"IF($D80=\"\",\"\",VLOOKUP($D80,登録用データのコピー!$B$5:$V$89,2,FALSE))","v":""}]
[null,null,null,{"$f":"IF($B81=\"\",\"\",VLOOKUP($B81,登録用データのコピー!$B$5:$V$89,2,FALSE))","v":""},null,{"$f":"IF($B81=\"\",\"\",VLOOKUP($B81,登録用データのコピー!$B$5:$V$89,3,FALSE))","v":""},null,{"$f":"IF($B81=\"\",\"\",VLOOKUP($B81,[1]登録用データのコピー!$B$5:$V$89,2,FALSE))","v":""},null,{"$f":"IF($B81=\"\",\"\",VLOOKUP($B81,[1]登録用データのコピー!$B$5:$V$89,2,FALSE))","v":""},null,{"$f":"IF(B81=\"\",\"\",VLOOKUP(B81,data!$Q$4:$S$88,3,FALSE))","v":""},null,{"$f":"IF($D81=\"\",\"\",VLOOKUP($B81,登録用データのコピー!$B$5:$V$89,7,FALSE))","v":""},null,{"$f":"IF($D81=\"\",\"\",VLOOKUP($D81,登録用データのコピー!$B$5:$V$89,2,FALSE))","v":""}]
[null,null,null,{"$f":"IF($B82=\"\",\"\",VLOOKUP($B82,登録用データのコピー!$B$5:$V$89,2,FALSE))","v":""},null,{"$f":"IF($B82=\"\",\"\",VLOOKUP($B82,登録用データのコピー!$B$5:$V$89,3,FALSE))","v":""},null,{"$f":"IF($B82=\"\",\"\",VLOOKUP($B82,[1]登録用データのコピー!$B$5:$V$89,2,FALSE))","v":""},null,{"$f":"IF($B82=\"\",\"\",VLOOKUP($B82,[1]登録用データのコピー!$B$5:$V$89,2,FALSE))","v":""},null,{"$f":"IF(B82=\"\",\"\",VLOOKUP(B82,data!$Q$4:$S$88,3,FALSE))","v":""},null,{"$f":"IF($D82=\"\",\"\",VLOOKUP($B82,登録用データのコピー!$B$5:$V$89,7,FALSE))","v":""},null,{"$f":"IF($D82=\"\",\"\",VLOOKUP($D82,登録用データのコピー!$B$5:$V$89,2,FALSE))","v":""}]
[null,null,null,null,null,null,null,null,null,null,null,null,null,null,null,null,null,{"$f":"COUNT(R73:S82)/2","v":0},"組"]
[null,null,{"$f":"TODAY()","v":"2022-05-27"},null,null,null,null,null,"上記の通り、参加料を添えて申し込みます。"]
[null,null,null,null,"学 校 名",null,null,{"$f":"申込基本!$H$7","v":{"$error":"#N/A"}}]
[]
[null,null,null,null,"顧 問 名",null,null,{"$f":"申込基本!$K$17","v":0},null,null,null,null,null,null,null,null,null,null,"印"]
[]
[null,"大阪卓球協会",null,null,null,null,null,null,null,"様",null,null,"顧問連絡先",null,null,{"$f":"申込基本!$P$17&\" ( \"&申込基本!$S$17&\" ) \"&申込基本!$V$17","v":" (  ) "}]
[]
[]
[]
[]
[]
[]
[]
[]
[]
[]
[null,{"$f":"申込基本!$C$5&\"　年度\"","v":"2022　年度"}]
[null,"第",1,"回","特別普及大会（ダブルス）"]
[null,"　　　　　　　　　申　　込　　書",null,null,null,null,null,null,null,null,null,null,null,null,null,null,null,"男子"]
[]
[null,"学校名",null,null,{"$f":"申込基本!$Q$7","v":{"$error":"#N/A"}},null,null,"監督名",null,null,{"$f":"申込基本!$C$17","v":0},null,null,null,null,"学校番号",null,{"$f":"申込基本!$C$7","v":0}]
[null,"整理番号",null,"会員ＩＤ",null,"名　　　　　　　　前",null,null,null,null,null,"学年",null,"生 年 月 日",null,null,null,"男女別\nダブルス","初級\n(男女混合)"]
[null,null,null,{"$f":"IF($B106=\"\",\"\",VLOOKUP($B106,登録用データのコピー!$B$5:$V$89,2,FALSE))","v":""},null,{"$f":"IF($B106=\"\",\"\",VLOOKUP($B106,登録用データのコピー!$B$5:$V$89,3,FALSE))","v":""},null,{"$f":"IF($B106=\"\",\"\",VLOOKUP($B106,[1]登録用データのコピー!$B$5:$V$89,2,FALSE))","v":""},null,{"$f":"IF($B106=\"\",\"\",VLOOKUP($B106,[1]登録用データのコピー!$B$5:$V$89,2,FALSE))","v":""},null,{"$f":"IF(B106=\"\",\"\",VLOOKUP(B106,data!$Q$4:$S$88,3,FALSE))","v":""},null,{"$f":"IF($D106=\"\",\"\",VLOOKUP($B106,登録用データのコピー!$B$5:$V$89,7,FALSE))","v":""},null,{"$f":"IF($D106=\"\",\"\",VLOOKUP($D106,登録用データのコピー!$B$5:$V$89,2,FALSE))","v":""}]
[null,null,null,{"$f":"IF($B107=\"\",\"\",VLOOKUP($B107,登録用データのコピー!$B$5:$V$89,2,FALSE))","v":""},null,{"$f":"IF($B107=\"\",\"\",VLOOKUP($B107,登録用データのコピー!$B$5:$V$89,3,FALSE))","v":""},null,{"$f":"IF($B107=\"\",\"\",VLOOKUP($B107,[1]登録用データのコピー!$B$5:$V$89,2,FALSE))","v":""},null,{"$f":"IF($B107=\"\",\"\",VLOOKUP($B107,[1]登録用データのコピー!$B$5:$V$89,2,FALSE))","v":""},null,{"$f":"IF(B107=\"\",\"\",VLOOKUP(B107,data!$Q$4:$S$88,3,FALSE))","v":""},null,{"$f":"IF($D107=\"\",\"\",VLOOKUP($B107,登録用データのコピー!$B$5:$V$89,7,FALSE))","v":""},null,{"$f":"IF($D107=\"\",\"\",VLOOKUP($D107,登録用データのコピー!$B$5:$V$89,2,FALSE))","v":""}]
[null,null,null,{"$f":"IF($B108=\"\",\"\",VLOOKUP($B108,登録用データのコピー!$B$5:$V$89,2,FALSE))","v":""},null,{"$f":"IF($B108=\"\",\"\",VLOOKUP($B108,登録用データのコピー!$B$5:$V$89,3,FALSE))","v":""},null,{"$f":"IF($B108=\"\",\"\",VLOOKUP($B108,[1]登録用データのコピー!$B$5:$V$89,2,FALSE))","v":""},null,{"$f":"IF($B108=\"\",\"\",VLOOKUP($B108,[1]登録用データのコピー!$B$5:$V$89,2,FALSE))","v":""},null,{"$f":"IF(B108=\"\",\"\",VLOOKUP(B108,data!$Q$4:$S$88,3,FALSE))","v":""},null,{"$f":"IF($D108=\"\",\"\",VLOOKUP($B108,登録用データのコピー!$B$5:$V$89,7,FALSE))","v":""},null,{"$f":"IF($D108=\"\",\"\",VLOOKUP($D108,登録用データのコピー!$B$5:$V$89,2,FALSE))","v":""}]
[null,null,null,{"$f":"IF($B109=\"\",\"\",VLOOKUP($B109,登録用データのコピー!$B$5:$V$89,2,FALSE))","v":""},null,{"$f":"IF($B109=\"\",\"\",VLOOKUP($B109,登録用データのコピー!$B$5:$V$89,3,FALSE))","v":""},null,{"$f":"IF($B109=\"\",\"\",VLOOKUP($B109,[1]登録用データのコピー!$B$5:$V$89,2,FALSE))","v":""},null,{"$f":"IF($B109=\"\",\"\",VLOOKUP($B109,[1]登録用データのコピー!$B$5:$V$89,2,FALSE))","v":""},null,{"$f":"IF(B109=\"\",\"\",VLOOKUP(B109,data!$Q$4:$S$88,3,FALSE))","v":""},null,{"$f":"IF($D109=\"\",\"\",VLOOKUP($B109,登録用データのコピー!$B$5:$V$89,7,FALSE))","v":""},null,{"$f":"IF($D109=\"\",\"\",VLOOKUP($D109,登録用データのコピー!$B$5:$V$89,2,FALSE))","v":""}]
[null,null,null,{"$f":"IF($B110=\"\",\"\",VLOOKUP($B110,登録用データのコピー!$B$5:$V$89,2,FALSE))","v":""},null,{"$f":"IF($B110=\"\",\"\",VLOOKUP($B110,登録用データのコピー!$B$5:$V$89,3,FALSE))","v":""},null,{"$f":"IF($B110=\"\",\"\",VLOOKUP($B110,[1]登録用データのコピー!$B$5:$V$89,2,FALSE))","v":""},null,{"$f":"IF($B110=\"\",\"\",VLOOKUP($B110,[1]登録用データのコピー!$B$5:$V$89,2,FALSE))","v":""},null,{"$f":"IF(B110=\"\",\"\",VLOOKUP(B110,data!$Q$4:$S$88,3,FALSE))","v":""},null,{"$f":"IF($D110=\"\",\"\",VLOOKUP($B110,登録用データのコピー!$B$5:$V$89,7,FALSE))","v":""},null,{"$f":"IF($D110=\"\",\"\",VLOOKUP($D110,登録用データのコピー!$B$5:$V$89,2,FALSE))","v":""}]
[null,null,null,{"$f":"IF($B111=\"\",\"\",VLOOKUP($B111,登録用データのコピー!$B$5:$V$89,2,FALSE))","v":""},null,{"$f":"IF($B111=\"\",\"\",VLOOKUP($B111,登録用データのコピー!$B$5:$V$89,3,FALSE))","v":""},null,{"$f":"IF($B111=\"\",\"\",VLOOKUP($B111,[1]登録用データのコピー!$B$5:$V$89,2,FALSE))","v":""},null,{"$f":"IF($B111=\"\",\"\",VLOOKUP($B111,[1]登録用データのコピー!$B$5:$V$89,2,FALSE))","v":""},null,{"$f":"IF(B111=\"\",\"\",VLOOKUP(B111,data!$Q$4:$S$88,3,FALSE))","v":""},null,{"$f":"IF($D111=\"\",\"\",VLOOKUP($B111,登録用データのコピー!$B$5:$V$89,7,FALSE))","v":""},null,{"$f":"IF($D111=\"\",\"\",VLOOKUP($D111,登録用データのコピー!$B$5:$V$89,2,FALSE))","v":""}]
[null,null,null,{"$f":"IF($B112=\"\",\"\",VLOOKUP($B112,登録用データのコピー!$B$5:$V$89,2,FALSE))","v":""},null,{"$f":"IF($B112=\"\",\"\",VLOOKUP($B112,登録用データのコピー!$B$5:$V$89,3,FALSE))","v":""},null,{"$f":"IF($B112=\"\",\"\",VLOOKUP($B112,[1]登録用データのコピー!$B$5:$V$89,2,FALSE))","v":""},null,{"$f":"IF($B112=\"\",\"\",VLOOKUP($B112,[1]登録用データのコピー!$B$5:$V$89,2,FALSE))","v":""},null,{"$f":"IF(B112=\"\",\"\",VLOOKUP(B112,data!$Q$4:$S$88,3,FALSE))","v":""},null,{"$f":"IF($D112=\"\",\"\",VLOOKUP($B112,登録用データのコピー!$B$5:$V$89,7,FALSE))","v":""},null,{"$f":"IF($D112=\"\",\"\",VLOOKUP($D112,登録用データのコピー!$B$5:$V$89,2,FALSE))","v":""}]
[null,null,null,{"$f":"IF($B113=\"\",\"\",VLOOKUP($B113,登録用データのコピー!$B$5:$V$89,2,FALSE))","v":""},null,{"$f":"IF($B113=\"\",\"\",VLOOKUP($B113,登録用データのコピー!$B$5:$V$89,3,FALSE))","v":""},null,{"$f":"IF($B113=\"\",\"\",VLOOKUP($B113,[1]登録用データのコピー!$B$5:$V$89,2,FALSE))","v":""},null,{"$f":"IF($B113=\"\",\"\",VLOOKUP($B113,[1]登録用データのコピー!$B$5:$V$89,2,FALSE))","v":""},null,{"$f":"IF(B113=\"\",\"\",VLOOKUP(B113,data!$Q$4:$S$88,3,FALSE))","v":""},null,{"$f":"IF($D113=\"\",\"\",VLOOKUP($B113,登録用データのコピー!$B$5:$V$89,7,FALSE))","v":""},null,{"$f":"IF($D113=\"\",\"\",VLOOKUP($D113,登録用データのコピー!$B$5:$V$89,2,FALSE))","v":""}]
[null,null,null,{"$f":"IF($B114=\"\",\"\",VLOOKUP($B114,登録用データのコピー!$B$5:$V$89,2,FALSE))","v":""},null,{"$f":"IF($B114=\"\",\"\",VLOOKUP($B114,登録用データのコピー!$B$5:$V$89,3,FALSE))","v":""},null,{"$f":"IF($B114=\"\",\"\",VLOOKUP($B114,[1]登録用データのコピー!$B$5:$V$89,2,FALSE))","v":""},null,{"$f":"IF($B114=\"\",\"\",VLOOKUP($B114,[1]登録用データのコピー!$B$5:$V$89,2,FALSE))","v":""},null,{"$f":"IF(B114=\"\",\"\",VLOOKUP(B114,data!$Q$4:$S$88,3,FALSE))","v":""},null,{"$f":"IF($D114=\"\",\"\",VLOOKUP($B114,登録用データのコピー!$B$5:$V$89,7,FALSE))","v":""},null,{"$f":"IF($D114=\"\",\"\",VLOOKUP($D114,登録用データのコピー!$B$5:$V$89,2,FALSE))","v":""}]
[null,null,null,{"$f":"IF($B115=\"\",\"\",VLOOKUP($B115,登録用データのコピー!$B$5:$V$89,2,FALSE))","v":""},null,{"$f":"IF($B115=\"\",\"\",VLOOKUP($B115,登録用データのコピー!$B$5:$V$89,3,FALSE))","v":""},null,{"$f":"IF($B115=\"\",\"\",VLOOKUP($B115,[1]登録用データのコピー!$B$5:$V$89,2,FALSE))","v":""},null,{"$f":"IF($B115=\"\",\"\",VLOOKUP($B115,[1]登録用データのコピー!$B$5:$V$89,2,FALSE))","v":""},null,{"$f":"IF(B115=\"\",\"\",VLOOKUP(B115,data!$Q$4:$S$88,3,FALSE))","v":""},null,{"$f":"IF($D115=\"\",\"\",VLOOKUP($B115,登録用データのコピー!$B$5:$V$89,7,FALSE))","v":""},null,{"$f":"IF($D115=\"\",\"\",VLOOKUP($D115,登録用データのコピー!$B$5:$V$89,2,FALSE))","v":""}]
[null,null,null,null,null,null,null,null,null,null,null,null,null,null,null,null,null,{"$f":"COUNT(R106:S115)/2","v":0},"組"]
[null,null,{"$f":"TODAY()","v":"2022-05-27"},null,null,null,null,null,"上記の通り、参加料を添えて申し込みます。"]
[null,null,null,null,"学 校 名",null,null,{"$f":"申込基本!$H$7","v":{"$error":"#N/A"}}]
[]
[null,null,null,null,"顧 問 名",null,null,{"$f":"申込基本!$K$17","v":0},null,null,null,null,null,null,null,null,null,null,"印"]
[]
[null,"大阪卓球協会",null,null,null,null,null,null,null,"様",null,null,"顧問連絡先",null,null,{"$f":"申込基本!$P$17&\" ( \"&申込基本!$S$17&\" ) \"&申込基本!$V$17","v":" (  ) "}]
[]
[]
[]
[]
[]
[]
[]
[]
[]
[]
[null,{"$f":"申込基本!$C$5&\"　年度\"","v":"2022　年度"}]
[null,"第",1,"回","特別普及大会（ダブルス）"]
[null,"　　　　　　　　　申　　込　　書",null,null,null,null,null,null,null,null,null,null,null,null,null,null,null,"男子"]
[]
[null,"学校名",null,null,{"$f":"申込基本!$Q$7","v":{"$error":"#N/A"}},null,null,"監督名",null,null,{"$f":"申込基本!$C$17","v":0},null,null,null,null,"学校番号",null,{"$f":"申込基本!$C$7","v":0}]
[null,"整理番号",null,"会員ＩＤ",null,"名　　　　　　　　前",null,null,null,null,null,"学年",null,"生 年 月 日",null,null,null,"男女別\nダブルス","初級\n(男女混合)"]
[null,null,null,{"$f":"IF($B139=\"\",\"\",VLOOKUP($B139,登録用データのコピー!$B$5:$V$89,2,FALSE))","v":""},null,{"$f":"IF($B139=\"\",\"\",VLOOKUP($B139,登録用データのコピー!$B$5:$V$89,3,FALSE))","v":""},null,{"$f":"IF($B139=\"\",\"\",VLOOKUP($B139,[1]登録用データのコピー!$B$5:$V$89,2,FALSE))","v":""},null,{"$f":"IF($B139=\"\",\"\",VLOOKUP($B139,[1]登録用データのコピー!$B$5:$V$89,2,FALSE))","v":""},null,{"$f":"IF(B139=\"\",\"\",VLOOKUP(B139,data!$Q$4:$S$88,3,FALSE))","v":""},null,{"$f":"IF($D139=\"\",\"\",VLOOKUP($B139,登録用データのコピー!$B$5:$V$89,7,FALSE))","v":""},null,{"$f":"IF($D139=\"\",\"\",VLOOKUP($D139,登録用データのコピー!$B$5:$V$89,2,FALSE))","v":""}]
[null,null,null,{"$f":"IF($B140=\"\",\"\",VLOOKUP($B140,登録用データのコピー!$B$5:$V$89,2,FALSE))","v":""},null,{"$f":"IF($B140=\"\",\"\",VLOOKUP($B140,登録用データのコピー!$B$5:$V$89,3,FALSE))","v":""},null,{"$f":"IF($B140=\"\",\"\",VLOOKUP($B140,[1]登録用データのコピー!$B$5:$V$89,2,FALSE))","v":""},null,{"$f":"IF($B140=\"\",\"\",VLOOKUP($B140,[1]登録用データのコピー!$B$5:$V$89,2,FALSE))","v":""},null,{"$f":"IF(B140=\"\",\"\",VLOOKUP(B140,data!$Q$4:$S$88,3,FALSE))","v":""},null,{"$f":"IF($D140=\"\",\"\",VLOOKUP($B140,登録用データのコピー!$B$5:$V$89,7,FALSE))","v":""},null,{"$f":"IF($D140=\"\",\"\",VLOOKUP($D140,登録用データのコピー!$B$5:$V$89,2,FALSE))","v":""}]
[null,null,null,{"$f":"IF($B141=\"\",\"\",VLOOKUP($B141,登録用データのコピー!$B$5:$V$89,2,FALSE))","v":""},null,{"$f":"IF($B141=\"\",\"\",VLOOKUP($B141,登録用データのコピー!$B$5:$V$89,3,FALSE))","v":""},null,{"$f":"IF($B141=\"\",\"\",VLOOKUP($B141,[1]登録用データのコピー!$B$5:$V$89,2,FALSE))","v":""},null,{"$f":"IF($B141=\"\",\"\",VLOOKUP($B141,[1]登録用データのコピー!$B$5:$V$89,2,FALSE))","v":""},null,{"$f":"IF(B141=\"\",\"\",VLOOKUP(B141,data!$Q$4:$S$88,3,FALSE))","v":""},null,{"$f":"IF($D141=\"\",\"\",VLOOKUP($B141,登録用データのコピー!$B$5:$V$89,7,FALSE))","v":""},null,{"$f":"IF($D141=\"\",\"\",VLOOKUP($D141,登録用データのコピー!$B$5:$V$89,2,FALSE))","v":""}]
[null,null,null,{"$f":"IF($B142=\"\",\"\",VLOOKUP($B142,登録用データのコピー!$B$5:$V$89,2,FALSE))","v":""},null,{"$f":"IF($B142=\"\",\"\",VLOOKUP($B142,登録用データのコピー!$B$5:$V$89,3,FALSE))","v":""},null,{"$f":"IF($B142=\"\",\"\",VLOOKUP($B142,[1]登録用データのコピー!$B$5:$V$89,2,FALSE))","v":""},null,{"$f":"IF($B142=\"\",\"\",VLOOKUP($B142,[1]登録用データのコピー!$B$5:$V$89,2,FALSE))","v":""},null,{"$f":"IF(B142=\"\",\"\",VLOOKUP(B142,data!$Q$4:$S$88,3,FALSE))","v":""},null,{"$f":"IF($D142=\"\",\"\",VLOOKUP($B142,登録用データのコピー!$B$5:$V$89,7,FALSE))","v":""},null,{"$f":"IF($D142=\"\",\"\",VLOOKUP($D142,登録用データのコピー!$B$5:$V$89,2,FALSE))","v":""}]
[null,null,null,{"$f":"IF($B143=\"\",\"\",VLOOKUP($B143,登録用データのコピー!$B$5:$V$89,2,FALSE))","v":""},null,{"$f":"IF($B143=\"\",\"\",VLOOKUP($B143,登録用データのコピー!$B$5:$V$89,3,FALSE))","v":""},null,{"$f":"IF($B143=\"\",\"\",VLOOKUP($B143,[1]登録用データのコピー!$B$5:$V$89,2,FALSE))","v":""},null,{"$f":"IF($B143=\"\",\"\",VLOOKUP($B143,[1]登録用データのコピー!$B$5:$V$89,2,FALSE))","v":""},null,{"$f":"IF(B143=\"\",\"\",VLOOKUP(B143,data!$Q$4:$S$88,3,FALSE))","v":""},null,{"$f":"IF($D143=\"\",\"\",VLOOKUP($B143,登録用データのコピー!$B$5:$V$89,7,FALSE))","v":""},null,{"$f":"IF($D143=\"\",\"\",VLOOKUP($D143,登録用データのコピー!$B$5:$V$89,2,FALSE))","v":""}]
[null,null,null,{"$f":"IF($B144=\"\",\"\",VLOOKUP($B144,登録用データのコピー!$B$5:$V$89,2,FALSE))","v":""},null,{"$f":"IF($B144=\"\",\"\",VLOOKUP($B144,登録用データのコピー!$B$5:$V$89,3,FALSE))","v":""},null,{"$f":"IF($B144=\"\",\"\",VLOOKUP($B144,[1]登録用データのコピー!$B$5:$V$89,2,FALSE))","v":""},null,{"$f":"IF($B144=\"\",\"\",VLOOKUP($B144,[1]登録用データのコピー!$B$5:$V$89,2,FALSE))","v":""},null,{"$f":"IF(B144=\"\",\"\",VLOOKUP(B144,data!$Q$4:$S$88,3,FALSE))","v":""},null,{"$f":"IF($D144=\"\",\"\",VLOOKUP($B144,登録用データのコピー!$B$5:$V$89,7,FALSE))","v":""},null,{"$f":"IF($D144=\"\",\"\",VLOOKUP($D144,登録用データのコピー!$B$5:$V$89,2,FALSE))","v":""}]
[null,null,null,{"$f":"IF($B145=\"\",\"\",VLOOKUP($B145,登録用データのコピー!$B$5:$V$89,2,FALSE))","v":""},null,{"$f":"IF($B145=\"\",\"\",VLOOKUP($B145,登録用データのコピー!$B$5:$V$89,3,FALSE))","v":""},null,{"$f":"IF($B145=\"\",\"\",VLOOKUP($B145,[1]登録用データのコピー!$B$5:$V$89,2,FALSE))","v":""},null,{"$f":"IF($B145=\"\",\"\",VLOOKUP($B145,[1]登録用データのコピー!$B$5:$V$89,2,FALSE))","v":""},null,{"$f":"IF(B145=\"\",\"\",VLOOKUP(B145,data!$Q$4:$S$88,3,FALSE))","v":""},null,{"$f":"IF($D145=\"\",\"\",VLOOKUP($B145,登録用データのコピー!$B$5:$V$89,7,FALSE))","v":""},null,{"$f":"IF($D145=\"\",\"\",VLOOKUP($D145,登録用データのコピー!$B$5:$V$89,2,FALSE))","v":""}]
[null,null,null,{"$f":"IF($B146=\"\",\"\",VLOOKUP($B146,登録用データのコピー!$B$5:$V$89,2,FALSE))","v":""},null,{"$f":"IF($B146=\"\",\"\",VLOOKUP($B146,登録用データのコピー!$B$5:$V$89,3,FALSE))","v":""},null,{"$f":"IF($B146=\"\",\"\",VLOOKUP($B146,[1]登録用データのコピー!$B$5:$V$89,2,FALSE))","v":""},null,{"$f":"IF($B146=\"\",\"\",VLOOKUP($B146,[1]登録用データのコピー!$B$5:$V$89,2,FALSE))","v":""},null,{"$f":"IF(B146=\"\",\"\",VLOOKUP(B146,data!$Q$4:$S$88,3,FALSE))","v":""},null,{"$f":"IF($D146=\"\",\"\",VLOOKUP($B146,登録用データのコピー!$B$5:$V$89,7,FALSE))","v":""},null,{"$f":"IF($D146=\"\",\"\",VLOOKUP($D146,登録用データのコピー!$B$5:$V$89,2,FALSE))","v":""}]
[null,null,null,{"$f":"IF($B147=\"\",\"\",VLOOKUP($B147,登録用データのコピー!$B$5:$V$89,2,FALSE))","v":""},null,{"$f":"IF($B147=\"\",\"\",VLOOKUP($B147,登録用データのコピー!$B$5:$V$89,3,FALSE))","v":""},null,{"$f":"IF($B147=\"\",\"\",VLOOKUP($B147,[1]登録用データのコピー!$B$5:$V$89,2,FALSE))","v":""},null,{"$f":"IF($B147=\"\",\"\",VLOOKUP($B147,[1]登録用データのコピー!$B$5:$V$89,2,FALSE))","v":""},null,{"$f":"IF(B147=\"\",\"\",VLOOKUP(B147,data!$Q$4:$S$88,3,FALSE))","v":""},null,{"$f":"IF($D147=\"\",\"\",VLOOKUP($B147,登録用データのコピー!$B$5:$V$89,7,FALSE))","v":""},null,{"$f":"IF($D147=\"\",\"\",VLOOKUP($D147,登録用データのコピー!$B$5:$V$89,2,FALSE))","v":""}]
[null,null,null,{"$f":"IF($B148=\"\",\"\",VLOOKUP($B148,登録用データのコピー!$B$5:$V$89,2,FALSE))","v":""},null,{"$f":"IF($B148=\"\",\"\",VLOOKUP($B148,登録用データのコピー!$B$5:$V$89,3,FALSE))","v":""},null,{"$f":"IF($B148=\"\",\"\",VLOOKUP($B148,[1]登録用データのコピー!$B$5:$V$89,2,FALSE))","v":""},null,{"$f":"IF($B148=\"\",\"\",VLOOKUP($B148,[1]登録用データのコピー!$B$5:$V$89,2,FALSE))","v":""},null,{"$f":"IF(B148=\"\",\"\",VLOOKUP(B148,data!$Q$4:$S$88,3,FALSE))","v":""},null,{"$f":"IF($D148=\"\",\"\",VLOOKUP($B148,登録用データのコピー!$B$5:$V$89,7,FALSE))","v":""},null,{"$f":"IF($D148=\"\",\"\",VLOOKUP($D148,登録用データのコピー!$B$5:$V$89,2,FALSE))","v":""}]
[null,null,null,null,null,null,null,null,null,null,null,null,null,null,null,null,null,{"$f":"COUNT(R139:S148)/2","v":0},"組"]
[null,null,{"$f":"TODAY()","v":"2022-05-27"},null,null,null,null,null,"上記の通り、参加料を添えて申し込みます。"]
[null,null,null,null,"学 校 名",null,null,{"$f":"申込基本!$H$7","v":{"$error":"#N/A"}}]
[]
[null,null,null,null,"顧 問 名",null,null,{"$f":"申込基本!$K$17","v":0},null,null,null,null,null,null,null,null,null,null,"印"]
[]
[null,"大阪卓球協会",null,null,null,null,null,null,null,"様",null,null,"顧問連絡先",null,null,{"$f":"申込基本!$P$17&\" ( \"&申込基本!$S$17&\" ) \"&申込基本!$V$17","v":" (  ) "}]

{"sheet":"送信用（ダブルス）","index":9,"n_rows":51,"n_cols":29,"rows_kept":51,"cut":false,"hidden":false,"merged":[]}
["学校番号","学校名","氏名","ダブルス","初級",null,null,null,null,null,null,null,null,null,null,null,null,null,null,null,null,null,null,null,"学校番号","学校名","氏名","Ⅰ部ランク","Ⅱ部ランク"]
[{"$f":"申込基本!$C$7","v":0},{"$f":"申込基本!$Q$7","v":{"$error":"#N/A"}},{"$f":"'入力用（ダブルス）'!F7&'入力用（ダブルス）'!L7","v":""},{"$f":"'入力用（ダブルス）'!R7","v":0},{"$f":"'入力用（ダブルス）'!S7","v":0},null,null,null,null,null,null,null,null,null,null,null,null,null,null,null,null,null,null,null,{"$f":"[2]申込基本!$C$7","v":0},{"$f":"[2]申込基本!$Q$7","v":{"$error":"#N/A"}},{"$f":"'入力用（ダブルス）'!$F7","v":""},{"$f":"'入力用（ダブルス）'!$R7","v":0},{"$f":"'入力用（ダブルス）'!#REF!","v":{"$error":"#REF!"}}]
[{"$f":"申込基本!$C$7","v":0},{"$f":"申込基本!$Q$7","v":{"$error":"#N/A"}},{"$f":"'入力用（ダブルス）'!$F8&'入力用（ダブルス）'!$L8","v":""},{"$f":"'入力用（ダブルス）'!R8","v":0},{"$f":"'入力用（ダブルス）'!S8","v":0},null,null,null,null,null,null,null,null,null,null,null,null,null,null,null,null,null,null,null,{"$f":"[2]申込基本!$C$7","v":0},{"$f":"[2]申込基本!$Q$7","v":{"$error":"#N/A"}},{"$f":"'入力用（ダブルス）'!$F8","v":""},{"$f":"'入力用（ダブルス）'!$R8","v":0},{"$f":"'入力用（ダブルス）'!#REF!","v":{"$error":"#REF!"}}]
[{"$f":"申込基本!$C$7","v":0},{"$f":"申込基本!$Q$7","v":{"$error":"#N/A"}},{"$f":"'入力用（ダブルス）'!$F9&'入力用（ダブルス）'!$L9","v":""},{"$f":"'入力用（ダブルス）'!R9","v":0},{"$f":"'入力用（ダブルス）'!S9","v":0},null,null,null,null,null,null,null,null,null,null,null,null,null,null,null,null,null,null,null,{"$f":"[2]申込基本!$C$7","v":0},{"$f":"[2]申込基本!$Q$7","v":{"$error":"#N/A"}},{"$f":"'入力用（ダブルス）'!$F9","v":""},{"$f":"'入力用（ダブルス）'!$R9","v":0},{"$f":"'入力用（ダブルス）'!#REF!","v":{"$error":"#REF!"}}]
[{"$f":"申込基本!$C$7","v":0},{"$f":"申込基本!$Q$7","v":{"$error":"#N/A"}},{"$f":"'入力用（ダブルス）'!$F10&'入力用（ダブルス）'!$L10","v":""},{"$f":"'入力用（ダブルス）'!R10","v":0},{"$f":"'入力用（ダブルス）'!S10","v":0},null,null,null,null,null,null,null,null,null,null,null,null,null,null,null,null,null,null,null,{"$f":"[2]申込基本!$C$7","v":0},{"$f":"[2]申込基本!$Q$7","v":{"$error":"#N/A"}},{"$f":"'入力用（ダブルス）'!$F10","v":""},{"$f":"'入力用（ダブルス）'!$R10","v":0},{"$f":"'入力用（ダブルス）'!#REF!","v":{"$error":"#REF!"}}]
[{"$f":"申込基本!$C$7","v":0},{"$f":"申込基本!$Q$7","v":{"$error":"#N/A"}},{"$f":"'入力用（ダブルス）'!$F11&'入力用（ダブルス）'!$L11","v":""},{"$f":"'入力用（ダブルス）'!R11","v":0},{"$f":"'入力用（ダブルス）'!S11","v":0},null,null,null,null,null,null,null,null,null,null,null,null,null,null,null,null,null,null,null,{"$f":"[2]申込基本!$C$7","v":0},{"$f":"[2]申込基本!$Q$7","v":{"$error":"#N/A"}},{"$f":"'入力用（ダブルス）'!$F11","v":""},{"$f":"'入力用（ダブルス）'!$R11","v":0},{"$f":"'入力用（ダブルス）'!#REF!","v":{"$error":"#REF!"}}]
[{"$f":"申込基本!$C$7","v":0},{"$f":"申込基本!$Q$7","v":{"$error":"#N/A"}},{"$f":"'入力用（ダブルス）'!$F12&'入力用（ダブルス）'!$L12","v":""},{"$f":"'入力用（ダブルス）'!R12","v":0},{"$f":"'入力用（ダブルス）'!S12","v":0},null,null,null,null,null,null,null,null,null,null,null,null,null,null,null,null,null,null,null,{"$f":"[2]申込基本!$C$7","v":0},{"$f":"[2]申込基本!$Q$7","v":{"$error":"#N/A"}},{"$f":"'入力用（ダブルス）'!$F12","v":""},{"$f":"'入力用（ダブルス）'!$R12","v":0},{"$f":"'入力用（ダブルス）'!#REF!","v":{"$error":"#REF!"}}]
[{"$f":"申込基本!$C$7","v":0},{"$f":"申込基本!$Q$7","v":{"$error":"#N/A"}},{"$f":"'入力用（ダブルス）'!$F13&'入力用（ダブルス）'!$L13","v":""},{"$f":"'入力用（ダブルス）'!R13","v":0},{"$f":"'入力用（ダブルス）'!S13","v":0},null,null,null,null,null,null,null,null,null,null,null,null,null,null,null,null,null,null,null,{"$f":"[2]申込基本!$C$7","v":0},{"$f":"[2]申込基本!$Q$7","v":{"$error":"#N/A"}},{"$f":"'入力用（ダブルス）'!$F13","v":""},{"$f":"'入力用（ダブルス）'!$R13","v":0},{"$f":"'入力用（ダブルス）'!#REF!","v":{"$error":"#REF!"}}]
[{"$f":"申込基本!$C$7","v":0},{"$f":"申込基本!$Q$7","v":{"$error":"#N/A"}},{"$f":"'入力用（ダブルス）'!$F14&'入力用（ダブルス）'!$L14","v":""},{"$f":"'入力用（ダブルス）'!R14","v":0},{"$f":"'入力用（ダブルス）'!S14","v":0},null,null,null,null,null,null,null,null,null,null,null,null,null,null,null,null,null,null,null,{"$f":"[2]申込基本!$C$7","v":0},{"$f":"[2]申込基本!$Q$7","v":{"$error":"#N/A"}},{"$f":"'入力用（ダブルス）'!$F14","v":""},{"$f":"'入力用（ダブルス）'!$R14","v":0},{"$f":"'入力用（ダブルス）'!#REF!","v":{"$error":"#REF!"}}]
[{"$f":"申込基本!$C$7","v":0},{"$f":"申込基本!$Q$7","v":{"$error":"#N/A"}},{"$f":"'入力用（ダブルス）'!$F15&'入力用（ダブルス）'!$L15","v":""},{"$f":"'入力用（ダブルス）'!R15","v":0},{"$f":"'入力用（ダブルス）'!S15","v":0},null,null,null,null,null,null,null,null,null,null,null,null,null,null,null,null,null,null,null,{"$f":"[2]申込基本!$C$7","v":0},{"$f":"[2]申込基本!$Q$7","v":{"$error":"#N/A"}},{"$f":"'入力用（ダブルス）'!$F15","v":""},{"$f":"'入力用（ダブルス）'!$R15","v":0},{"$f":"'入力用（ダブルス）'!#REF!","v":{"$error":"#REF!"}}]
[{"$f":"申込基本!$C$7","v":0},{"$f":"申込基本!$Q$7","v":{"$error":"#N/A"}},{"$f":"'入力用（ダブルス）'!$F16&'入力用（ダブルス）'!$L16","v":""},{"$f":"'入力用（ダブルス）'!R16","v":0},{"$f":"'入力用（ダブルス）'!S16","v":0},null,null,null,null,null,null,null,null,null,null,null,null,null,null,null,null,null,null,null,{"$f":"[2]申込基本!$C$7","v":0},{"$f":"[2]申込基本!$Q$7","v":{"$error":"#N/A"}},{"$f":"'入力用（ダブルス）'!$F16","v":""},{"$f":"'入力用（ダブルス）'!$R16","v":0},{"$f":"'入力用（ダブルス）'!#REF!","v":{"$error":"#REF!"}}]
[{"$f":"申込基本!$C$7","v":0},{"$f":"申込基本!$Q$7","v":{"$error":"#N/A"}},{"$f":"'入力用（ダブルス）'!$F40&'入力用（ダブルス）'!$L40","v":""},{"$f":"'入力用（ダブルス）'!R40","v":0},{"$f":"'入力用（ダブルス）'!S40","v":0},null,null,null,null,null,null,null,null,null,null,null,null,null,null,null,null,null,null,null,{"$f":"[2]申込基本!$C$7","v":0},{"$f":"[2]申込基本!$Q$7","v":{"$error":"#N/A"}},{"$f":"#REF!","v":{"$error":"#REF!"}},{"$f":"#REF!","v":{"$error":"#REF!"}},{"$f":"#REF!","v":{"$error":"#REF!"}}]
[{"$f":"申込基本!$C$7","v":0},{"$f":"申込基本!$Q$7","v":{"$error":"#N/A"}},{"$f":"'入力用（ダブルス）'!$F41&'入力用（ダブルス）'!$L41","v":""},{"$f":"'入力用（ダブルス）'!R41","v":0},{"$f":"'入力用（ダブルス）'!S41","v":0},null,null,null,null,null,null,null,null,null,null,null,null,null,null,null,null,null,null,null,{"$f":"[2]申込基本!$C$7","v":0},{"$f":"[2]申込基本!$Q$7","v":{"$error":"#N/A"}},{"$f":"'入力用（ダブルス）'!$F8","v":""},{"$f":"#REF!","v":{"$error":"#REF!"}},{"$f":"#REF!","v":{"$error":"#REF!"}}]
[{"$f":"申込基本!$C$7","v":0},{"$f":"申込基本!$Q$7","v":{"$error":"#N/A"}},{"$f":"'入力用（ダブルス）'!$F42&'入力用（ダブルス）'!$L42","v":""},{"$f":"'入力用（ダブルス）'!R42","v":0},{"$f":"'入力用（ダブルス）'!S42","v":0},null,null,null,null,null,null,null,null,null,null,null,null,null,null,null,null,null,null,null,{"$f":"[2]申込基本!$C$7","v":0},{"$f":"[2]申込基本!$Q$7","v":{"$error":"#N/A"}},{"$f":"#REF!","v":{"$error":"#REF!"}},{"$f":"#REF!","v":{"$error":"#REF!"}},{"$f":"#REF!","v":{"$error":"#REF!"}}]
[{"$f":"申込基本!$C$7","v":0},{"$f":"申込基本!$Q$7","v":{"$error":"#N/A"}},{"$f":"'入力用（ダブルス）'!$F43&'入力用（ダブルス）'!$L43","v":""},{"$f":"'入力用（ダブルス）'!R43","v":0},{"$f":"'入力用（ダブルス）'!S43","v":0},null,null,null,null,null,null,null,null,null,null,null,null,null,null,null,null,null,null,null,{"$f":"[2]申込基本!$C$7","v":0},{"$f":"[2]申込基本!$Q$7","v":{"$error":"#N/A"}},{"$f":"#REF!","v":{"$error":"#REF!"}},{"$f":"#REF!","v":{"$error":"#REF!"}},{"$f":"#REF!","v":{"$error":"#REF!"}}]
[{"$f":"申込基本!$C$7","v":0},{"$f":"申込基本!$Q$7","v":{"$error":"#N/A"}},{"$f":"'入力用（ダブルス）'!$F44&'入力用（ダブルス）'!$L44","v":""},{"$f":"'入力用（ダブルス）'!R44","v":0},{"$f":"'入力用（ダブルス）'!S44","v":0},null,null,null,null,null,null,null,null,null,null,null,null,null,null,null,null,null,null,null,{"$f":"[2]申込基本!$C$7","v":0},{"$f":"[2]申込基本!$Q$7","v":{"$error":"#N/A"}},{"$f":"#REF!","v":{"$error":"#REF!"}},{"$f":"#REF!","v":{"$error":"#REF!"}},{"$f":"#REF!","v":{"$error":"#REF!"}}]
[{"$f":"申込基本!$C$7","v":0},{"$f":"申込基本!$Q$7","v":{"$error":"#N/A"}},{"$f":"'入力用（ダブルス）'!$F45&'入力用（ダブルス）'!$L45","v":""},{"$f":"'入力用（ダブルス）'!R45","v":0},{"$f":"'入力用（ダブルス）'!S45","v":0},null,null,null,null,null,null,null,null,null,null,null,null,null,null,null,null,null,null,null,{"$f":"[2]申込基本!$C$7","v":0},{"$f":"[2]申込基本!$Q$7","v":{"$error":"#N/A"}},{"$f":"#REF!","v":{"$error":"#REF!"}},{"$f":"#REF!","v":{"$error":"#REF!"}},{"$f":"#REF!","v":{"$error":"#REF!"}}]
[{"$f":"申込基本!$C$7","v":0},{"$f":"申込基本!$Q$7","v":{"$error":"#N/A"}},{"$f":"'入力用（ダブルス）'!$F46&'入力用（ダブルス）'!$L46","v":""},{"$f":"'入力用（ダブルス）'!R46","v":0},{"$f":"'入力用（ダブルス）'!S46","v":0},null,null,null,null,null,null,null,null,null,null,null,null,null,null,null,null,null,null,null,{"$f":"[2]申込基本!$C$7","v":0},{"$f":"[2]申込基本!$Q$7","v":{"$error":"#N/A"}},{"$f":"#REF!","v":{"$error":"#REF!"}},{"$f":"#REF!","v":{"$error":"#REF!"}},{"$f":"#REF!","v":{"$error":"#REF!"}}]
[{"$f":"申込基本!$C$7","v":0},{"$f":"申込基本!$Q$7","v":{"$error":"#N/A"}},{"$f":"'入力用（ダブルス）'!$F47&'入力用（ダブルス）'!$L47","v":""},{"$f":"'入力用（ダブルス）'!R47","v":0},{"$f":"'入力用（ダブルス）'!S47","v":0},null,null,null,null,null,null,null,null,null,null,null,null,null,null,null,null,null,null,null,{"$f":"[2]申込基本!$C$7","v":0},{"$f":"[2]申込基本!$Q$7","v":{"$error":"#N/A"}},{"$f":"#REF!","v":{"$error":"#REF!"}},{"$f":"#REF!","v":{"$error":"#REF!"}},{"$f":"#REF!","v":{"$error":"#REF!"}}]
[{"$f":"申込基本!$C$7","v":0},{"$f":"申込基本!$Q$7","v":{"$error":"#N/A"}},{"$f":"'入力用（ダブルス）'!$F48&'入力用（ダブルス）'!$L48","v":""},{"$f":"'入力用（ダブルス）'!R48","v":0},{"$f":"'入力用（ダブルス）'!S48","v":0},null,null,null,null,null,null,null,null,null,null,null,null,null,null,null,null,null,null,null,{"$f":"[2]申込基本!$C$7","v":0},{"$f":"[2]申込基本!$Q$7","v":{"$error":"#N/A"}},{"$f":"#REF!","v":{"$error":"#REF!"}},{"$f":"#REF!","v":{"$error":"#REF!"}},{"$f":"#REF!","v":{"$error":"#REF!"}}]
[{"$f":"申込基本!$C$7","v":0},{"$f":"申込基本!$Q$7","v":{"$error":"#N/A"}},{"$f":"'入力用（ダブルス）'!$F49&'入力用（ダブルス）'!$L49","v":""},{"$f":"'入力用（ダブルス）'!R49","v":0},{"$f":"'入力用（ダブルス）'!S49","v":0},null,null,null,null,null,null,null,null,null,null,null,null,null,null,null,null,null,null,null,{"$f":"[2]申込基本!$C$7","v":0},{"$f":"[2]申込基本!$Q$7","v":{"$error":"#N/A"}},{"$f":"#REF!","v":{"$error":"#REF!"}},{"$f":"#REF!","v":{"$error":"#REF!"}},{"$f":"#REF!","v":{"$error":"#REF!"}}]
[{"$f":"申込基本!$C$7","v":0},{"$f":"申込基本!$Q$7","v":{"$error":"#N/A"}},{"$f":"'入力用（ダブルス）'!$F73&'入力用（ダブルス）'!$L73","v":""},{"$f":"'入力用（ダブルス）'!R73","v":0},{"$f":"'入力用（ダブルス）'!S73","v":0},null,null,null,null,null,null,null,null,null,null,null,null,null,null,null,null,null,null,null,{"$f":"[2]申込基本!$C$7","v":0},{"$f":"[2]申込基本!$Q$7","v":{"$error":"#N/A"}},{"$f":"#REF!","v":{"$error":"#REF!"}},{"$f":"#REF!","v":{"$error":"#REF!"}},{"$f":"#REF!","v":{"$error":"#REF!"}}]
[{"$f":"申込基本!$C$7","v":0},{"$f":"申込基本!$Q$7","v":{"$error":"#N/A"}},{"$f":"'入力用（ダブルス）'!$F74&'入力用（ダブルス）'!$L74","v":""},{"$f":"'入力用（ダブルス）'!R74","v":0},{"$f":"'入力用（ダブルス）'!S74","v":0},null,null,null,null,null,null,null,null,null,null,null,null,null,null,null,null,null,null,null,{"$f":"[2]申込基本!$C$7","v":0},{"$f":"[2]申込基本!$Q$7","v":{"$error":"#N/A"}},{"$f":"#REF!","v":{"$error":"#REF!"}},{"$f":"#REF!","v":{"$error":"#REF!"}},{"$f":"#REF!","v":{"$error":"#REF!"}}]
[{"$f":"申込基本!$C$7","v":0},{"$f":"申込基本!$Q$7","v":{"$error":"#N/A"}},{"$f":"'入力用（ダブルス）'!$F75&'入力用（ダブルス）'!$L75","v":""},{"$f":"'入力用（ダブルス）'!R75","v":0},{"$f":"'入力用（ダブルス）'!S75","v":0},null,null,null,null,null,null,null,null,null,null,null,null,null,null,null,null,null,null,null,{"$f":"[2]申込基本!$C$7","v":0},{"$f":"[2]申込基本!$Q$7","v":{"$error":"#N/A"}},{"$f":"#REF!","v":{"$error":"#REF!"}},{"$f":"#REF!","v":{"$error":"#REF!"}},{"$f":"#REF!","v":{"$error":"#REF!"}}]
[{"$f":"申込基本!$C$7","v":0},{"$f":"申込基本!$Q$7","v":{"$error":"#N/A"}},{"$f":"'入力用（ダブルス）'!$F76&'入力用（ダブルス）'!$L76","v":""},{"$f":"'入力用（ダブルス）'!R76","v":0},{"$f":"'入力用（ダブルス）'!S76","v":0},null,null,null,null,null,null,null,null,null,null,null,null,null,null,null,null,null,null,null,{"$f":"[2]申込基本!$C$7","v":0},{"$f":"[2]申込基本!$Q$7","v":{"$error":"#N/A"}},{"$f":"#REF!","v":{"$error":"#REF!"}},{"$f":"#REF!","v":{"$error":"#REF!"}},{"$f":"#REF!","v":{"$error":"#REF!"}}]
[{"$f":"申込基本!$C$7","v":0},{"$f":"申込基本!$Q$7","v":{"$error":"#N/A"}},{"$f":"'入力用（ダブルス）'!$F77&'入力用（ダブルス）'!$L77","v":""},{"$f":"'入力用（ダブルス）'!R77","v":0},{"$f":"'入力用（ダブルス）'!S77","v":0},null,null,null,null,null,null,null,null,null,null,null,null,null,null,null,null,null,null,null,{"$f":"[2]申込基本!$C$7","v":0},{"$f":"[2]申込基本!$Q$7","v":{"$error":"#N/A"}},{"$f":"#REF!","v":{"$error":"#REF!"}},{"$f":"#REF!","v":{"$error":"#REF!"}},{"$f":"#REF!","v":{"$error":"#REF!"}}]
[{"$f":"申込基本!$C$7","v":0},{"$f":"申込基本!$Q$7","v":{"$error":"#N/A"}},{"$f":"'入力用（ダブルス）'!$F78&'入力用（ダブルス）'!$L78","v":""},{"$f":"'入力用（ダブルス）'!R78","v":0},{"$f":"'入力用（ダブルス）'!S78","v":0},null,null,null,null,null,null,null,null,null,null,null,null,null,null,null,null,null,null,null,{"$f":"[2]申込基本!$C$7","v":0},{"$f":"[2]申込基本!$Q$7","v":{"$error":"#N/A"}},{"$f":"#REF!","v":{"$error":"#REF!"}},{"$f":"#REF!","v":{"$error":"#REF!"}},{"$f":"#REF!","v":{"$error":"#REF!"}}]
[{"$f":"申込基本!$C$7","v":0},{"$f":"申込基本!$Q$7","v":{"$error":"#N/A"}},{"$f":"'入力用（ダブルス）'!$F79&'入力用（ダブルス）'!$L79","v":""},{"$f":"'入力用（ダブルス）'!R79","v":0},{"$f":"'入力用（ダブルス）'!S79","v":0},null,null,null,null,null,null,null,null,null,null,null,null,null,null,null,null,null,null,null,{"$f":"[2]申込基本!$C$7","v":0},{"$f":"[2]申込基本!$Q$7","v":{"$error":"#N/A"}},{"$f":"#REF!","v":{"$error":"#REF!"}},{"$f":"#REF!","v":{"$error":"#REF!"}},{"$f":"#REF!","v":{"$error":"#REF!"}}]
[{"$f":"申込基本!$C$7","v":0},{"$f":"申込基本!$Q$7","v":{"$error":"#N/A"}},{"$f":"'入力用（ダブルス）'!$F80&'入力用（ダブルス）'!$L80","v":""},{"$f":"'入力用（ダブルス）'!R80","v":0},{"$f":"'入力用（ダブルス）'!S80","v":0},null,null,null,null,null,null,null,null,null,null,null,null,null,null,null,null,null,null,null,{"$f":"[2]申込基本!$C$7","v":0},{"$f":"[2]申込基本!$Q$7","v":{"$error":"#N/A"}},{"$f":"#REF!","v":{"$error":"#REF!"}},{"$f":"#REF!","v":{"$error":"#REF!"}},{"$f":"#REF!","v":{"$error":"#REF!"}}]
[{"$f":"申込基本!$C$7","v":0},{"$f":"申込基本!$Q$7","v":{"$error":"#N/A"}},{"$f":"'入力用（ダブルス）'!$F81&'入力用（ダブルス）'!$L81","v":""},{"$f":"'入力用（ダブルス）'!R81","v":0},{"$f":"'入力用（ダブルス）'!S81","v":0},null,null,null,null,null,null,null,null,null,null,null,null,null,null,null,null,null,null,null,{"$f":"[2]申込基本!$C$7","v":0},{"$f":"[2]申込基本!$Q$7","v":{"$error":"#N/A"}},{"$f":"#REF!","v":{"$error":"#REF!"}},{"$f":"#REF!","v":{"$error":"#REF!"}},{"$f":"#REF!","v":{"$error":"#REF!"}}]
[{"$f":"申込基本!$C$7","v":0},{"$f":"申込基本!$Q$7","v":{"$error":"#N/A"}},{"$f":"'入力用（ダブルス）'!$F82&'入力用（ダブルス）'!$L82","v":""},{"$f":"'入力用（ダブルス）'!R82","v":0},{"$f":"'入力用（ダブルス）'!S82","v":0},null,null,null,null,null,null,null,null,null,null,null,null,null,null,null,null,null,null,null,{"$f":"[2]申込基本!$C$7","v":0},{"$f":"[2]申込基本!$Q$7","v":{"$error":"#N/A"}},{"$f":"#REF!","v":{"$error":"#REF!"}},{"$f":"#REF!","v":{"$error":"#REF!"}},{"$f":"#REF!","v":{"$error":"#REF!"}}]
[{"$f":"申込基本!$C$7","v":0},{"$f":"申込基本!$Q$7","v":{"$error":"#N/A"}},{"$f":"'入力用（ダブルス）'!$F106&'入力用（ダブルス）'!$L106","v":""},{"$f":"'入力用（ダブルス）'!R106","v":0},{"$f":"'入力用（ダブルス）'!S106","v":0},null,null,null,null,null,null,null,null,null,null,null,null,null,null,null,null,null,null,null,{"$f":"[2]申込基本!$C$7","v":0},{"$f":"[2]申込基本!$Q$7","v":{"$error":"#N/A"}},{"$f":"#REF!","v":{"$error":"#REF!"}},{"$f":"#REF!","v":{"$error":"#REF!"}},{"$f":"#REF!","v":{"$error":"#REF!"}}]
[{"$f":"申込基本!$C$7","v":0},{"$f":"申込基本!$Q$7","v":{"$error":"#N/A"}},{"$f":"'入力用（ダブルス）'!$F107&'入力用（ダブルス）'!$L107","v":""},{"$f":"'入力用（ダブルス）'!R107","v":0},{"$f":"'入力用（ダブルス）'!S107","v":0},null,null,null,null,null,null,null,null,null,null,null,null,null,null,null,null,null,null,null,{"$f":"[2]申込基本!$C$7","v":0},{"$f":"[2]申込基本!$Q$7","v":{"$error":"#N/A"}},{"$f":"#REF!","v":{"$error":"#REF!"}},{"$f":"#REF!","v":{"$error":"#REF!"}},{"$f":"#REF!","v":{"$error":"#REF!"}}]
[{"$f":"申込基本!$C$7","v":0},{"$f":"申込基本!$Q$7","v":{"$error":"#N/A"}},{"$f":"'入力用（ダブルス）'!$F108&'入力用（ダブルス）'!$L108","v":""},{"$f":"'入力用（ダブルス）'!R108","v":0},{"$f":"'入力用（ダブルス）'!S108","v":0},null,null,null,null,null,null,null,null,null,null,null,null,null,null,null,null,null,null,null,{"$f":"[2]申込基本!$C$7","v":0},{"$f":"[2]申込基本!$Q$7","v":{"$error":"#N/A"}},{"$f":"#REF!","v":{"$error":"#REF!"}},{"$f":"#REF!","v":{"$error":"#REF!"}},{"$f":"#REF!","v":{"$error":"#REF!"}}]
[{"$f":"申込基本!$C$7","v":0},{"$f":"申込基本!$Q$7","v":{"$error":"#N/A"}},{"$f":"'入力用（ダブルス）'!$F109&'入力用（ダブルス）'!$L109","v":""},{"$f":"'入力用（ダブルス）'!R109","v":0},{"$f":"'入力用（ダブルス）'!S109","v":0},null,null,null,null,null,null,null,null,null,null,null,null,null,null,null,null,null,null,null,{"$f":"[2]申込基本!$C$7","v":0},{"$f":"[2]申込基本!$Q$7","v":{"$error":"#N/A"}},{"$f":"#REF!","v":{"$error":"#REF!"}},{"$f":"#REF!","v":{"$error":"#REF!"}},{"$f":"#REF!","v":{"$error":"#REF!"}}]
[{"$f":"申込基本!$C$7","v":0},{"$f":"申込基本!$Q$7","v":{"$error":"#N/A"}},{"$f":"'入力用（ダブルス）'!$F110&'入力用（ダブルス）'!$L110","v":""},{"$f":"'入力用（ダブルス）'!R110","v":0},{"$f":"'入力用（ダブルス）'!S110","v":0},null,null,null,null,null,null,null,null,null,null,null,null,null,null,null,null,null,null,null,{"$f":"[2]申込基本!$C$7","v":0},{"$f":"[2]申込基本!$Q$7","v":{"$error":"#N/A"}},{"$f":"#REF!","v":{"$error":"#REF!"}},{"$f":"#REF!","v":{"$error":"#REF!"}},{"$f":"#REF!","v":{"$error":"#REF!"}}]
[{"$f":"申込基本!$C$7","v":0},{"$f":"申込基本!$Q$7","v":{"$error":"#N/A"}},{"$f":"'入力用（ダブルス）'!$F111&'入力用（ダブルス）'!$L111","v":""},{"$f":"'入力用（ダブルス）'!R111","v":0},{"$f":"'入力用（ダブルス）'!S111","v":0},null,null,null,null,null,null,null,null,null,null,null,null,null,null,null,null,null,null,null,{"$f":"[2]申込基本!$C$7","v":0},{"$f":"[2]申込基本!$Q$7","v":{"$error":"#N/A"}},{"$f":"#REF!","v":{"$error":"#REF!"}},{"$f":"#REF!","v":{"$error":"#REF!"}},{"$f":"#REF!","v":{"$error":"#REF!"}}]
[{"$f":"申込基本!$C$7","v":0},{"$f":"申込基本!$Q$7","v":{"$error":"#N/A"}},{"$f":"'入力用（ダブルス）'!$F112&'入力用（ダブルス）'!$L112","v":""},{"$f":"'入力用（ダブルス）'!R112","v":0},{"$f":"'入力用（ダブルス）'!S112","v":0},null,null,null,null,null,null,null,null,null,null,null,null,null,null,null,null,null,null,null,{"$f":"[2]申込基本!$C$7","v":0},{"$f":"[2]申込基本!$Q$7","v":{"$error":"#N/A"}},{"$f":"#REF!","v":{"$error":"#REF!"}},{"$f":"#REF!","v":{"$error":"#REF!"}},{"$f":"#REF!","v":{"$error":"#REF!"}}]
[{"$f":"申込基本!$C$7","v":0},{"$f":"申込基本!$Q$7","v":{"$error":"#N/A"}},{"$f":"'入力用（ダブルス）'!$F113&'入力用（ダブルス）'!$L113","v":""},{"$f":"'入力用（ダブルス）'!R113","v":0},{"$f":"'入力用（ダブルス）'!S113","v":0},null,null,null,null,null,null,null,null,null,null,null,null,null,null,null,null,null,null,null,{"$f":"[2]申込基本!$C$7","v":0},{"$f":"[2]申込基本!$Q$7","v":{"$error":"#N/A"}},{"$f":"#REF!","v":{"$error":"#REF!"}},{"$f":"#REF!","v":{"$error":"#REF!"}},{"$f":"#REF!","v":{"$error":"#REF!"}}]
[{"$f":"申込基本!$C$7","v":0},{"$f":"申込基本!$Q$7","v":{"$error":"#N/A"}},{"$f":"'入力用（ダブルス）'!$F114&'入力用（ダブルス）'!$L114","v":""},{"$f":"'入力用（ダブルス）'!R114","v":0},{"$f":"'入力用（ダブルス）'!S114","v":0},null,null,null,null,null,null,null,null,null,null,null,null,null,null,null,null,null,null,null,{"$f":"[2]申込基本!$C$7","v":0},{"$f":"[2]申込基本!$Q$7","v":{"$error":"#N/A"}},{"$f":"#REF!","v":{"$error":"#REF!"}},{"$f":"#REF!","v":{"$error":"#REF!"}},{"$f":"#REF!","v":{"$error":"#REF!"}}]
[{"$f":"申込基本!$C$7","v":0},{"$f":"申込基本!$Q$7","v":{"$error":"#N/A"}},{"$f":"'入力用（ダブルス）'!$F115&'入力用（ダブルス）'!$L115","v":""},{"$f":"'入力用（ダブルス）'!R115","v":0},{"$f":"'入力用（ダブルス）'!S115","v":0},null,null,null,null,null,null,null,null,null,null,null,null,null,null,null,null,null,null,null,{"$f":"[2]申込基本!$C$7","v":0},{"$f":"[2]申込基本!$Q$7","v":{"$error":"#N/A"}},{"$f":"#REF!","v":{"$error":"#REF!"}},{"$f":"#REF!","v":{"$error":"#REF!"}},{"$f":"#REF!","v":{"$error":"#REF!"}}]
[{"$f":"申込基本!$C$7","v":0},{"$f":"申込基本!$Q$7","v":{"$error":"#N/A"}},{"$f":"'入力用（ダブルス）'!$F139&'入力用（ダブルス）'!$L139","v":""},{"$f":"'入力用（ダブルス）'!R139","v":0},{"$f":"'入力用（ダブルス）'!S139","v":0},null,null,null,null,null,null,null,null,null,null,null,null,null,null,null,null,null,null,null,{"$f":"[2]申込基本!$C$7","v":0},{"$f":"[2]申込基本!$Q$7","v":{"$error":"#N/A"}},{"$f":"#REF!","v":{"$error":"#REF!"}},{"$f":"#REF!","v":{"$error":"#REF!"}},{"$f":"#REF!","v":{"$error":"#REF!"}}]
[{"$f":"申込基本!$C$7","v":0},{"$f":"申込基本!$Q$7","v":{"$error":"#N/A"}},{"$f":"'入力用（ダブルス）'!$F140&'入力用（ダブルス）'!$L140","v":""},{"$f":"'入力用（ダブルス）'!R140","v":0},{"$f":"'入力用（ダブルス）'!S140","v":0},null,null,null,null,null,null,null,null,null,null,null,null,null,null,null,null,null,null,null,{"$f":"[2]申込基本!$C$7","v":0},{"$f":"[2]申込基本!$Q$7","v":{"$error":"#N/A"}},{"$f":"#REF!","v":{"$error":"#REF!"}},{"$f":"#REF!","v":{"$error":"#REF!"}},{"$f":"#REF!","v":{"$error":"#REF!"}}]
[{"$f":"申込基本!$C$7","v":0},{"$f":"申込基本!$Q$7","v":{"$error":"#N/A"}},{"$f":"'入力用（ダブルス）'!$F141&'入力用（ダブルス）'!$L141","v":""},{"$f":"'入力用（ダブルス）'!R141","v":0},{"$f":"'入力用（ダブルス）'!S141","v":0},null,null,null,null,null,null,null,null,null,null,null,null,null,null,null,null,null,null,null,{"$f":"[2]申込基本!$C$7","v":0},{"$f":"[2]申込基本!$Q$7","v":{"$error":"#N/A"}},{"$f":"#REF!","v":{"$error":"#REF!"}},{"$f":"#REF!","v":{"$error":"#REF!"}},{"$f":"#REF!","v":{"$error":"#REF!"}}]
[{"$f":"申込基本!$C$7","v":0},{"$f":"申込基本!$Q$7","v":{"$error":"#N/A"}},{"$f":"'入力用（ダブルス）'!$F142&'入力用（ダブルス）'!$L142","v":""},{"$f":"'入力用（ダブルス）'!R142","v":0},{"$f":"'入力用（ダブルス）'!S142","v":0},null,null,null,null,null,null,null,null,null,null,null,null,null,null,null,null,null,null,null,{"$f":"[2]申込基本!$C$7","v":0},{"$f":"[2]申込基本!$Q$7","v":{"$error":"#N/A"}},{"$f":"#REF!","v":{"$error":"#REF!"}},{"$f":"#REF!","v":{"$error":"#REF!"}},{"$f":"#REF!","v":{"$error":"#REF!"}}]
[{"$f":"申込基本!$C$7","v":0},{"$f":"申込基本!$Q$7","v":{"$error":"#N/A"}},{"$f":"'入力用（ダブルス）'!$F143&'入力用（ダブルス）'!$L143","v":""},{"$f":"'入力用（ダブルス）'!R143","v":0},{"$f":"'入力用（ダブルス）'!S143","v":0},null,null,null,null,null,null,null,null,null,null,null,null,null,null,null,null,null,null,null,{"$f":"[2]申込基本!$C$7","v":0},{"$f":"[2]申込基本!$Q$7","v":{"$error":"#N/A"}},{"$f":"#REF!","v":{"$error":"#REF!"}},{"$f":"#REF!","v":{"$error":"#REF!"}},{"$f":"#REF!","v":{"$error":"#REF!"}}]
[{"$f":"申込基本!$C$7","v":0},{"$f":"申込基本!$Q$7","v":{"$error":"#N/A"}},{"$f":"'入力用（ダブルス）'!$F144&'入力用（ダブルス）'!$L144","v":""},{"$f":"'入力用（ダブルス）'!R144","v":0},{"$f":"'入力用（ダブルス）'!S144","v":0},null,null,null,null,null,null,null,null,null,null,null,null,null,null,null,null,null,null,null,{"$f":"[2]申込基本!$C$7","v":0},{"$f":"[2]申込基本!$Q$7","v":{"$error":"#N/A"}},{"$f":"#REF!","v":{"$error":"#REF!"}},{"$f":"#REF!","v":{"$error":"#REF!"}},{"$f":"#REF!","v":{"$error":"#REF!"}}]
[{"$f":"申込基本!$C$7","v":0},{"$f":"申込基本!$Q$7","v":{"$error":"#N/A"}},{"$f":"'入力用（ダブルス）'!$F145&'入力用（ダブルス）'!$L145","v":""},{"$f":"'入力用（ダブルス）'!R145","v":0},{"$f":"'入力用（ダブルス）'!S145","v":0},null,null,null,null,null,null,null,null,null,null,null,null,null,null,null,null,null,null,null,{"$f":"[2]申込基本!$C$7","v":0},{"$f":"[2]申込基本!$Q$7","v":{"$error":"#N/A"}},{"$f":"#REF!","v":{"$error":"#REF!"}},{"$f":"#REF!","v":{"$error":"#REF!"}},{"$f":"#REF!","v":{"$error":"#REF!"}}]
[{"$f":"申込基本!$C$7","v":0},{"$f":"申込基本!$Q$7","v":{"$error":"#N/A"}},{"$f":"'入力用（ダブルス）'!$F146&'入力用（ダブルス）'!$L146","v":""},{"$f":"'入力用（ダブルス）'!R146","v":0},{"$f":"'入力用（ダブルス）'!S146","v":0},null,null,null,null,null,null,null,null,null,null,null,null,null,null,null,null,null,null,null,{"$f":"[2]申込基本!$C$7","v":0},{"$f":"[2]申込基本!$Q$7","v":{"$error":"#N/A"}},{"$f":"#REF!","v":{"$error":"#REF!"}},{"$f":"#REF!","v":{"$error":"#REF!"}},{"$f":"#REF!","v":{"$error":"#REF!"}}]
[{"$f":"申込基本!$C$7","v":0},{"$f":"申込基本!$Q$7","v":{"$error":"#N/A"}},{"$f":"'入力用（ダブルス）'!$F147&'入力用（ダブルス）'!$L147","v":""},{"$f":"'入力用（ダブルス）'!R147","v":0},{"$f":"'入力用（ダブルス）'!S147","v":0},null,null,null,null,null,null,null,null,null,null,null,null,null,null,null,null,null,null,null,{"$f":"[2]申込基本!$C$7","v":0},{"$f":"[2]申込基本!$Q$7","v":{"$error":"#N/A"}},{"$f":"#REF!","v":{"$error":"#REF!"}},{"$f":"#REF!","v":{"$error":"#REF!"}},{"$f":"#REF!","v":{"$error":"#REF!"}}]
[{"$f":"申込基本!$C$7","v":0},{"$f":"申込基本!$Q$7","v":{"$error":"#N/A"}},{"$f":"'入力用（ダブルス）'!$F148&'入力用（ダブルス）'!$L148","v":""},{"$f":"'入力用（ダブルス）'!R148","v":0},{"$f":"'入力用（ダブルス）'!S148","v":0},null,null,null,null,null,null,null,null,null,null,null,null,null,null,null,null,null,null,null,{"$f":"[2]申込基本!$C$7","v":0},{"$f":"[2]申込基本!$Q$7","v":{"$error":"#N/A"}},{"$f":"#REF!","v":{"$error":"#REF!"}},{"$f":"#REF!","v":{"$error":"#REF!"}},{"$f":"#REF!","v":{"$error":"#REF!"}}]

{"sheet":"data","index":10,"n_rows":310,"n_cols":19,"rows_kept":310,"cut":false,"hidden":true,"merged":[]}
[null,"漢字",3,4,5,6,7,8,9,10,11,12,13]
["学校番号","全名称","名称（4文字まで）","名称（領収証用）",null,null,"領収証の宛名","〒","所在地","電話",null,null,null,null,null,null,"★学年を数字に変換"]
[501,"大阪教育大学附属天王寺校舎","教天王寺","教育大天王寺","校舎","様",{"$f":"D3&E3&F3","v":"教育大天王寺校舎様"},"543-0054","大阪市天王寺区南河堀町4-88","06-6775-6047","06","6775","6047",null,null,null,"整理番号","学年","学年"]
[502,"大阪教育大学附属池田校舎","教大池田","教育大池田","校舎","様",{"$f":"D4&E4&F4","v":"教育大池田校舎様"},"563-0026","池田市緑丘1-5-1","0727-61-8473","0727","61","8473",null,null,null,1,{"$f":"IF(Q4=\"\",\"\",VLOOKUP(Q4,登録用データのコピー!$B$5:$V$89,14,FALSE))","v":0},{"$f":"LEFT(R4,1)","v":"0"}]
[503,"大阪教育大学附属平野校舎","教大平野","教育大平野","校舎","様","教育大平野校舎様","547-0032","大阪市平野区流町2-1-24","06-6707-5800","06","6707","5800",null,"リスト","リスト",2,{"$f":"IF(Q5=\"\",\"\",VLOOKUP(Q5,登録用データのコピー!$B$5:$V$89,14,FALSE))","v":0},"0"]
[504,"大阪府立北野高等学校","北野","北野","高校","様","北野高校様","532-0025","大阪市淀川区新北野2-5-13","06-6303-5661","06","6303","5661",null,"男性","居住地",3,{"$f":"IF(Q6=\"\",\"\",VLOOKUP(Q6,登録用データのコピー!$B$5:$V$89,14,FALSE))","v":0},"0"]
[505,"大阪府立東淀川高等学校","東淀川","東淀川","高校","様","東淀川高校様","532-0003","大阪市淀川区宮原4-4-5","06-6391-2427","06","6391","2427",null,"女性","学籍地",4,{"$f":"IF(Q7=\"\",\"\",VLOOKUP(Q7,登録用データのコピー!$B$5:$V$89,14,FALSE))","v":0},"0"]
[506,"大阪府立北淀・淀川清流高等学校","北淀・清流","北淀・淀川清流","高校","様","北淀・淀川清流高校様","533-0013","大阪市東淀川区豊里2-11-35","06-6328-2331","06","6328","2331",null,null,"勤務地",5,{"$f":"IF(Q8=\"\",\"\",VLOOKUP(Q8,登録用データのコピー!$B$5:$V$89,14,FALSE))","v":0},"0"]
[507,"大阪府立柴島高等学校","柴島","柴島","高校","様","柴島高校様","533-0024","大阪市東淀川区柴島1-7-106","06-6323-8351","06","6323","8351",null,null,null,6,{"$f":"IF(Q9=\"\",\"\",VLOOKUP(Q9,登録用データのコピー!$B$5:$V$89,14,FALSE))","v":0},"0"]
[508,null,null,null,null,null,null,null,null,null,null,null,null,null,null,null,7,{"$f":"IF(Q10=\"\",\"\",VLOOKUP(Q10,登録用データのコピー!$B$5:$V$89,14,FALSE))","v":0},"0"]
[509,"大阪府立大手前高等学校","大手前","大手前","高校","様","大手前高校様","540-0008","大阪市中央区大手前2-1-11","06-6941-0051","06","6941","0051",null,"リスト",null,8,{"$f":"IF(Q11=\"\",\"\",VLOOKUP(Q11,登録用データのコピー!$B$5:$V$89,14,FALSE))","v":0},"0"]
[510,"大阪府立港高等学校","港","港","高校","様","港高校様","552-0001","大阪市港区波除2-3-1","06-6583-1401","06","6583","1401",null,"１部",null,9,{"$f":"IF(Q12=\"\",\"\",VLOOKUP(Q12,登録用データのコピー!$B$5:$V$89,14,FALSE))","v":0},"0"]
[511,"大阪府立市岡高等学校","市岡","市岡","高校","様","市岡高校様","552-0002","大阪市港区市岡元町2-12-12","06-6582-0330","06","6582","0330",null,"２部",null,10,{"$f":"IF(Q13=\"\",\"\",VLOOKUP(Q13,登録用データのコピー!$B$5:$V$89,14,FALSE))","v":0},"0"]
[512,"大阪府立大正白陵高等学校","大正白陵","大正白陵","高校","様","大正白陵高校様","551-0031","大阪市大正区泉尾3-19-50","06-6552-0026","06","6552","0026",null,null,null,11,{"$f":"IF(Q14=\"\",\"\",VLOOKUP(Q14,登録用データのコピー!$B$5:$V$89,14,FALSE))","v":0},"0"]
[513,"大阪府立大正高等学校","大正","大正","高校","様","大正高校様","551-0031","大阪市大正区泉尾7-11-20","06-6554-3100","06","6554","3100",null,null,null,12,{"$f":"IF(Q15=\"\",\"\",VLOOKUP(Q15,登録用データのコピー!$B$5:$V$89,14,FALSE))","v":0},"0"]
[514,"大阪府立清水谷高等学校","清水谷","清水谷","高校","様","清水谷高校様","543-0011","大阪市天王寺区清水谷町2-44","06-6762-0185","06","6762","0185",null,null,null,13,{"$f":"IF(Q16=\"\",\"\",VLOOKUP(Q16,登録用データのコピー!$B$5:$V$89,14,FALSE))","v":0},"0"]
[515,"大阪府立高津高等学校","高津","高津","高校","様","高津高校様","543-0016","大阪市天王寺区餌差町10-47","06-6761-0336","06","6761","0336",null,null,null,14,{"$f":"IF(Q17=\"\",\"\",VLOOKUP(Q17,登録用データのコピー!$B$5:$V$89,14,FALSE))","v":0},"0"]
[516,"大阪府立夕陽丘高等学校","夕陽丘","夕陽丘","高校","様","夕陽丘高校様","543-0035","大阪市天王寺区北山町10-10","06-6771-0665","06","6771","0665",null,null,null,15,{"$f":"IF(Q18=\"\",\"\",VLOOKUP(Q18,登録用データのコピー!$B$5:$V$89,14,FALSE))","v":0},"0"]
[517,"大阪府立今宮高等学校","今宮","今宮","高校","様","今宮高校様","556-0013","大阪市浪速区戎本町2-7-39","06-6641-2612","06","6641","2612",null,null,null,16,{"$f":"IF(Q19=\"\",\"\",VLOOKUP(Q19,登録用データのコピー!$B$5:$V$89,14,FALSE))","v":0},"0"]
[518,"大阪府立勝山高等学校","勝山","勝山","高校","様","勝山高校様","544-0014","大阪市生野区巽東3-10-75","06-6757-9171","06","6757","9171",null,null,null,17,{"$f":"IF(Q20=\"\",\"\",VLOOKUP(Q20,登録用データのコピー!$B$5:$V$89,14,FALSE))","v":0},"0"]
[519,"大阪府立旭高等学校","旭","旭","高校","様","旭高校様","535-0031","大阪市旭区高殿5-6-41","06-6951-3133","06","6951","3133",null,null,null,18,{"$f":"IF(Q21=\"\",\"\",VLOOKUP(Q21,登録用データのコピー!$B$5:$V$89,14,FALSE))","v":0},"0"]
[520,"大阪府立茨田高等学校","茨田","茨田","高校","様","茨田高校様","538-0032","大阪市鶴見区安田1-5-49","06-6911-0001","06","6911","0001",null,null,null,19,{"$f":"IF(Q22=\"\",\"\",VLOOKUP(Q22,登録用データのコピー!$B$5:$V$89,14,FALSE))","v":0},"0"]
[521,"大阪府立天王寺高等学校","天王寺","天王寺","高校","様","天王寺高校様","545-0005","大阪市阿倍野区三明町2-4-23","06-6629-6801","06","6629","6801",null,null,null,20,{"$f":"IF(Q23=\"\",\"\",VLOOKUP(Q23,登録用データのコピー!$B$5:$V$89,14,FALSE))","v":0},"0"]
[522,"大阪府立阿倍野高等学校","阿倍野","阿倍野","高校","様","阿倍野高校様","545-0021","大阪市阿倍野区阪南町1-30-34","06-6628-1461","06","6628","1461",null,null,null,21,{"$f":"IF(Q24=\"\",\"\",VLOOKUP(Q24,登録用データのコピー!$B$5:$V$89,14,FALSE))","v":0},"0"]
[523,"大阪府立住吉高等学校","住吉","住吉","高校","様","住吉高校様","545-0035","大阪市阿倍野区北畠2-4-1","06-6651-0525","06","6651","0525",null,null,null,22,{"$f":"IF(Q25=\"\",\"\",VLOOKUP(Q25,登録用データのコピー!$B$5:$V$89,14,FALSE))","v":0},"0"]
[524,null,null,null,null,null,null,null,null,null,"",null,"",null,null,null,23,{"$f":"IF(Q26=\"\",\"\",VLOOKUP(Q26,登録用データのコピー!$B$5:$V$89,14,FALSE))","v":0},"0"]
[525,null,null,null,null,null,null,null,null,null,null,null,null,null,null,null,24,{"$f":"IF(Q27=\"\",\"\",VLOOKUP(Q27,登録用データのコピー!$B$5:$V$89,14,FALSE))","v":0},"0"]
[526,null,null,null,null,null,null,null,null,null,"",null,"",null,null,null,25,{"$f":"IF(Q28=\"\",\"\",VLOOKUP(Q28,登録用データのコピー!$B$5:$V$89,14,FALSE))","v":0},"0"]
[527,"大阪府立阪南高等学校","阪南","阪南","高校","様","阪南高校様","558-0012","大阪市住吉区庭井2-18-81","06-6692-0356","06","6692","0356",null,null,null,26,{"$f":"IF(Q29=\"\",\"\",VLOOKUP(Q29,登録用データのコピー!$B$5:$V$89,14,FALSE))","v":0},"0"]
[528,"大阪府教育センター附属高等学校","センター","教育センター附属","高校","様","教育センター附属高校様","558-0011","大阪市住吉区苅田4-1-72","06-6692-0006","06","6692","0006",null,null,null,27,{"$f":"IF(Q30=\"\",\"\",VLOOKUP(Q30,登録用データのコピー!$B$5:$V$89,14,FALSE))","v":0},"0"]
[529,"大阪府立東住吉高等学校","東住吉","東住吉","高校","様","東住吉高校様","547-0033","大阪市平野区平野西2-3-77","06-6702-3838","06","6702","3838",null,null,null,28,{"$f":"IF(Q31=\"\",\"\",VLOOKUP(Q31,登録用データのコピー!$B$5:$V$89,14,FALSE))","v":0},"0"]
[530,"大阪府立長吉高等学校","長吉","長吉","高校","様","長吉高校様","547-0015","大阪市平野区長吉長原西3-11-33","06-6790-0700","06","6790","0700",null,null,null,29,{"$f":"IF(Q32=\"\",\"\",VLOOKUP(Q32,登録用データのコピー!$B$5:$V$89,14,FALSE))","v":0},"0"]
[531,"大阪府立平野高等学校","平野","平野","高校","様","平野高校様","547-0014","大阪市平野区長吉川辺4-2-11","0723-34-7400","0723","34","7400",null,null,null,30,{"$f":"IF(Q33=\"\",\"\",VLOOKUP(Q33,登録用データのコピー!$B$5:$V$89,14,FALSE))","v":0},"0"]
[532,"大阪府立西成高等学校","西成","西成","高校","様","西成高校様","557-0062","大阪市西成区津守1-13-10","06-6562-5751","06","6562","5751",null,null,null,31,{"$f":"IF(Q34=\"\",\"\",VLOOKUP(Q34,登録用データのコピー!$B$5:$V$89,14,FALSE))","v":0},"0"]
[533,"大阪府立豊中高等学校","豊中","豊中","高校","様","豊中高校様","560-0011","豊中市上野西2-5-12","06-6854-1207","06","6854","1207",null,null,null,32,{"$f":"IF(Q35=\"\",\"\",VLOOKUP(Q35,登録用データのコピー!$B$5:$V$89,14,FALSE))","v":0},"0"]
[534,"大阪府立桜塚高等学校","桜塚","桜塚","高校","様","桜塚高校様","561-0881","豊中市中桜塚4-1-1","06-6853-2244","06","6853","2244",null,null,null,33,{"$f":"IF(Q36=\"\",\"\",VLOOKUP(Q36,登録用データのコピー!$B$5:$V$89,14,FALSE))","v":0},{"$f":"LEFT(R36,1)","v":"0"}]
[535,"大阪府立千里青雲高等学校","千里青雲","千里青雲","高校","様","千里青雲高校様","565-0084","豊中市新千里南町1-5-1","06-6831-3045","06","6831","3045",null,null,null,34,{"$f":"IF(Q37=\"\",\"\",VLOOKUP(Q37,登録用データのコピー!$B$5:$V$89,14,FALSE))","v":0},"0"]
[536,"大阪府立豊島高等学校","豊島","豊島","高校","様","豊島高校様","560-0001","豊中市北緑丘3-2-1","06-6849-7651","06","6849","7651",null,null,null,35,{"$f":"IF(Q38=\"\",\"\",VLOOKUP(Q38,登録用データのコピー!$B$5:$V$89,14,FALSE))","v":0},"0"]
[537,"大阪府立刀根山高等学校","刀根山","刀根山","高校","様","刀根山高校様","560-0045","豊中市刀根山6-9-1","06-6843-3781","06","6843","3781",null,null,null,36,{"$f":"IF(Q39=\"\",\"\",VLOOKUP(Q39,登録用データのコピー!$B$5:$V$89,14,FALSE))","v":0},"0"]
[538,null,null,null,null,null,null,null,null,null,"",null,"",null,null,null,37,{"$f":"IF(Q40=\"\",\"\",VLOOKUP(Q40,登録用データのコピー!$B$5:$V$89,14,FALSE))","v":0},"0"]
[539,"大阪府立池田高等学校","池田","池田","高校","様","池田高校様","563-0022","池田市旭丘2-2-1","072-761-1131","072","761","1131",null,null,null,38,{"$f":"IF(Q41=\"\",\"\",VLOOKUP(Q41,登録用データのコピー!$B$5:$V$89,14,FALSE))","v":0},"0"]
[540,"大阪府立渋谷高等学校","渋谷","渋谷","高校","様","渋谷高校様","563-0021","池田市畑4-1-1","072-751-2895","072","751","2895",null,null,null,39,{"$f":"IF(Q42=\"\",\"\",VLOOKUP(Q42,登録用データのコピー!$B$5:$V$89,14,FALSE))","v":0},"0"]
[541,null,null,null,null,null,null,null,null,null,null,null,null,null,null,null,40,{"$f":"IF(Q43=\"\",\"\",VLOOKUP(Q43,登録用データのコピー!$B$5:$V$89,14,FALSE))","v":0},"0"]
[542,"大阪府立箕面高等学校","箕面","箕面","高校","様","箕面高校様","562-0004","箕面市牧落4-8-66","072-721-7091","072","721","7091",null,null,null,41,{"$f":"IF(Q44=\"\",\"\",VLOOKUP(Q44,登録用データのコピー!$B$5:$V$89,14,FALSE))","v":0},"0"]
[543,"大阪府立箕面東高等学校","箕面東","箕面東","高校","様","箕面東高校様","562-0025","箕面市粟生外院5-4-63","072-729-4008","072","729","4008",null,null,null,42,{"$f":"IF(Q45=\"\",\"\",VLOOKUP(Q45,登録用データのコピー!$B$5:$V$89,14,FALSE))","v":0},"0"]
[544,"大阪府立能勢高等学校","能勢","能勢","高校","様","能勢高校様","563-0122","豊能郡能勢町上田尻580","072-737-0666","072","737","0666",null,null,null,43,{"$f":"IF(Q46=\"\",\"\",VLOOKUP(Q46,登録用データのコピー!$B$5:$V$89,14,FALSE))","v":0},"0"]
[545,null,null,null,null,null,null,null,null,null,"",null,"",null,null,null,44,{"$f":"IF(Q47=\"\",\"\",VLOOKUP(Q47,登録用データのコピー!$B$5:$V$89,14,FALSE))","v":0},"0"]
[546,"大阪府立吹田高等学校","吹田","吹田","高校","様","吹田高校様","564-0004","吹田市原町4-24-14","06-6387-6651","06","6387","6651",null,null,null,45,{"$f":"IF(Q48=\"\",\"\",VLOOKUP(Q48,登録用データのコピー!$B$5:$V$89,14,FALSE))","v":0},"0"]
[547,"大阪府立千里高等学校","千里","千里","高校","様","千里高校様","565-0861","吹田市高野台2-17-1","06-6871-0050","06","6871","0050",null,null,null,46,{"$f":"IF(Q49=\"\",\"\",VLOOKUP(Q49,登録用データのコピー!$B$5:$V$89,14,FALSE))","v":0},"0"]
[548,"大阪府立吹田東高等学校","吹田東","吹田東","高校","様","吹田東高校様","565-0802","吹田市青葉丘南16-1","06-6877-6715","06","6877","6715",null,null,null,47,{"$f":"IF(Q50=\"\",\"\",VLOOKUP(Q50,登録用データのコピー!$B$5:$V$89,14,FALSE))","v":0},"0"]
[549,"大阪府立北千里高等学校","北千里","北千里","高校","様","北千里高校様","565-0873","吹田市藤白台5-6-1","06-6872-0535","06","6872","0535",null,null,null,48,{"$f":"IF(Q51=\"\",\"\",VLOOKUP(Q51,登録用データのコピー!$B$5:$V$89,14,FALSE))","v":0},"0"]
[550,"大阪府立山田高等学校","山田","山田","高校","様","山田高校様","565-0821","吹田市山田東3-28-1","06-6875-5010","06","6875","5010",null,null,null,49,{"$f":"IF(Q52=\"\",\"\",VLOOKUP(Q52,登録用データのコピー!$B$5:$V$89,14,FALSE))","v":0},"0"]
[551,"大阪府立摂津高等学校","摂津","摂津","高校","様","摂津高校様","566-0033","摂津市学園町1-5-1","072-635-1441","072","635","1441",null,null,null,50,{"$f":"IF(Q53=\"\",\"\",VLOOKUP(Q53,登録用データのコピー!$B$5:$V$89,14,FALSE))","v":0},"0"]
[552,"大阪府立高等学校",null,null,null,null,null,null,null,null,"",null,"",null,null,null,51,{"$f":"IF(Q54=\"\",\"\",VLOOKUP(Q54,登録用データのコピー!$B$5:$V$89,14,FALSE))","v":0},"0"]
[553,"大阪府立春日丘高等学校","春日丘","春日丘","高校","様","春日丘高校様","567-0031","茨木市春日2-1-2","072-623-2061","072","623","2061",null,null,null,52,{"$f":"IF(Q55=\"\",\"\",VLOOKUP(Q55,登録用データのコピー!$B$5:$V$89,14,FALSE))","v":0},"0"]
[554,"大阪府立茨木高等学校","茨木","茨木","高校","様","茨木高校様","567-8523","茨木市新庄町12-1","072-622-3423","072","622","3423",null,null,null,53,{"$f":"IF(Q56=\"\",\"\",VLOOKUP(Q56,登録用データのコピー!$B$5:$V$89,14,FALSE))","v":0},"0"]
[555,"大阪府立北摂つばさ高等学校","北つばさ","北摂つばさ","高校","様","北摂つばさ高校様","567-0848","茨木市玉島2-15","072-633-0058","072","633","0058",null,null,null,54,{"$f":"IF(Q57=\"\",\"\",VLOOKUP(Q57,登録用データのコピー!$B$5:$V$89,14,FALSE))","v":0},"0"]
[556,"大阪府立茨木西高等学校","茨木西","茨木西","高校","様","茨木西高校様","567-0045","茨木市紫明園10-68","072-625-5711","072","625","5711",null,null,null,55,{"$f":"IF(Q58=\"\",\"\",VLOOKUP(Q58,登録用データのコピー!$B$5:$V$89,14,FALSE))","v":0},"0"]
[557,"大阪府立福井高等学校","福井","福井","高校","様","福井高校様","567-0067","茨木市西福井3-33-11","072-641-4361","072","641","4361",null,null,null,56,{"$f":"IF(Q59=\"\",\"\",VLOOKUP(Q59,登録用データのコピー!$B$5:$V$89,14,FALSE))","v":0},"0"]
[558,"大阪府立三島高等学校","三島","三島","高校","様","三島高校様","569-1135","高槻市今城町27-1","072-682-5884","072","682","5884",null,null,null,57,{"$f":"IF(Q60=\"\",\"\",VLOOKUP(Q60,登録用データのコピー!$B$5:$V$89,14,FALSE))","v":0},"0"]
[559,null,null,null,null,null,null,null,null,null,"",null,"",null,null,null,58,{"$f":"IF(Q61=\"\",\"\",VLOOKUP(Q61,登録用データのコピー!$B$5:$V$89,14,FALSE))","v":0},"0"]
[560,null,null,null,null,null,null,null,null,null,"",null,"",null,null,null,59,{"$f":"IF(Q62=\"\",\"\",VLOOKUP(Q62,登録用データのコピー!$B$5:$V$89,14,FALSE))","v":0},"0"]
[561,"大阪府立槻の木高等学校","槻の木","槻の木","高校","様","槻の木高校様","569-0075","高槻市城内町2-13","072-675-2600","072","675","2600",null,null,null,60,{"$f":"IF(Q63=\"\",\"\",VLOOKUP(Q63,登録用データのコピー!$B$5:$V$89,14,FALSE))","v":0},"0"]
[562,"大阪府立高槻北高等学校","高槻北","高槻北","高校","様","高槻北高校様","569-1112","高槻市別所本町36-3","072-683-8739","072","683","8739",null,null,null,61,{"$f":"IF(Q64=\"\",\"\",VLOOKUP(Q64,登録用データのコピー!$B$5:$V$89,14,FALSE))","v":0},"0"]
[563,"大阪府立芥川高等学校","芥川","芥川","高校","様","芥川高校様","569-1027","高槻市浦堂1-12-1","072-689-0109","072","689","0109",null,null,null,62,{"$f":"IF(Q65=\"\",\"\",VLOOKUP(Q65,登録用データのコピー!$B$5:$V$89,14,FALSE))","v":0},"0"]
[564,"大阪府立阿武野高等学校","阿武野","阿武野","高校","様","阿武野高校様","569-1141","高槻市氷室町3-38-1","072-693-4670","072","693","4670",null,null,null,63,{"$f":"IF(Q66=\"\",\"\",VLOOKUP(Q66,登録用データのコピー!$B$5:$V$89,14,FALSE))","v":0},"0"]
[565,"大阪府立島本高等学校","島本","島本","高校","様","島本高校様","618-0023","三島郡島本町桜井台15-1","075-962-3265","075","962","3265",null,null,null,64,{"$f":"IF(Q67=\"\",\"\",VLOOKUP(Q67,登録用データのコピー!$B$5:$V$89,14,FALSE))","v":0},"0"]
[566,"大阪府立大冠高等学校","大冠","大冠","高校","様",{"$f":"D68&E68&F68","v":"大冠高校様"},"569-0034","高槻市大塚町4-50-1","072-672-3450","072","672","3450",null,null,null,65,{"$f":"IF(Q68=\"\",\"\",VLOOKUP(Q68,登録用データのコピー!$B$5:$V$89,14,FALSE))","v":0},{"$f":"LEFT(R68,1)","v":"0"}]
[567,null,null,null,null,null,null,null,null,null,"",null,"",null,null,null,66,{"$f":"IF(Q69=\"\",\"\",VLOOKUP(Q69,登録用データのコピー!$B$5:$V$89,14,FALSE))","v":0},"0"]
[568,null,null,null,null,null,null,null,null,null,"",null,"",null,null,null,67,{"$f":"IF(Q70=\"\",\"\",VLOOKUP(Q70,登録用データのコピー!$B$5:$V$89,14,FALSE))","v":0},"0"]
[569,"大阪府立芦間高等学校","芦間","芦間","高校","様","芦間高校様","570-0096","守口市外島町1-43","06-6993-7687","06","6993","7687",null,null,null,68,{"$f":"IF(Q71=\"\",\"\",VLOOKUP(Q71,登録用データのコピー!$B$5:$V$89,14,FALSE))","v":0},"0"]
[570,"大阪府立守口東高等学校","守口東","守口東","高校","様","守口東高校様","570-0005","守口市八雲中町2-1-32","06-6906-8211","06","6906","8211",null,null,null,69,{"$f":"IF(Q72=\"\",\"\",VLOOKUP(Q72,登録用データのコピー!$B$5:$V$89,14,FALSE))","v":0},"0"]
[571,"大阪府立門真西高等学校","門真西","門真西","高校","様","門真西高校様","571-0038","門真市柳田町29-1","06-6909-0318","06","6909","0318",null,null,null,70,{"$f":"IF(Q73=\"\",\"\",VLOOKUP(Q73,登録用データのコピー!$B$5:$V$89,14,FALSE))","v":0},"0"]
[572,"大阪府立門真なみはや高等学校","なみはや","門真なみはや","高校","様","門真なみはや高校様","571-0016","門真市島頭4-9-1","072-881-2331","072","881","2331",null,null,null,71,{"$f":"IF(Q74=\"\",\"\",VLOOKUP(Q74,登録用データのコピー!$B$5:$V$89,14,FALSE))","v":0},"0"]
[573,"大阪府立寝屋川高等学校","寝屋川","寝屋川","高校","様","寝屋川高校様","572-0832","寝屋川市本町15-64","072-821-0546","072","821","0546",null,null,null,72,{"$f":"IF(Q75=\"\",\"\",VLOOKUP(Q75,登録用データのコピー!$B$5:$V$89,14,FALSE))","v":0},"0"]
[574,null,null,null,null,null,null,null,null,null,"",null,"",null,null,null,73,{"$f":"IF(Q76=\"\",\"\",VLOOKUP(Q76,登録用データのコピー!$B$5:$V$89,14,FALSE))","v":0},"0"]
[575,"大阪府立北かわち皐が丘高等学校","皐が丘","北かわち皐が丘","高校","様",{"$f":"D77&E77&F77","v":"北かわち皐が丘高校様"},"572-0851","寝屋川市寝屋北町1-1","072-822-2241","072","822","2241",null,null,null,74,{"$f":"IF(Q77=\"\",\"\",VLOOKUP(Q77,登録用データのコピー!$B$5:$V$89,14,FALSE))","v":0},"0"]
[576,"大阪府立西寝屋川高等学校","西寝屋川","西寝屋川","高校","様",{"$f":"D78&E78&F78","v":"西寝屋川高校様"},"572-0075","寝屋川市葛原2-19-1","072-828-6700","072","828","6700",null,null,null,75,{"$f":"IF(Q78=\"\",\"\",VLOOKUP(Q78,登録用データのコピー!$B$5:$V$89,14,FALSE))","v":0},"0"]
[577,"大阪府立緑風冠高等学校","緑風冠","緑風冠","高校","様","緑風冠高校様","574-0072","大東市深野4-12-1","072-871-5473","072","871","5473",null,null,null,76,{"$f":"IF(Q79=\"\",\"\",VLOOKUP(Q79,登録用データのコピー!$B$5:$V$89,14,FALSE))","v":0},"0"]
[578,"大阪府立野崎高等学校","野崎","野崎","高校","様","野崎高校様","574-0014","大東市寺川1-2-1","072-874-0911","072","874","0911",null,null,null,77,{"$f":"IF(Q80=\"\",\"\",VLOOKUP(Q80,登録用データのコピー!$B$5:$V$89,14,FALSE))","v":0},"0"]
[579,"大阪府立枚方高等学校","枚方","枚方","高校","様","枚方高校様","573-0027","枚方市大垣内町3-16-1","072-843-3081","072","843","3081",null,null,null,78,{"$f":"IF(Q81=\"\",\"\",VLOOKUP(Q81,登録用データのコピー!$B$5:$V$89,14,FALSE))","v":0},"0"]
[580,"大阪府立高等学校",null,null,null,null,null,null,null,null,"",null,"",null,null,null,79,{"$f":"IF(Q82=\"\",\"\",VLOOKUP(Q82,登録用データのコピー!$B$5:$V$89,14,FALSE))","v":0},"0"]
[581,"大阪府立長尾高等学校","長尾","長尾","高校","様","長尾高校様","573-0102","枚方市長尾家具町5-1-1","072-855-1700","072","855","1700",null,null,null,80,{"$f":"IF(Q83=\"\",\"\",VLOOKUP(Q83,登録用データのコピー!$B$5:$V$89,14,FALSE))","v":0},"0"]
[582,"大阪府立牧野高等学校","牧野","牧野","高校","様","牧野高校様","573-1123","枚方市南船橋1-11-1","072-851-1050","072","851","1050",null,null,null,81,{"$f":"IF(Q84=\"\",\"\",VLOOKUP(Q84,登録用データのコピー!$B$5:$V$89,14,FALSE))","v":0},"0"]
[583,"大阪府立香里丘高等学校","香里丘","香里丘","高校","様","香里丘高校様","573-0093","枚方市東中振2-18-1","072-832-3421","072","832","3421",null,null,null,82,{"$f":"IF(Q85=\"\",\"\",VLOOKUP(Q85,登録用データのコピー!$B$5:$V$89,14,FALSE))","v":0},"0"]
[584,"大阪府立枚方なぎさ高等学校","枚なぎさ","枚方なぎさ","高校","様","枚方なぎさ高校様","573-1187","枚方市磯島元町20-1","072-847-1001","072","847","1001",null,null,null,83,{"$f":"IF(Q86=\"\",\"\",VLOOKUP(Q86,登録用データのコピー!$B$5:$V$89,14,FALSE))","v":0},"0"]
[585,"大阪府立枚方津田高等学校","枚方津田","枚方津田","高校","様","枚方津田高校様","573-0121","枚方市津田北町2-50-1","072-858-7003","072","858","7003",null,null,null,84,{"$f":"IF(Q87=\"\",\"\",VLOOKUP(Q87,登録用データのコピー!$B$5:$V$89,14,FALSE))","v":0},"0"]
[586,"大阪府立四條畷高等学校","四條畷","四條畷","高校","様","四條畷高校様","575-0035","四條畷市雁屋北町1-1","072-877-0004","072","877","0004",null,null,null,85,{"$f":"IF(Q88=\"\",\"\",VLOOKUP(Q88,登録用データのコピー!$B$5:$V$89,14,FALSE))","v":0},"0"]
[587,null,null,null,null,null,null,null,null,null,"",null,""]
[588,"大阪府立交野高等学校","交野","交野","高校","様","交野高校様","576-0064","交野市寺南野10-1","072-891-9251","072","891","9251"]
[589,"大阪府立布施高等学校","布施","布施","高校","様","布施高校様","577-0803","東大阪市下小阪3-14-21","06-6723-7500","06","6723","7500"]
[590,"大阪府立花園高等学校","花園","花園","高校","様","花園高校様","578-0931","東大阪市花園東町3-1-25","072-961-4926","072","961","4926"]
[591,"大阪府立枚岡樟風高等学校","枚岡樟風","枚岡樟風","高校","様","枚岡樟風高校様","579-8036","東大阪市鷹殿町18-1","072-982-5437","072","982","5437"]
[592,"大阪府立みどり清朋高等学校","みどり清","みどり清朋","高校","様",{"$f":"D94&E94&F94","v":"みどり清朋高校様"},"579-8064","東大阪市池島町6-3-9","072-987-3302","072","987","3302"]
[593,"大阪府立かわち野高等学校","かわち野","かわち野","高校","様",{"$f":"D95&E95&F95","v":"かわち野高校様"},"578-0963","東大阪市新庄4-11-95","072-963-7002","072","963","7002"]
[594,"大阪府立布施北高等学校","布施北","布施北","高校","様",{"$f":"D96&E96&F96","v":"布施北高校様"},"577-0024","東大阪市荒本西1-28","06-6787-2666","06","6787","2666"]
[595,null,null,null,null,null,null,null,null,null,"",null,""]
[596,"大阪府立山本高等学校","山本","山本","高校","様","山本高校様","581-0831","八尾市山本町北1-1-44","072-999-0552","072","999","0552"]
[597,"大阪府立八尾高等学校","八尾","八尾","高校","様","八尾高校様","581-0073","八尾市高町1-74","072-923-4261","072","923","4261"]
[598,null,null,null,null,null,null,null,null,null,"",null,""]
[599,"大阪府立八尾翠翔高等学校","八尾翠翔","八尾翠翔","高校","様","八尾翠翔高校様","581-0885","八尾市神宮寺3-107","072-943-8107","072","943","8107"]
[600,null,null,null,null,null,null,null,null,null,"",null,""]
[601,"大阪府立八尾北高等学校","八尾北","八尾北","高校","様","八尾北高校様","581-0834","八尾市萱振町7-42","072-998-2100","072","998","2100"]
[602,null,null,null,null,null,null,null,null,null,"",null,""]
[603,"大阪府立柏原東高等学校","柏原東","柏原東","高校","様","柏原東高校様","582-0015","柏原市高井田1015","072-976-0501","072","976","0501"]
[604,"大阪府立生野高等学校","生野","生野","高校","様","生野高校様","580-0015","松原市新堂1-552","072-332-0531","072","332","0531"]
[605,"大阪府立松原高等学校","松原","松原","高校","様","松原高校様","580-0041","松原市三宅東3-4-1","072-334-8008","072","334","8008"]
[606,"大阪府立大塚高等学校","大塚","大塚","高校","様","大塚高校様","580-0011","松原市西大塚2-1005","072-332-7515","072","332","7515"]
[607,"大阪府立藤井寺高等学校","藤井寺","藤井寺","高校","様","藤井寺高校様","583-0037","藤井寺市津堂3-516","072-939-7750","072","939","7750"]
[608,"大阪府立懐風館高等学校","懐風館","懐風館","高校","様","懐風館高校様","583-0847","羽曳野市大黒776","072-957-0001","072","957","0001"]
[609]
[610,"大阪府立河南高等学校","河南","河南","高校","様","河南高校様","584-0038","富田林市錦ヶ丘町1-15","0721-23-2081","0721","23","2081"]
[611,"大阪府立富田林高等学校","富田林","富田林","高校","様","富田林高校様","584-0035","富田林市谷川町4-30","0721-23-2281","0721","23","2281"]
[612,"大阪府立金剛高等学校","金剛","金剛","高校","様","金剛高校様","584-0071","富田林市藤沢台2-1-1","0721-28-3811","0721","28","3811"]
[613,"大阪府立長野高等学校","長野","長野","高校","様","長野高校様","586-0021","河内長野市原町2-1-1","0721-53-7371","0721","53","7371"]
[614,"大阪府立長野北高等学校","長野北","長野北","高校","様","長野北高校様","586-0008","河内長野市木戸東町3-1","0721-54-2781","0721","54","2781"]
[615,"大阪府立美原高等学校","美原","美原","高校","様","美原高校様","587-0022","堺市美原区平尾234-1","072-362-3100","072","362","3100"]
[616,"大阪府立狭山高等学校","狭山","狭山","高校","様","狭山高校様","589-0011","大阪狭山市半田4-1510","072-366-8400","072","366","8400"]
[617,"大阪府立登美丘高等学校","登美丘","登美丘","高校","様","登美丘高校様","599-8125","堺市東区西野51","072-236-5041","072","236","5041"]
[618,"大阪府立泉陽高等学校","泉陽","泉陽","高校","様","泉陽高校様","590-0943","堺市堺区車之町東3-2-1","072-233-0588","072","233","0588"]
[619,"大阪府立三国丘高等学校","三国丘","三国丘","高校","様","三国丘高校様","590-0023","堺市堺区南三国ヶ丘町2-2-36","072-233-6005","072","233","6005"]
[620,"大阪府立泉北高等学校","泉北","泉北","高校","様","泉北高校様","590-0116","堺市南区若松台3-2-2","072-297-1065","072","297","1065"]
[621,"大阪府立鳳高等学校","鳳","鳳","高校","様","鳳高校様","593-8317","堺市西区原田150","072-271-5151","072","271","5151"]
[622,"大阪府立堺西高等学校","堺西","堺西","高校","様","堺西高校様","590-0141","堺市南区桃山台4-16","072-298-4410","072","298","4410"]
[623,"大阪府立堺東高等学校","堺東","堺東","高校","様","堺東高校様","590-0113","堺市南区晴美台1-1-2","072-291-5510","072","291","5510"]
[624,null,null,null,null,null,null,null,null,null,"",null,""]
[625,null,null,null,null,null,null,null,null,null,"",null,""]
[626,"大阪府立成美高等学校","成美","成美","高校","様","成美高校様","590-0137","堺市南区城山台4-1-1","072-299-9000","072","299","9000"]
[627,"大阪府立金岡高等学校","金岡","金岡","高校","様","金岡高校様","591-8022","堺市北区金岡町2651","072-257-1431","072","257","1431"]
[628,"大阪府立堺上高等学校","堺上","堺上","高校","様","堺上高校様","593-8311","堺市西区上61","072-271-0808","072","271","0808"]
[629,"大阪府立東百舌鳥高等学校","東百舌鳥","東百舌鳥","高校","様","東百舌鳥高校様","599-8234","堺市中区土塔町2377-5","072-235-3781","072","235","3781"]
[630,"大阪府立福泉高等学校","福泉","福泉","高校","様",{"$f":"D132&E132&F132","v":"福泉高校様"},"593-8314","堺市西区太平寺323","072-299-9500","072","299","9500"]
[631,null,null,null,null,null,null,null,null,null,"",null,""]
[632,"大阪府立伯太高等学校","伯太","伯太","高校","様",{"$f":"D134&E134&F134","v":"伯太高校様"},"594-0023","和泉市伯太町2-4-11","0725-45-9321","0725","45","9321"]
[633,"大阪府立信太高等学校","信太","信太","高校","様","信太高校様","594-0081","和泉市葛の葉町3-6-8","0725-23-3631","0725","23","3631"]
[634,"大阪府立高石高等学校","高石","高石","高校","様","高石高校様","592-0005","高石市千代田6-12-1","072-265-1941","072","265","1941"]
[635,"大阪府立泉大津高等学校","泉大津","泉大津","高校","様","泉大津高校様","595-0012","泉大津市北豊中町1-1-1","0725-32-2876","0725","32","2876"]
[636,"大阪府立和泉高等学校","和泉","和泉","高校","様","和泉高校様","596-0825","岸和田市土生町1-2-1","0724-23-1926","0724","23","1926"]
[637,"大阪府立岸和田高等学校","岸和田","岸和田","高校","様","岸和田高校様","596-0073","岸和田市岸城町10-1","0724-22-3691","0724","22","3691"]
[638,"大阪府立久米田高等学校","久米田","久米田","高校","様","久米田高校様","596-0822","岸和田市額原町1100","0724-43-6651","0724","43","6651"]
[639,"大阪府立貝塚高等学校","貝塚","貝塚","高校","様","貝塚高校様","597-0072","貝塚市畠中1-1-1","0724-23-1401","0724","23","1401"]
[640,"大阪府立貝塚南高等学校","貝塚南","貝塚南","高校","様","貝塚南高校様","597-0043","貝塚市橋本620","0724-32-2004","0724","32","2004"]
[641,"大阪府立佐野高等学校","佐野","佐野","高校","様","佐野高校様","598-0005","泉佐野市市場東2-398","0724-62-3825","0724","62","3825"]
[642,"大阪府立りんくう翔南高等学校","りんくう","りんくう翔南","高校","様","りんくう翔南高校様","590-0521","泉南市樽井2-35-54","0724-83-4474","0724","83","4474"]
[643]
[644,"大阪府立泉鳥取高等学校","泉鳥取","泉鳥取","高校","様","泉鳥取高校様","599-0216","阪南市緑ヶ丘1-1-10","0724-71-2921","0724","71","2921"]
[645,"大阪府立岬高等学校","岬","岬","高校","様","岬高校様","599-0301","泉南郡岬町淡輪3246","0724-94-0301","0724","94","0301"]
[646,"大阪府立日根野高等学校","日根野","日根野","高校","様","日根野高校様","598-0021","泉佐野市日根野2372-1","0724-67-1555","0724","67","1555"]
[647,"大阪府立園芸高等学校","園芸","園芸","高校","様","園芸高校様","563-0037","池田市八王寺2-5-1","072-761-8830","072","761","8830"]
[648,"大阪府立農芸高等学校","農芸","農芸","高校","様","農芸高校様","587-0051","堺市美原区北余部595-1","072-361-0581","072","361","0581"]
[649,"大阪府立西野田工科高等学校","西野田工","西野田工科","高校","様","西野田工科高校様","553-0007","大阪市福島区大開2-17-62","06-6461-0023","06","6461","0023"]
[650,"大阪府立淀川工科高等学校","淀川工","淀川工科","高校","様","淀川工科高校様","535-0001","大阪市旭区太子橋3-1-32","06-6952-0001","06","6952","0001"]
[651,"大阪府立成城高等学校","成城","成城","高校","様","成城高校様","536-0021","大阪市城東区諏訪3-11-41","06-6962-2801","06","6962","2801"]
[652,"大阪府立東住吉総合高等学校","東住吉総","東住吉総合","高校","様","東住吉総合高校様","547-0026","大阪市平野区喜連西2-11-66","06-6702-1231","06","6702","1231"]
[653,"大阪府立今宮工科高等学校","今宮工","今宮工科","高校","様","今宮工科高校様","557-0024","大阪市西成区出城1-1-6","06-6631-0055","06","6631","0055"]
[654,"大阪府立茨木工科高等学校","茨木工","茨木工科","高校","様","茨木工科高校様","567-0031","茨木市春日5-6-41","072-623-1331","072","623","1331"]
[655,"大阪府立城東工科高等学校","城東工","城東工科","高校","様","城東工科高校様","578-0976","東大阪市西鴻池町2-5-33","06-6745-0051","06","6745","0051"]
[656,"大阪府立布施工科高等学校","布施工","布施工科","高校","様","布施工科高校様","577-0805","東大阪市宝持3-7-5","06-6722-0221","06","6722","0221"]
[657,"大阪府立藤井寺工科高等学校","藤井寺工","藤井寺工科","高校","様","藤井寺工科高校様","583-0021","藤井寺市御舟町10-1","072-955-0281","072","955","0281"]
[658,"大阪府立堺工科高等学校","堺工","堺工科","高校","様","堺工科高校様","590-0801","堺市堺区大仙中町12-1","072-241-1401","072","241","1401"]
[659,"大阪府立和泉総合高等学校","和泉総合","和泉総合","高校","様","和泉総合高校様","594-0082","和泉市富秋町33","0725-41-1250","0725","41","1250"]
[660,"大阪府立佐野工科高等学校","佐野工","佐野工科","高校","様","佐野工科高校様","598-0012","泉佐野市高松東1-3-50","0724-62-2772","0724","62","2772"]
[661,"大阪府立港南造形高等学校","港南造形","港南造形","高校","様","港南造形高校様","559-0031","大阪市住之江区南港東2-5-72","06-6613-1072","06","6613","1072"]
[662,"大阪府立高等学校",null,null,null,null,null,null,null,null,"",null,""]
[663,"大阪府立だいせん聴覚高等支援学校","だいせん","だいせん","聴覚支援学校","様",{"$f":"D165&E165&F165","v":"だいせん聴覚支援学校様"},"590-0035","堺市堺区大仙町1-1","072-232-6761","072","232","6761"]
[664,null,null,null,null,null,null,null,null,null,"",null,""]
[665,"大阪府立視覚支援学校","府立視覚","府立視覚支援","学校","様",{"$f":"D167&E167&F167","v":"府立視覚支援学校様"},"558-0023","大阪市住吉区山之内1-10-12","06-6693-3471","06","6693","3471"]
[666,"大阪府立大学工業高等専門学校","府大高専","府立大学高専",null,"様",{"$f":"D168&E168&F168","v":"府立大学高専様"},"572-8572","寝屋川市幸町26-12","072-821-6401","072","821","6401"]
[667,null,null,null,null,null,null,null,null,null,"",null,""]
[668,null,null,null,null,null,null,null,null,null,"",null,""]
[669,null,null,null,null,null,null,null,null,null,"",null,""]
[670,null,null,null,null,null,null,null,null,null,"",null,""]
[671,"大阪市立桜宮高等学校","桜宮","桜宮","高校","様",{"$f":"D173&E173&F173","v":"桜宮高校様"},"534-0001","大阪市都島区毛馬町5-22-28","06-6921-5231","06","6921","5231"]
[672,"大阪市立東高等学校","東","東","高校","様","東高校様","534-0024","大阪市都島区東野田町4-15-14","06-6354-1251","06","6354","1251"]
[673,"大阪市立南高等学校","南","南","高校","様","南高校様","542-0012","大阪市中央区谷町6-17-32","06-6762-0105","06","6762","0105"]
[674,"大阪市立汎愛高等学校","汎愛","汎愛","高校","様","汎愛高校様","538-0042","大阪市鶴見区今津中2-1-52","06-6961-0431","06","6961","0431"]
[675,"大阪市立高等学校","大阪市立","大阪市立","高校","様","大阪市立高校様","573-0064","枚方市北中振2-8-1","072-833-0101","072","833","0101"]
[676,"大阪市立扇町総合高等学校","扇町総合","扇町総合","高校","様","扇町総合高校様","530-0037","大阪市北区松ヶ枝町1-38","06-6351-0036","06","6351","0036"]
[677]
[678,"大阪市立西高等学校","西","西","高校","様","西高校様","550-0014","大阪市西区北堀江4-7-1","06-6531-0505","06","6531","0505"]
[679]
[680,"大阪市立大阪ビジネスフロンティア高等学校","OBF","ビジネスフロンティア","高校","様","ビジネスフロンティア高校様","543-0042","大阪市天王寺区鳥ヶ辻2-9-26","06-6772-0031","06","6772","0031"]
[681,"大阪市立淀商業高等学校","淀商","淀商業","高校","様","淀商業高校様","555-0024","大阪市西淀川区野里3-3-15","06-6474-2221","06","6474","2221"]
[682,"大阪市立鶴見商業高等学校","鶴見商","鶴見商業","高校","様","鶴見商業高校様","538-0054","大阪市鶴見区緑2-10-9","06-6911-0415","06","6911","0415"]
[683,"大阪市立住吉商業高等学校","住吉商","住吉商業","高校","様","住吉商業高校様","559-0013","大阪市住之江区御崎7-12-55","06-6681-0577","06","6681","0577"]
[684,"大阪市立都島工業高等学校","都島工","都島工業","高校","様","都島工業高校様","534-0015","大阪市都島区善源寺町1-5-64","06-6921-0231","06","6921","0231"]
[685,"大阪市立咲くやこの花高等学校","咲くや","咲くやこの花","高校","様","咲くやこの花高校様","554-0012","大阪市此花区西九条6-1-44","06-6464-8881","06","6464","8881"]
[686,"大阪市立泉尾工業高等学校","泉尾工","泉尾工業","高校","様","泉尾工業高校様","551-0031","大阪市大正区泉尾5-16-7","06-6552-2221","06","6552","2221"]
[687,"大阪市立東淀工業高等学校","東淀工","東淀工業","高校","様","東淀工業高校様","532-0031","大阪市淀川区加島1-52-81","06-6302-1035","06","6302","1035"]
[688,"大阪市立生野工業高等学校","生野工","生野工業","高校","様","生野工業高校様","544-0025","大阪市生野区生野東2-3-66","06-6731-5551","06","6731","5551"]
[689,"大阪市立工芸高等学校","工芸","工芸","高校","様","工芸高校様","545-0004","大阪市阿倍野区文の里1-7-2","06-6623-0485","06","6623","0485"]
[690,"大阪市立盲高等学校",null,null,null,null,null,"533-0013","大阪市東淀川区豊里7-5-26","06-6328-7000","06","6328","7000"]
[691,"大阪市立聴覚特別支援学校","市立聴覚","市立聴覚支援","学校","様","市立聴覚支援学校様","540-0005","大阪市中央区上町1-19-31","06-6761-1419","06","6761","1419"]
[692,"大阪市立中央高等学校","中央","中央","高校","様","中央高校様","540-0035","大阪市中央区釣鐘町1-1-5","06-6944-4401","06","6944","4401"]
[693,null,null,null,null,null,null,null,null,null,"",null,""]
[694,null,null,null,null,null,null,null,null,null,"",null,""]
[695,"東大阪市立日新高等学校","日新","日新","高校","様",{"$f":"D197&E197&F197","v":"日新高校様"},"579-8003","東大阪市日下町7-9-11","072-985-5551","072","985","5551"]
[696,null,null,null,null,null,null,"590-0011","堺市堺区香ヶ丘町1-11-1","072-233-2345","072","233","2345"]
[697,"堺市立堺高等学校","市立堺","市立堺","高校","様",{"$f":"D199&E199&F199","v":"市立堺高校様"},"590-0025","堺市堺区向陵東町1-10-1","072-240-0840","072","240","0840"]
[698,"岸和田市立産業高等学校","岸和田産","岸和田産業","高校","様",{"$f":"D200&E200&F200","v":"岸和田産業高校様"},"596-0045","岸和田市別所町3-33-1","0724-22-4861","0724","22","4861"]
[699,null,null,null,null,null,null,null,null,null,"",null,""]
[700,"昇陽高等学校","昇陽","昇陽","高校","様",{"$f":"D202&E202&F202","v":"昇陽高校様"},"554-0011","大阪市此花区朝日1-1-9","06-6461-0091","06","6461","0091"]
[701,"相愛高等学校","相愛","相愛","高校","様","相愛高校様","541-0053","大阪市中央区本町4-1-23","06-6262-0621","06","6262","0621"]
[702,"大阪女学院高等学校","女学院","大阪女学院","高校","様","大阪女学院高校様","540-0004","大阪市中央区玉造2-26-54","06-6761-4113","06","6761","4113"]
[703,"追手門学院大手前高等学校","追大手前","追手門大手前","高校","様","追手門大手前高校様","540-0008","大阪市中央区大手前1-3-20","06-6942-2235","06","6942","2235"]
[704,"城星高等学校","城星","城星","高校","様","城星高校様","540-0004","大阪市中央区玉造2-23-26","06-6941-5977","06","6941","5977"]
[705,"明星高等学校","明星","明星","高校","様","明星高校様","543-0016","大阪市天王寺区餌差町5-44","06-6761-5606","06","6761","5606"]
[706,"清風高等学校","清風","清風","高校","様","清風高校様","543-0031","大阪市天王寺区石ヶ辻町12-16","06-6771-5757","06","6771","5757"]
[707,"上宮高等学校","上宮","上宮","高校","様","上宮高校様","543-0037","大阪市天王寺区上之宮町3-16","06-6771-5701","06","6771","5701"]
[708,"大阪星光学院高等学校","星光学院","大阪星光学院","高校","様","大阪星光学院高校様","543-0061","大阪市天王寺区伶人町1-6","06-6771-0737","06","6771","0737"]
[709,"興國高等学校","興國","興國","高校","様","興國高校様","543-0045","大阪市天王寺区寺田町1-4-26","06-6779-8151","06","6779","8151"]
[710,"四天王寺高等学校","四天王寺","四天王寺","高校","様","四天王寺高校様","543-0051","大阪市天王寺区四天王寺1-11-73","06-6772-6201","06","6772","6201"]
[711,"大阪夕陽丘学園高等学校","大阪夕陽","大阪夕陽丘学園","高校","様","大阪夕陽丘学園高校様","543-0073","大阪市天王寺区生玉寺町7-72","06-6771-9510","06","6771","9510"]
[712,"金蘭会高等学校","金蘭会","金蘭会","高校","様","金蘭会高校様","531-0075","大阪市北区大淀南3-3-7","06-6453-0281","06","6453","0281"]
[713,"好文学園女子高等学校","好文学園","好文学園","高校","様","好文学園高校様","555-0013","大阪市西淀川区千舟3-8-22","06-6472-2281","06","6472","2281"]
[714,"関西大学北陽高等学校","関大北陽","関西大学北陽","高校","様","関西大学北陽高校様","533-0006","大阪市東淀川区上新庄1-3-26","06-6328-5964","06","6328","5964"]
[715,"大阪高等学校","大阪","大阪","高校","様","大阪高校様","533-0007","大阪市東淀川区相川2-18-51","06-6340-3031","06","6340","3031"]
[716,"大阪成蹊女子高等学校","成蹊女子","成蹊女子","高校","様","成蹊女子高校様","533-0007","大阪市東淀川区相川3-10-62","06-6829-2510","06","6829","2510"]
[717,"英真学園高等学校","英真学園","英真学園","高校","様","英真学園高校様","532-0023","大阪市淀川区十三東5-4-38","06-6303-2181","06","6303","2181"]
[718,"大阪偕星学園高等学校","偕星学園","偕星学園","高校","様","偕星学園高校様","544-0021","大阪市生野区勝山南2-6-38","06-6716-0003","06","6716","0003"]
[719,"プール学院高等学校","プール","プール学院","高校","様","プール学院高校様","544-0033","大阪市生野区勝山北1-19-31","06-6741-7005","06","6741","7005"]
[720,"金光藤蔭高等学校","金光藤蔭","金光藤蔭","高校","様","金光藤蔭高校様","544-0003","大阪市生野区小路東4-1-26","06-6751-2461","06","6751","2461"]
[721,"常翔学園高等学校","常翔学園","常翔学園","高校","様","常翔学園高校様","535-8585","大阪市旭区大宮5-16-1","06-6954-4435","06","6954","4435"]
[722,"大阪信愛女学院高等学校","大阪信愛","大阪信愛","高校","様","大阪信愛高校様","536-8585","大阪市城東区古市2-7-30","06-6939-4391","06","6939","4391"]
[723,"大阪産業大学附属高等学校","大産大附","大阪産業大学附属","高校","様","大阪産業大学附属高校様","536-0001","大阪市城東区古市1-20-26","06-6939-1491","06","6939","1491"]
[724,"開明高等学校","開明","開明","高校","様","開明高校様","536-0006","大阪市城東区野江1-9-9","06-6932-4461","06","6932","4461"]
[725,"桃山学院高等学校","桃山学院","桃山学院","高校","様","桃山学院高校様","545-0011","大阪市阿倍野区昭和町3-1-64","06-6621-1181","06","6621","1181"]
[726,"あべの翔学高等学校","あべの翔","あべの翔学","高校","様","あべの翔学高校様","545-0002","大阪市阿倍野区天王寺町南2-8-19","06-6719-2801","06","6719","2801"]
[727,"大谷高等学校","大谷","大谷","高校","様","大谷高校様","545-0041","大阪市阿倍野区共立通2-8-4","06-6661-8400","06","6661","8400"]
[728,"東大谷高等学校","東大谷","東大谷","高校","様","東大谷高校様","590-0111","堺市南区三原台2-2-1","072-289-8067","072","289","8067"]
[729,"精華高等学校","精華","精華","高校","様","精華高校様","599-8245","堺市中区辻之1517","072-234-3391","072","234","3391"]
[730,"明浄学院高等学校","明浄学院","明浄学院","高校","様","明浄学院高校様","545-0004","大阪市阿倍野区文の里3-15-7","06-6623-0016","06","6623","0016"]
[731,"浪速高等学校","浪速","浪速","高校","様","浪速高校様","558-0023","大阪市住吉区山之内2-13-57","06-6693-4031","06","6693","4031"]
[732,"大阪学芸高等学校","大阪学芸","大阪学芸","高校","様","大阪学芸高校様","558-0003","大阪市住吉区長居1-4-15","06-6693-63011","06",6693,6301]
[733,"建国高等学校","建国","建国","高校","様","建国高校様","558-0032","大阪市住吉区遠里小野2-3-13","06-6691-1231","06","6691","1231"]
[734,"帝塚山学院高等学校","帝塚山","帝塚山学院","高校","様","帝塚山学院高校様","558-0053","大阪市住吉区帝塚山中3-10-51","06-6672-1151","06","6672","1151"]
[735,"清明学院高等学校","清明学院","清明学院","高校","様","清明学院高校様","558-0043","大阪市住吉区墨江2-4-4","06-6673-8181","06","6673","8181"]
[736,"城南高等学校","城南","城南","高校","様","城南高校様","546-0021","大阪市東住吉区照ヶ丘矢田2-14-10","06-6702-9781","06","6702","9781"]
[737,"大商学園高等学校","大商学園","大商学園","高校","様","大商学園高校様","561-0846","豊中市利倉東1-2-1","06-6862-5223","06","6862","5223"]
[738,"履正社高等学校","履正社","履正社","高校","様","履正社高校様","561-0874","豊中市長興寺南4-3-19","06-6864-0456","06","6864","0456"]
[739,"梅花高等学校","梅花","梅花","高校","様","梅花高校様","560-0011","豊中市上野西1-5-30","06-6852-0001","06","6852","0001"]
[740,"箕面自由学園高等学校","箕面自由","箕面自由学園","高校","様","箕面自由学園高校様","560-0056","豊中市宮山町4-21-1","06-6852-7595","06","6852","7595"]
[741,"宣真高等学校","宣真","宣真","高校","様","宣真高校様","563-0038","池田市荘園2-3-12","072-761-8801","072","761","8801"]
[742,"箕面学園高等学校","箕面学園","箕面学園","高校","様","箕面学園高校様","562-0001","箕面市箕面7-7-31","072-723-6551","072","723","6551"]
[743,"アサンプション国際高等学校","アサンプ","アサンプション国際","高校","様","アサンプション国際高校様","562-8543","箕面市如意谷1-13-23","072-721-3080","072","721","3080"]
[744,"関西大学第一高等学校","関大一","関西大学第一","高校","様","関西大学第一高校様","564-0073","吹田市山手町3-3-24","06-6337-7750","06","6337","7750"]
[745,"大阪学院大学高等学校","大阪学院","大阪学院大学","高校","様","大阪学院大学高校様","564-0012","吹田市南正雀3-12-1","06-6381-6661","06","6381","6661"]
[746,"金蘭千里高等学校","金蘭千里","金蘭千里","高校","様","金蘭千里高校様","565-0873","吹田市藤白台5-25-1","06-6872-0263","06","6872","0263"]
[747,"星翔高等学校","星翔","星翔","高校","様","星翔高校様","566-0022","摂津市三島3-5-36","06-6381-0220","06","6381","0220"]
[748,"大阪薫英女学院高等学校","薫英","大阪薫英女子","高校","様","大阪薫英女子高校様","566-8501","摂津市正雀1-4-1","06-6381-5381","06","6381","5381"]
[749,"関西大倉高等学校","関西大倉","関西大倉","高校","様","関西大倉高校様","567-0052","茨木市室山2-14-1","072-643-6321","072","643","6321"]
[750,"早稲田摂陵高等学校","早摂陵","早稲田摂陵","高校","様","早稲田摂陵高校様","567-0051","茨木市宿久庄7-20-1","072-643-6363","072","643","6363"]
[751,"追手門学院高等学校","追手門","追手門学院","高校","様","追手門学院高校様","567-0008","茨木市西安威2-1-15","072-643-1333","072","643","1333"]
[752,"高槻高等学校","高槻","高槻","高校","様","高槻高校様","569-8505","高槻市沢良木町2-5","072-671-0001","072","671","0001"]
[753,"大阪電気通信大学高等学校","電通大","大阪電気通信大学","高校","様","大阪電気通信大学高校様","570-0039","守口市橋波西之町1-5-18","06-6992-6261","06","6992","6261"]
[754,"大阪国際滝井高等学校","国際滝井","大阪国際滝井","高校","様","大阪国際滝井高校様","570-0062","守口市馬場町2-8-24","06-6996-5691","06","6996","5691"]
[755,"大阪国際大和田高等学校","国大和田","大阪国際大和田","高校","様","大阪国際大和田高校様","570-8555","守口市藤田町6-21-57","06-6904-1118","06","6904","1118"]
[756,"同志社香里高等学校","同志社","同志社香里","高校","様","同志社香里高校様","572-8585","寝屋川市三井南町15-1","072-831-0285","072","831","0285"]
[757,"香里ヌヴェール学院高等学校","ヌヴェール","香里ヌヴェール学院","高校","様","香里ヌヴェール学院高校様","572-8531","寝屋川市美井町18-10","072-831-1381","072","831","1381"]
[758,"常翔啓光学園高等学校","常翔啓光","常翔啓光学園","高校","様","常翔啓光学園高校様","573-1197","枚方市禁野本町1-13-21","072-848-0521","072","848","0521"]
[759,"太成学院大学高等学校","太成学院","太成学院大","高校","様","太成学院大高校様","574-0044","大東市諸福7-2-23","072-871-1921","072","871","1921"]
[760,"四條畷学園高等学校","畷学園","四條畷学園","高校","様","四條畷学園高校様","574-0001","大東市学園町6-45","072-876-1321","072","876","1321"]
[761,"関西創価高等学校","関西創価","関西創価","学園","様","関西創価学園様","576-0063","交野市寺3-20-1","072-891-0011","072","891","0011"]
[762,"近畿大学附属高等学校","近畿大附","近畿大学附属","高校","様","近畿大学附属高校様","578-0944","東大阪市若江西新町5-3-1","06-6722-1261","06","6722","1261"]
[763,"大阪商業大学高等学校","大商大","大阪商業大学","高校","様",{"$f":"D265&E265&F265","v":"大阪商業大学高校様"},"577-8505","東大阪市御厨栄町4-1-10","06-6781-3050","06","6781","3050"]
[764,"東大阪敬愛高等学校","敬愛","東大阪大学敬愛","高校","様","東大阪大学敬愛高校様","577-8567","東大阪市西堤学園町3-1-1","06-6782-2881","06","6782","2881"]
[765,"樟蔭高等学校","樟蔭","樟蔭","高校","様","樟蔭高校様","577-8550","東大阪市菱屋西4-2-26","06-6723-8185","06","6723","8185"]
[766,"アナン学園高等学校","アナン","アナン学園","高校","様","アナン学園高校様","578-0944","東大阪市若江西新町3-1-8","06-6723-5511","06","6723","5511"]
[767,"関西福祉科学大学高等学校","関西福科","関西福祉科学大学","高校","様","関西福祉科学大学高校様","582-0026","柏原市旭ヶ丘3-11-1","072-976-1112","072","976","1112"]
[768,"東大阪大学柏原高等学校","柏原","東大阪大学柏原","高校","様","東大阪大学柏原高校様","582-8585","柏原市本郷5-993","072-972-1565","072","972","1565"]
[769,"阪南大学高等学校","阪南大学","阪南大学","高校","様","阪南大学高校様","580-0022","松原市河合2-10-65","072-332-1221","072","332","1221"]
[770,"大阪緑涼高等学校","大阪緑涼","大阪緑涼","高校","様","大阪緑涼高校様","583-8558","藤井寺市春日丘3-8-1","072-955-0718","072","955","0718"]
[771,"PL学園高等学校","PL学園","PL学園","高校","様","PL学園高校様","584-8555","富田林市喜志2055","0721-24-5132","0721","24","5132"]
[772,"大阪暁光高等学校","大阪暁光","大阪暁光","高校","様","大阪暁光高校様","586-8577","河内長野市楠町西1211","0721-53-5281","0721","53","5281"]
[773,"清教学園高等学校","清教学園","清教学園","高校","様","清教学園高校様","586-8585","河内長野市末広町623","0721-62-6828","0721","62","6828"]
[774,"初芝立命館高等学校","初芝立命","初芝立命館","高校","様",{"$f":"D276&E276&F276","v":"初芝立命館高校様"},"599-8114","堺市東区日置荘西町2-40-1","072-285-0128","072","285","0128"]
[775,"香ヶ丘リベルテ高等学校","リベルテ","香ヶ丘リベルテ","高校","様",{"$f":"D277&E277&F277","v":"香ヶ丘リベルテ高校様"},"590-0012","堺市堺区浅香山町1-2-20","072-238-7881","072","238","7881"]
[776,"賢明学院高等学校","賢明学院","賢明学院","高校","様","賢明学院高校様","590-0812","堺市堺区霞ヶ丘町4-3-30","072-241-1679","072","241","1679"]
[777,"大阪商業大学堺高等学校","大商大堺","大阪商業大学堺","高校","様","大阪商業大学堺高校様","599-8261","堺市中区堀上町358","072-278-2252","072","278","2252"]
[778,"羽衣学園高等学校","羽衣学園","羽衣学園","高校","様","羽衣学園高校様","592-0003","高石市東羽衣1-11-57","072-265-7561","072","265","7561"]
[779,"清風南海高等学校","清風南海","清風南海","高校","様","清風南海高校様","592-0014","高石市綾園5-7-64","072-261-7761","072","261","7761"]
[780,"近畿大学泉州高等学校","近大泉州","近畿大学泉州","高校","様","近畿大学泉州高校様","596-0105","岸和田市内畑町後谷3558","0724-79-1231","0724","79","1231"]
[781,"東海大学付属仰星高等学校","東海仰星","東海大仰星","高校","様","東海大仰星高校様","573-0018","枚方市桜丘町60-1","072-849-7211","072","849","7211"]
[782,"金光大阪高等学校","金光大阪","金光大阪","高校","様","金光大阪高校様","569-0002","高槻市東上牧1-3-1","072-669-5211","072","669","5211"]
[783,"四天王寺羽曳丘高等学校","四天羽曳","四天寺羽曳丘","高校","様","四天寺羽曳丘高校様","583-0868","羽曳野市学園前3-1-1","072-956-6000","072","956","6000"]
[784,"大阪青凌高等学校","大阪青凌","大阪青凌","高校","様","大阪青凌高校様","569-0021","高槻市前島3-2-1","072-669-4111","072","669","4111"]
[785,"金光八尾高等学校","金光八尾","金光八尾","高校","様","金光八尾高校様","581-0022","八尾市柏村町1-63","072-922-9162","072","922","9162"]
[786,"初芝富田林高等学校","初富田林","初芝富田林","高校","様","初芝富田林高校様","584-0058","富田林市彼方1801","0721-34-1010","0721","34","1010"]
[787,"大阪体育大学浪商高等学校","大体浪商","大体大浪商","高校","様","大体大浪商高校様","590-0459","泉南郡熊取町朝代台1-1","0724-53-7001","0724","53","7001"]
[788,"大阪桐蔭高等学校","大阪桐蔭","大阪桐蔭","高校","様","大阪桐蔭高校様","574-0013","大東市中垣内3-1-1","072-870-1001","072","870","1001"]
[789,"上宮太子高等学校","上宮太子","上宮太子","高校","様",{"$f":"D291&E291&F291","v":"上宮太子高校様"},"583-0995","南河内郡太子町太子1053","0721-98-3611","0721","98","3611"]
[790,"大阪朝鮮高級学校","大阪朝鮮","大阪朝鮮","高級学校","様","大阪朝鮮高級学校様","578-0984","東大阪市菱江2-18-26","072-963-3481","072","963","3481"]
[791,"帝塚山学院泉ヶ丘高等学校","帝泉ヶ丘","帝塚山泉ヶ丘","高校","様","帝塚山泉ヶ丘高校様","590-0113","堺市南区晴美台4-2-1","072-293-1221","072","293","1221"]
[792,"藍野高等学校","藍野","藍野","高校","様","藍野高校様","567-0012","茨木市東太田4-5-11","072-627-1796","072","627","1796"]
[793,"金剛学園高等学校","金剛学園","金剛学園","高校","様","金剛学園高校様","559-0034","大阪市住之江区南港北2-6-10","06-4703-1780","06",4703,1780]
[794,"関西学院千里国際学園高等部","千里国際","千里国際学園","高等部","様","千里国際学園高等部様","562-0032","箕面市小野原西4-4-16","072-727-5050","072",727,5050]
[795,"大阪学芸中等教育学校","学芸中教","大阪学芸中等","教育学校","様","大阪学芸中等教育学校様","558-0003","大阪市住吉区長居1-5-8","06-6694-8411","06","6694","8411"]
[796,"四天王寺学園高等学校","四天学園","四天王寺学園","高校","様","四天王寺学園高校様","583-0026","藤井寺市春日丘3-1-78","072-937-2855","072","937","2855"]
[797,"堺リベラル高等学校","リベラル","堺リベラル","高校","様","堺リベラル高校様","590-0012","堺市堺区浅香山町1-2-20","072-226-8814","072","226","8814"]
[798,null,null,null,"高校","様","高校様"]
[799]
[800]
[801,"長尾谷高等学校","長尾谷","長尾谷","高校","様",{"$f":"D303&E303&F303","v":"長尾谷高校様"},"573-0163","枚方市長尾元町2-29-27","072-850-9111","0721","850","9111"]
[802,"クラーク記念国際高等学校","クラーク","クラーク記念国際","高校","様","クラーク記念国際高校様","547-0045","大阪市天王寺区寺田町2-1-21","06-6772-6666","06","6772","6666"]
[803,"向陽台高等学校","向陽台","向陽台","高校","様","向陽台高校様","567-0051","茨木市宿久庄7-20-1","072-643-6681","072","643","6681"]
[804,"大阪府立なにわ高等支援学校","なにわ支","なにわ高等支援","学校","様","なにわ高等支援学校様","556-0024","大阪市浪速区木津川2-3-30","06-6561-7361","06","6561","7361"]
[805,"近畿情報高等学校","近畿情報","近畿情報","高校","様","近畿情報高校様","573-1178","枚方市渚西1-43-1","072-840-5800","072","840","5800"]
[806,"神須学園高等学校","神須学園","神須学園","高校","様","神須学園高校様","596-0076","岸和田市野田町1-7-12","072-493-3977","072","493","3977"]
[807]
[808]